BEGIN:VCALENDAR
VERSION:2.0
PRODID:icalendar-ruby
CALSCALE:GREGORIAN
METHOD:PUBLISH
BEGIN:VEVENT
DTSTAMP:20260423T095139Z
UID:fcde9fb5-2bfb-42c9-8ce9-fec59ad7e1c2
DTSTART;TZID=Etc/UTC:20260524T130000
DTEND;TZID=Etc/UTC:20260524T133000
SUMMARY:7x7x7 Cube Final
END:VEVENT
BEGIN:VEVENT
DTSTAMP:20260423T095139Z
UID:6778ba66-617b-427b-a69f-f9c8efe6d2d7
DTSTART;TZID=Etc/UTC:20260524T133000
DTEND;TZID=Etc/UTC:20260524T140000
SUMMARY:6x6x6 Cube Final
END:VEVENT
BEGIN:VEVENT
DTSTAMP:20260423T095139Z
UID:c6249332-5ba6-460a-bf84-87808e75fa18
DTSTART;TZID=Etc/UTC:20260524T140000
DTEND;TZID=Etc/UTC:20260524T143000
SUMMARY:Square-1 First round
END:VEVENT
BEGIN:VEVENT
DTSTAMP:20260423T095139Z
UID:79d0129a-81af-40ff-9947-9c07d129e61d
DTSTART;TZID=Etc/UTC:20260524T143000
DTEND;TZID=Etc/UTC:20260524T152000
SUMMARY:3x3x3 Cube First round
END:VEVENT
BEGIN:VEVENT
DTSTAMP:20260423T095139Z
UID:c4d890c0-ae66-4ea1-acf8-3b004b82929f
DTSTART;TZID=Etc/UTC:20260524T152000
DTEND;TZID=Etc/UTC:20260524T160000
SUMMARY:Clock First round
END:VEVENT
BEGIN:VEVENT
DTSTAMP:20260423T095139Z
UID:ae5e3866-46ac-4746-a6eb-e7cb655af7bc
DTSTART;TZID=Etc/UTC:20260524T160000
DTEND;TZID=Etc/UTC:20260524T164000
SUMMARY:Skewb First round
END:VEVENT
BEGIN:VEVENT
DTSTAMP:20260423T095139Z
UID:0e100878-799a-48f7-93e0-5fee60256262
DTSTART;TZID=Etc/UTC:20260524T164000
DTEND;TZID=Etc/UTC:20260524T173000
SUMMARY:2x2x2 Cube First round
END:VEVENT
BEGIN:VEVENT
DTSTAMP:20260423T095139Z
UID:afb93941-154e-4575-8d7c-68fe39c2fb51
DTSTART;TZID=Etc/UTC:20260524T173000
DTEND;TZID=Etc/UTC:20260524T183000
SUMMARY:Almuerzo
END:VEVENT
BEGIN:VEVENT
DTSTAMP:20260423T095139Z
UID:782f16f9-a768-426e-87c4-47db444449cb
DTSTART;TZID=Etc/UTC:20260524T183000
DTEND;TZID=Etc/UTC:20260524T191000
SUMMARY:Pyraminx First round
END:VEVENT
BEGIN:VEVENT
DTSTAMP:20260423T095139Z
UID:c0f4202f-8cec-4669-b492-b6e9998e803e
DTSTART;TZID=Etc/UTC:20260524T191000
DTEND;TZID=Etc/UTC:20260524T194000
SUMMARY:Square-1 Final
END:VEVENT
BEGIN:VEVENT
DTSTAMP:20260423T095139Z
UID:9fcbdee8-1c53-4d8c-b35c-4661ee5e308d
DTSTART;TZID=Etc/UTC:20260524T194000
DTEND;TZID=Etc/UTC:20260524T202000
SUMMARY:3x3x3 Cube Second round
END:VEVENT
BEGIN:VEVENT
DTSTAMP:20260423T095139Z
UID:2c97f6fb-bb24-4c12-a1d1-9ac4f6b0499f
DTSTART;TZID=Etc/UTC:20260524T202000
DTEND;TZID=Etc/UTC:20260524T204000
SUMMARY:Clock Final
END:VEVENT
BEGIN:VEVENT
DTSTAMP:20260423T095139Z
UID:50428f13-334e-42d1-8480-4f4066806f7f
DTSTART;TZID=Etc/UTC:20260524T204000
DTEND;TZID=Etc/UTC:20260524T210000
SUMMARY:Skewb Final
END:VEVENT
BEGIN:VEVENT
DTSTAMP:20260423T095139Z
UID:e6d0f0a4-4614-4dc3-b162-4a38154724c1
DTSTART;TZID=Etc/UTC:20260524T210000
DTEND;TZID=Etc/UTC:20260524T212000
SUMMARY:Pyraminx Final
END:VEVENT
BEGIN:VEVENT
DTSTAMP:20260423T095139Z
UID:b36be411-14b0-4cd5-89c7-82cabcbd6db5
DTSTART;TZID=Etc/UTC:20260524T212000
DTEND;TZID=Etc/UTC:20260524T214000
SUMMARY:2x2x2 Cube Final
END:VEVENT
BEGIN:VEVENT
DTSTAMP:20260423T095139Z
UID:a5854ba2-021d-4a6a-9b43-1d374bf473d9
DTSTART;TZID=Etc/UTC:20260524T214000
DTEND;TZID=Etc/UTC:20260524T220000
SUMMARY:3x3x3 Cube Final
END:VEVENT
END:VCALENDAR
