BEGIN:VCALENDAR
VERSION:2.0
PRODID:icalendar-ruby
CALSCALE:GREGORIAN
METHOD:PUBLISH
BEGIN:VEVENT
DTSTAMP:20260422T033810Z
UID:a1f84292-bbde-4a16-a130-b96c17e0be87
DTSTART;TZID=Etc/UTC:20260523T073000
DTEND;TZID=Etc/UTC:20260523T080000
SUMMARY:Registro
END:VEVENT
BEGIN:VEVENT
DTSTAMP:20260422T033810Z
UID:5e6572d6-d323-47ae-91f2-5862fb76a996
DTSTART;TZID=Etc/UTC:20260523T080000
DTEND;TZID=Etc/UTC:20260523T093000
SUMMARY:3x3x3 Cube First round
END:VEVENT
BEGIN:VEVENT
DTSTAMP:20260422T033810Z
UID:8153b328-7b77-45a3-acdb-9f712ebdf8b4
DTSTART;TZID=Etc/UTC:20260523T093000
DTEND;TZID=Etc/UTC:20260523T103000
SUMMARY:Skewb First round
END:VEVENT
BEGIN:VEVENT
DTSTAMP:20260422T033810Z
UID:7fe527f1-827a-4652-a34d-96ee02ce008e
DTSTART;TZID=Etc/UTC:20260523T103000
DTEND;TZID=Etc/UTC:20260523T114500
SUMMARY:Megaminx First round
END:VEVENT
BEGIN:VEVENT
DTSTAMP:20260422T033810Z
UID:0e0bd9ae-270a-4cac-98aa-e7b105cd7973
DTSTART;TZID=Etc/UTC:20260523T114500
DTEND;TZID=Etc/UTC:20260523T131500
SUMMARY:Comida
END:VEVENT
BEGIN:VEVENT
DTSTAMP:20260422T033810Z
UID:099f5113-04e3-4eea-aa44-389d39b5e0ca
DTSTART;TZID=Etc/UTC:20260523T131500
DTEND;TZID=Etc/UTC:20260523T143000
SUMMARY:2x2x2 Cube First round
END:VEVENT
BEGIN:VEVENT
DTSTAMP:20260422T033810Z
UID:0730e24a-a18b-444d-92f4-7e6d54821f38
DTSTART;TZID=Etc/UTC:20260523T143000
DTEND;TZID=Etc/UTC:20260523T153000
SUMMARY:Clock First round
END:VEVENT
BEGIN:VEVENT
DTSTAMP:20260422T033810Z
UID:6941d136-11c6-4b5c-bc70-063cef8e3eed
DTSTART;TZID=Etc/UTC:20260523T153000
DTEND;TZID=Etc/UTC:20260523T164500
SUMMARY:6x6x6 Cube Final
END:VEVENT
BEGIN:VEVENT
DTSTAMP:20260422T033810Z
UID:8c8c3df4-3914-474a-920e-d93cd275f16b
DTSTART;TZID=Etc/UTC:20260523T153000
DTEND;TZID=Etc/UTC:20260523T164500
SUMMARY:7x7x7 Cube Final
END:VEVENT
BEGIN:VEVENT
DTSTAMP:20260422T033810Z
UID:95fb4464-7f32-42b1-961a-9cdd3b5a59fb
DTSTART;TZID=Etc/UTC:20260523T164500
DTEND;TZID=Etc/UTC:20260523T180000
SUMMARY:4x4x4 Cube First round
END:VEVENT
BEGIN:VEVENT
DTSTAMP:20260422T033810Z
UID:caba9c29-331d-4ccc-bd6f-eba09a15bcb2
DTSTART;TZID=Etc/UTC:20260524T073000
DTEND;TZID=Etc/UTC:20260524T083000
SUMMARY:3x3x3 Cube Second round
END:VEVENT
BEGIN:VEVENT
DTSTAMP:20260422T033810Z
UID:4cc4269b-a9e1-45f9-bb85-dd272b06f475
DTSTART;TZID=Etc/UTC:20260524T083000
DTEND;TZID=Etc/UTC:20260524T094500
SUMMARY:3x3x3 One-Handed First round
END:VEVENT
BEGIN:VEVENT
DTSTAMP:20260422T033810Z
UID:c9991e3e-8d14-4158-a88c-ad3ac47d0c57
DTSTART;TZID=Etc/UTC:20260524T094500
DTEND;TZID=Etc/UTC:20260524T100500
SUMMARY:Megaminx Final
END:VEVENT
BEGIN:VEVENT
DTSTAMP:20260422T033810Z
UID:6fb4d424-0018-44f1-96aa-4cc6cf8c25cd
DTSTART;TZID=Etc/UTC:20260524T100500
DTEND;TZID=Etc/UTC:20260524T102500
SUMMARY:Clock Final
END:VEVENT
BEGIN:VEVENT
DTSTAMP:20260422T033810Z
UID:e16aff0f-90fa-4003-a5fe-b88909db459f
DTSTART;TZID=Etc/UTC:20260524T102500
DTEND;TZID=Etc/UTC:20260524T104500
SUMMARY:4x4x4 Cube Final
END:VEVENT
BEGIN:VEVENT
DTSTAMP:20260422T033810Z
UID:a4e22ca9-b15e-4653-adae-042c7afaaf86
DTSTART;TZID=Etc/UTC:20260524T104500
DTEND;TZID=Etc/UTC:20260524T110000
SUMMARY:3x3x3 One-Handed Final
END:VEVENT
BEGIN:VEVENT
DTSTAMP:20260422T033810Z
UID:e1a3d7fa-bb6e-416f-9a2d-43a2ab6d6390
DTSTART;TZID=Etc/UTC:20260524T110000
DTEND;TZID=Etc/UTC:20260524T111500
SUMMARY:Skewb Final
END:VEVENT
BEGIN:VEVENT
DTSTAMP:20260422T033810Z
UID:0be21575-f573-4379-832c-a2c29daabb44
DTSTART;TZID=Etc/UTC:20260524T111500
DTEND;TZID=Etc/UTC:20260524T113000
SUMMARY:2x2x2 Cube Final
END:VEVENT
BEGIN:VEVENT
DTSTAMP:20260422T033810Z
UID:78c52558-9d33-4f38-9b6b-e4451078bb36
DTSTART;TZID=Etc/UTC:20260524T113000
DTEND;TZID=Etc/UTC:20260524T115000
SUMMARY:3x3x3 Cube Final
END:VEVENT
BEGIN:VEVENT
DTSTAMP:20260422T033810Z
UID:230c3cd1-ea80-4679-b1b8-342ae5aae89d
DTSTART;TZID=Etc/UTC:20260524T115000
DTEND;TZID=Etc/UTC:20260524T130000
SUMMARY:Premios
END:VEVENT
END:VCALENDAR
