BEGIN:VCALENDAR
VERSION:2.0
PRODID:icalendar-ruby
CALSCALE:GREGORIAN
METHOD:PUBLISH
BEGIN:VEVENT
DTSTAMP:20260423T095041Z
UID:66d777a9-e8ad-4030-af46-70d52b51f96f
DTSTART;TZID=Etc/UTC:20260627T120000
DTEND;TZID=Etc/UTC:20260627T130000
SUMMARY:Setup
END:VEVENT
BEGIN:VEVENT
DTSTAMP:20260423T095041Z
UID:1b068007-7dba-4db2-a93c-af13a36a7b14
DTSTART;TZID=Etc/UTC:20260627T130000
DTEND;TZID=Etc/UTC:20260627T133000
SUMMARY:Check-in
END:VEVENT
BEGIN:VEVENT
DTSTAMP:20260423T095041Z
UID:4cf2fbdb-5f34-4489-90ae-07665a9b73cb
DTSTART;TZID=Etc/UTC:20260627T131500
DTEND;TZID=Etc/UTC:20260627T133000
SUMMARY:Tutorial for new competitors
END:VEVENT
BEGIN:VEVENT
DTSTAMP:20260423T095041Z
UID:b7b0d923-4e61-4b44-9d4a-455ba76c1142
DTSTART;TZID=Etc/UTC:20260627T133000
DTEND;TZID=Etc/UTC:20260627T150000
SUMMARY:3x3x3 Cube First round
END:VEVENT
BEGIN:VEVENT
DTSTAMP:20260423T095041Z
UID:05c83b35-dd0d-43bc-ac89-15d026a8e7c0
DTSTART;TZID=Etc/UTC:20260627T150000
DTEND;TZID=Etc/UTC:20260627T161500
SUMMARY:5x5x5 Cube Final
END:VEVENT
BEGIN:VEVENT
DTSTAMP:20260423T095041Z
UID:64072283-00fc-421e-8ed1-141d652b5e13
DTSTART;TZID=Etc/UTC:20260627T161500
DTEND;TZID=Etc/UTC:20260627T171500
SUMMARY:Lunch
END:VEVENT
BEGIN:VEVENT
DTSTAMP:20260423T095041Z
UID:4381d905-8493-46e7-8ee4-1afa724ef02b
DTSTART;TZID=Etc/UTC:20260627T171500
DTEND;TZID=Etc/UTC:20260627T174500
SUMMARY:3x3x3 Blindfolded Final
END:VEVENT
BEGIN:VEVENT
DTSTAMP:20260423T095041Z
UID:81709779-9d1b-481e-9f51-265362d97570
DTSTART;TZID=Etc/UTC:20260627T174500
DTEND;TZID=Etc/UTC:20260627T190000
SUMMARY:2x2x2 Cube First round
END:VEVENT
BEGIN:VEVENT
DTSTAMP:20260423T095041Z
UID:52771a89-1068-4a61-8e4e-6aa08718ef20
DTSTART;TZID=Etc/UTC:20260627T190000
DTEND;TZID=Etc/UTC:20260627T194500
SUMMARY:Megaminx Final
END:VEVENT
BEGIN:VEVENT
DTSTAMP:20260423T095041Z
UID:2ec80e49-9c02-4688-ad99-a2e88f451d1a
DTSTART;TZID=Etc/UTC:20260627T194500
DTEND;TZID=Etc/UTC:20260627T203000
SUMMARY:Square-1 Final
END:VEVENT
BEGIN:VEVENT
DTSTAMP:20260423T095041Z
UID:5f0828cc-f99b-41da-a835-cb835824b0ee
DTSTART;TZID=Etc/UTC:20260627T203000
DTEND;TZID=Etc/UTC:20260627T210000
SUMMARY:3x3x3 Cube Second round
END:VEVENT
BEGIN:VEVENT
DTSTAMP:20260423T095041Z
UID:0d5f1d17-e3fb-476b-b5e3-b3a5f7d80821
DTSTART;TZID=Etc/UTC:20260627T210000
DTEND;TZID=Etc/UTC:20260627T211500
SUMMARY:2x2x2 Cube Final
END:VEVENT
BEGIN:VEVENT
DTSTAMP:20260423T095041Z
UID:0c030b24-fcad-4490-9a64-39a52dfe2ecf
DTSTART;TZID=Etc/UTC:20260627T211500
DTEND;TZID=Etc/UTC:20260627T213000
SUMMARY:3x3x3 Cube Final
END:VEVENT
BEGIN:VEVENT
DTSTAMP:20260423T095041Z
UID:564d0247-dc63-4161-af03-276a5d74f6e4
DTSTART;TZID=Etc/UTC:20260627T213000
DTEND;TZID=Etc/UTC:20260627T220000
SUMMARY:Awards
END:VEVENT
END:VCALENDAR
