BEGIN:VCALENDAR
VERSION:2.0
PRODID:icalendar-ruby
CALSCALE:GREGORIAN
METHOD:PUBLISH
BEGIN:VEVENT
DTSTAMP:20260419T145546Z
UID:a657de09-990d-4011-aa1c-1232c2a2b372
DTSTART;TZID=Etc/UTC:20260516T211500
DTEND;TZID=Etc/UTC:20260516T213000
SUMMARY:Check-in
END:VEVENT
BEGIN:VEVENT
DTSTAMP:20260419T145546Z
UID:173fabaa-33f3-4e3c-813d-65e71b5b595d
DTSTART;TZID=Etc/UTC:20260516T213000
DTEND;TZID=Etc/UTC:20260516T214500
SUMMARY:Tutorial for new competitors
END:VEVENT
BEGIN:VEVENT
DTSTAMP:20260419T145546Z
UID:8421836d-3593-436c-b384-1c6b6e2b4356
DTSTART;TZID=Etc/UTC:20260516T214500
DTEND;TZID=Etc/UTC:20260516T224500
SUMMARY:3x3x3 Cube First round
END:VEVENT
BEGIN:VEVENT
DTSTAMP:20260419T145546Z
UID:7d8858bf-a955-4f92-9511-f6d145da024b
DTSTART;TZID=Etc/UTC:20260516T224500
DTEND;TZID=Etc/UTC:20260516T233000
SUMMARY:Square-1 First round
END:VEVENT
BEGIN:VEVENT
DTSTAMP:20260419T145546Z
UID:f761f485-eb74-47fb-81d6-4179f52cf9b9
DTSTART;TZID=Etc/UTC:20260516T233000
DTEND;TZID=Etc/UTC:20260517T001000
SUMMARY:3x3x3 One-Handed Final
END:VEVENT
BEGIN:VEVENT
DTSTAMP:20260419T145546Z
UID:a9e25954-c491-4c2a-8395-f90cd376cc79
DTSTART;TZID=Etc/UTC:20260517T001000
DTEND;TZID=Etc/UTC:20260517T005000
SUMMARY:3x3x3 Cube Second round
END:VEVENT
BEGIN:VEVENT
DTSTAMP:20260419T145546Z
UID:91cd8214-249f-412f-809f-fb71577fcec3
DTSTART;TZID=Etc/UTC:20260517T005000
DTEND;TZID=Etc/UTC:20260517T011000
SUMMARY:Square-1 Final
END:VEVENT
BEGIN:VEVENT
DTSTAMP:20260419T145546Z
UID:35f6d23d-5a41-437d-a951-695ae0ddc346
DTSTART;TZID=Etc/UTC:20260517T011000
DTEND;TZID=Etc/UTC:20260517T013000
SUMMARY:3x3x3 Cube Final
END:VEVENT
BEGIN:VEVENT
DTSTAMP:20260419T145546Z
UID:15c94cd9-8438-4d4f-bc70-f76d867162df
DTSTART;TZID=Etc/UTC:20260517T013000
DTEND;TZID=Etc/UTC:20260517T014500
SUMMARY:Awards
END:VEVENT
BEGIN:VEVENT
DTSTAMP:20260419T145546Z
UID:26ed5903-19ef-471c-9a90-7a87906d2aa7
DTSTART;TZID=Etc/UTC:20260517T014500
DTEND;TZID=Etc/UTC:20260517T020000
SUMMARY:Teardown
END:VEVENT
END:VCALENDAR
