BEGIN:VCALENDAR
VERSION:2.0
PRODID:icalendar-ruby
CALSCALE:GREGORIAN
METHOD:PUBLISH
BEGIN:VEVENT
DTSTAMP:20260419T164859Z
UID:0dac8169-c4a5-41c5-927a-4f130273091c
DTSTART;TZID=Etc/UTC:20260516T150000
DTEND;TZID=Etc/UTC:20260516T154000
SUMMARY:Tutorial for new competitors
END:VEVENT
BEGIN:VEVENT
DTSTAMP:20260419T164859Z
UID:40e86760-5169-419f-a820-254312222bca
DTSTART;TZID=Etc/UTC:20260516T154000
DTEND;TZID=Etc/UTC:20260516T160000
SUMMARY:Tutorial for new competitors
END:VEVENT
BEGIN:VEVENT
DTSTAMP:20260419T164859Z
UID:04874c3e-b2a1-40be-89e0-c0dd8b5e7d1b
DTSTART;TZID=Etc/UTC:20260516T160000
DTEND;TZID=Etc/UTC:20260516T170000
SUMMARY:3x3x3 Cube First round
END:VEVENT
BEGIN:VEVENT
DTSTAMP:20260419T164859Z
UID:cfdb599b-63aa-4890-9a8b-260f5f74ec37
DTSTART;TZID=Etc/UTC:20260516T170000
DTEND;TZID=Etc/UTC:20260516T174000
SUMMARY:Skewb First round
END:VEVENT
BEGIN:VEVENT
DTSTAMP:20260419T164859Z
UID:b73483f0-c271-4a3d-b534-cdd93afbbc22
DTSTART;TZID=Etc/UTC:20260516T174000
DTEND;TZID=Etc/UTC:20260516T182000
SUMMARY:3x3x3 Cube Second round
END:VEVENT
BEGIN:VEVENT
DTSTAMP:20260419T164859Z
UID:a20b8c86-3659-4de3-9cfa-a6117fde17a9
DTSTART;TZID=Etc/UTC:20260516T182000
DTEND;TZID=Etc/UTC:20260516T184000
SUMMARY:Skewb Final
END:VEVENT
BEGIN:VEVENT
DTSTAMP:20260419T164859Z
UID:5a25b7c6-bd2f-4b4c-b18b-0ebaa2d28ca2
DTSTART;TZID=Etc/UTC:20260516T184000
DTEND;TZID=Etc/UTC:20260516T194000
SUMMARY:6x6x6 Cube Final
END:VEVENT
BEGIN:VEVENT
DTSTAMP:20260419T164859Z
UID:decdf775-4cad-403f-af20-5e2cb9c508cb
DTSTART;TZID=Etc/UTC:20260516T194000
DTEND;TZID=Etc/UTC:20260516T200000
SUMMARY:3x3x3 Cube Final
END:VEVENT
BEGIN:VEVENT
DTSTAMP:20260419T164859Z
UID:c84c8395-520b-4db9-8699-014180fea4f8
DTSTART;TZID=Etc/UTC:20260516T200000
DTEND;TZID=Etc/UTC:20260516T201500
SUMMARY:Awards
END:VEVENT
END:VCALENDAR
