BEGIN:VCALENDAR
VERSION:2.0
PRODID:icalendar-ruby
CALSCALE:GREGORIAN
METHOD:PUBLISH
BEGIN:VEVENT
DTSTAMP:20260423T031155Z
UID:b74bdd23-ce36-411c-b917-7097ae582b8b
DTSTART;TZID=Etc/UTC:20260418T130000
DTEND;TZID=Etc/UTC:20260418T135000
SUMMARY:6x6x6 Cube First round
END:VEVENT
BEGIN:VEVENT
DTSTAMP:20260423T031155Z
UID:c19bfa66-3a90-4b55-a1f6-4278c2b9b266
DTSTART;TZID=Etc/UTC:20260418T130000
DTEND;TZID=Etc/UTC:20260418T132500
SUMMARY:6x6x6 Cube First round
END:VEVENT
BEGIN:VEVENT
DTSTAMP:20260423T031155Z
UID:29f33171-31ba-4bb3-82c8-f5c10b011800
DTSTART;TZID=Etc/UTC:20260418T132500
DTEND;TZID=Etc/UTC:20260418T135000
SUMMARY:6x6x6 Cube First round
END:VEVENT
BEGIN:VEVENT
DTSTAMP:20260423T031155Z
UID:df68c543-a5e4-414e-adf0-14c34b058b32
DTSTART;TZID=Etc/UTC:20260418T135000
DTEND;TZID=Etc/UTC:20260418T145000
SUMMARY:5x5x5 Cube First round
END:VEVENT
BEGIN:VEVENT
DTSTAMP:20260423T031155Z
UID:24ad9e04-6a85-4eab-beda-360bf9f2c5ac
DTSTART;TZID=Etc/UTC:20260418T135000
DTEND;TZID=Etc/UTC:20260418T142000
SUMMARY:5x5x5 Cube First round
END:VEVENT
BEGIN:VEVENT
DTSTAMP:20260423T031155Z
UID:2690b4b9-3b55-4e24-b25b-3776822c3de5
DTSTART;TZID=Etc/UTC:20260418T142000
DTEND;TZID=Etc/UTC:20260418T145000
SUMMARY:5x5x5 Cube First round
END:VEVENT
BEGIN:VEVENT
DTSTAMP:20260423T031155Z
UID:62e41bed-0c05-446a-b93c-2cee545f38af
DTSTART;TZID=Etc/UTC:20260418T145000
DTEND;TZID=Etc/UTC:20260418T153500
SUMMARY:3x3x3 Cube First round
END:VEVENT
BEGIN:VEVENT
DTSTAMP:20260423T031155Z
UID:76c63d86-9c3a-4a2a-9091-9af4dde860ff
DTSTART;TZID=Etc/UTC:20260418T145000
DTEND;TZID=Etc/UTC:20260418T151230
SUMMARY:3x3x3 Cube First round
END:VEVENT
BEGIN:VEVENT
DTSTAMP:20260423T031155Z
UID:3955da83-baa7-45b4-9326-8c5ad238c1db
DTSTART;TZID=Etc/UTC:20260418T151230
DTEND;TZID=Etc/UTC:20260418T153500
SUMMARY:3x3x3 Cube First round
END:VEVENT
BEGIN:VEVENT
DTSTAMP:20260423T031155Z
UID:5a8de030-e7a9-4b4d-b792-ff4d28fdb099
DTSTART;TZID=Etc/UTC:20260418T153500
DTEND;TZID=Etc/UTC:20260418T160000
SUMMARY:Square-1 First round
END:VEVENT
BEGIN:VEVENT
DTSTAMP:20260423T031155Z
UID:56c49311-1b15-4574-80fc-af2b19d02490
DTSTART;TZID=Etc/UTC:20260418T153500
DTEND;TZID=Etc/UTC:20260418T154730
SUMMARY:Square-1 First round
END:VEVENT
BEGIN:VEVENT
DTSTAMP:20260423T031155Z
UID:a51ef434-193b-4e83-ad33-ec4c7d0af06d
DTSTART;TZID=Etc/UTC:20260418T154730
DTEND;TZID=Etc/UTC:20260418T160000
SUMMARY:Square-1 First round
END:VEVENT
BEGIN:VEVENT
DTSTAMP:20260423T031155Z
UID:fb1aa5c8-39cc-49aa-a055-b57bb43366e0
DTSTART;TZID=Etc/UTC:20260418T160000
DTEND;TZID=Etc/UTC:20260418T161500
SUMMARY:Skewb First round
END:VEVENT
BEGIN:VEVENT
DTSTAMP:20260423T031155Z
UID:492e0aa5-8593-4640-ac08-486ebc79399f
DTSTART;TZID=Etc/UTC:20260418T160000
DTEND;TZID=Etc/UTC:20260418T160730
SUMMARY:Skewb First round
END:VEVENT
BEGIN:VEVENT
DTSTAMP:20260423T031155Z
UID:6e8d4de1-dc78-460c-b3dd-417749247d41
DTSTART;TZID=Etc/UTC:20260418T160730
DTEND;TZID=Etc/UTC:20260418T161500
SUMMARY:Skewb First round
END:VEVENT
BEGIN:VEVENT
DTSTAMP:20260423T031155Z
UID:a41aa2d6-8b16-41bb-8266-18f5d70bf668
DTSTART;TZID=Etc/UTC:20260418T161500
DTEND;TZID=Etc/UTC:20260418T165000
SUMMARY:2x2x2 Cube First round
END:VEVENT
BEGIN:VEVENT
DTSTAMP:20260423T031155Z
UID:752ab9c0-74ad-4d8c-817f-c39434b0d2d9
DTSTART;TZID=Etc/UTC:20260418T161500
DTEND;TZID=Etc/UTC:20260418T163230
SUMMARY:2x2x2 Cube First round
END:VEVENT
BEGIN:VEVENT
DTSTAMP:20260423T031155Z
UID:0ef7b0eb-a0d9-4d5e-a46c-f0720f960b52
DTSTART;TZID=Etc/UTC:20260418T163230
DTEND;TZID=Etc/UTC:20260418T165000
SUMMARY:2x2x2 Cube First round
END:VEVENT
BEGIN:VEVENT
DTSTAMP:20260423T031155Z
UID:ff832cde-09c0-4cec-8a8d-c7e6bdf34f18
DTSTART;TZID=Etc/UTC:20260418T165000
DTEND;TZID=Etc/UTC:20260418T170500
SUMMARY:Skewb Final
END:VEVENT
BEGIN:VEVENT
DTSTAMP:20260423T031155Z
UID:389444b9-efbd-4f42-815a-a480787b661d
DTSTART;TZID=Etc/UTC:20260418T165000
DTEND;TZID=Etc/UTC:20260418T170500
SUMMARY:Skewb Final
END:VEVENT
BEGIN:VEVENT
DTSTAMP:20260423T031155Z
UID:7bdd30f8-476f-4bac-b2cb-5e6a4d4c2f17
DTSTART;TZID=Etc/UTC:20260418T170500
DTEND;TZID=Etc/UTC:20260418T174000
SUMMARY:6x6x6 Cube Final
END:VEVENT
BEGIN:VEVENT
DTSTAMP:20260423T031155Z
UID:a7a83c5b-fa98-47d1-a41c-02f5684c96ff
DTSTART;TZID=Etc/UTC:20260418T170500
DTEND;TZID=Etc/UTC:20260418T172230
SUMMARY:6x6x6 Cube Final
END:VEVENT
BEGIN:VEVENT
DTSTAMP:20260423T031155Z
UID:5a4248d3-5b2e-4029-b6ab-dc63b037e7ca
DTSTART;TZID=Etc/UTC:20260418T172230
DTEND;TZID=Etc/UTC:20260418T174000
SUMMARY:6x6x6 Cube Final
END:VEVENT
BEGIN:VEVENT
DTSTAMP:20260423T031155Z
UID:0fe1d3d3-4522-4454-83f6-e62969accc6d
DTSTART;TZID=Etc/UTC:20260418T174000
DTEND;TZID=Etc/UTC:20260418T184000
SUMMARY:Almuerzo
END:VEVENT
BEGIN:VEVENT
DTSTAMP:20260423T031155Z
UID:484de9f7-e9f2-42ec-9317-86155127d4be
DTSTART;TZID=Etc/UTC:20260418T184000
DTEND;TZID=Etc/UTC:20260418T194000
SUMMARY:5x5x5 Cube Final
END:VEVENT
BEGIN:VEVENT
DTSTAMP:20260423T031155Z
UID:b2968fa1-5ca0-44a1-8cef-64d87b92f39b
DTSTART;TZID=Etc/UTC:20260418T184000
DTEND;TZID=Etc/UTC:20260418T191000
SUMMARY:5x5x5 Cube Final
END:VEVENT
BEGIN:VEVENT
DTSTAMP:20260423T031155Z
UID:7d8e90eb-69a6-447f-9906-39a27c64fbdc
DTSTART;TZID=Etc/UTC:20260418T191000
DTEND;TZID=Etc/UTC:20260418T194000
SUMMARY:5x5x5 Cube Final
END:VEVENT
BEGIN:VEVENT
DTSTAMP:20260423T031155Z
UID:31fbe910-040f-4fd8-8350-667715bd08d3
DTSTART;TZID=Etc/UTC:20260418T194000
DTEND;TZID=Etc/UTC:20260418T200500
SUMMARY:3x3x3 Cube Second round
END:VEVENT
BEGIN:VEVENT
DTSTAMP:20260423T031155Z
UID:9cc90512-ede3-4b93-88fe-979f50c887ce
DTSTART;TZID=Etc/UTC:20260418T194000
DTEND;TZID=Etc/UTC:20260418T195230
SUMMARY:3x3x3 Cube Second round
END:VEVENT
BEGIN:VEVENT
DTSTAMP:20260423T031155Z
UID:1d26a013-a847-40dc-a5d4-4b0941d07b62
DTSTART;TZID=Etc/UTC:20260418T195230
DTEND;TZID=Etc/UTC:20260418T200500
SUMMARY:3x3x3 Cube Second round
END:VEVENT
BEGIN:VEVENT
DTSTAMP:20260423T031155Z
UID:06be8a7b-f2ef-490b-b612-62d06e49e88a
DTSTART;TZID=Etc/UTC:20260418T200500
DTEND;TZID=Etc/UTC:20260418T204500
SUMMARY:Square-1 Final
END:VEVENT
BEGIN:VEVENT
DTSTAMP:20260423T031155Z
UID:911d3499-fc52-4d45-b8ea-563433cd4754
DTSTART;TZID=Etc/UTC:20260418T200500
DTEND;TZID=Etc/UTC:20260418T202500
SUMMARY:Square-1 Final
END:VEVENT
BEGIN:VEVENT
DTSTAMP:20260423T031155Z
UID:cf4cf808-4488-4a31-b954-8edc63c54165
DTSTART;TZID=Etc/UTC:20260418T202500
DTEND;TZID=Etc/UTC:20260418T204500
SUMMARY:Square-1 Final
END:VEVENT
BEGIN:VEVENT
DTSTAMP:20260423T031155Z
UID:3187c9e4-a7ec-4269-8863-5bae4add7094
DTSTART;TZID=Etc/UTC:20260418T204500
DTEND;TZID=Etc/UTC:20260418T211000
SUMMARY:2x2x2 Cube Final
END:VEVENT
BEGIN:VEVENT
DTSTAMP:20260423T031155Z
UID:850a7e00-8a1e-46e4-bbec-0c1a54ed4d65
DTSTART;TZID=Etc/UTC:20260418T204500
DTEND;TZID=Etc/UTC:20260418T211000
SUMMARY:2x2x2 Cube Final
END:VEVENT
BEGIN:VEVENT
DTSTAMP:20260423T031155Z
UID:66a1621d-16e3-4a5a-8793-690a053e1125
DTSTART;TZID=Etc/UTC:20260418T211000
DTEND;TZID=Etc/UTC:20260418T213000
SUMMARY:3x3x3 Cube Final
END:VEVENT
BEGIN:VEVENT
DTSTAMP:20260423T031155Z
UID:0c731019-ea7f-43e7-b78d-2e8cdb33ccad
DTSTART;TZID=Etc/UTC:20260418T211000
DTEND;TZID=Etc/UTC:20260418T213000
SUMMARY:3x3x3 Cube Final
END:VEVENT
END:VCALENDAR
