BEGIN:VCALENDAR
VERSION:2.0
PRODID:icalendar-ruby
CALSCALE:GREGORIAN
METHOD:PUBLISH
BEGIN:VEVENT
DTSTAMP:20260423T095114Z
UID:f037aedc-fff8-4f4c-9b28-e2690cdb00ae
DTSTART;TZID=Etc/UTC:20260426T131500
DTEND;TZID=Etc/UTC:20260426T140000
SUMMARY:Megaminx First round
END:VEVENT
BEGIN:VEVENT
DTSTAMP:20260423T095114Z
UID:dbeda555-f962-46ac-bf36-8b3b5a0d3d41
DTSTART;TZID=Etc/UTC:20260426T140000
DTEND;TZID=Etc/UTC:20260426T145000
SUMMARY:Clock First round
END:VEVENT
BEGIN:VEVENT
DTSTAMP:20260423T095114Z
UID:a7c497b6-3d0b-4c31-9676-7c4bf0bdad0f
DTSTART;TZID=Etc/UTC:20260426T145000
DTEND;TZID=Etc/UTC:20260426T155000
SUMMARY:3x3x3 Cube First round
END:VEVENT
BEGIN:VEVENT
DTSTAMP:20260423T095114Z
UID:8bbbb567-8cec-4880-9260-4d92bfd685d7
DTSTART;TZID=Etc/UTC:20260426T155000
DTEND;TZID=Etc/UTC:20260426T164000
SUMMARY:Skewb First round
END:VEVENT
BEGIN:VEVENT
DTSTAMP:20260423T095114Z
UID:ab371740-aadb-48dd-b14a-3248f9416bed
DTSTART;TZID=Etc/UTC:20260426T164000
DTEND;TZID=Etc/UTC:20260426T173000
SUMMARY:2x2x2 Cube First round
END:VEVENT
BEGIN:VEVENT
DTSTAMP:20260423T095114Z
UID:29cf87bb-128b-493e-9d3e-cee01d77681c
DTSTART;TZID=Etc/UTC:20260426T173000
DTEND;TZID=Etc/UTC:20260426T183000
SUMMARY:Almuerzo
END:VEVENT
BEGIN:VEVENT
DTSTAMP:20260423T095114Z
UID:c70a26ae-9ac4-4622-bd79-9ae3936a6210
DTSTART;TZID=Etc/UTC:20260426T183000
DTEND;TZID=Etc/UTC:20260426T192000
SUMMARY:Pyraminx First round
END:VEVENT
BEGIN:VEVENT
DTSTAMP:20260423T095114Z
UID:f6ebcf30-7768-4a6a-b49b-30108b100b61
DTSTART;TZID=Etc/UTC:20260426T192000
DTEND;TZID=Etc/UTC:20260426T200000
SUMMARY:Megaminx Final
END:VEVENT
BEGIN:VEVENT
DTSTAMP:20260423T095114Z
UID:ccd702bf-cd47-499b-ac6e-b0064dc82eee
DTSTART;TZID=Etc/UTC:20260426T200000
DTEND;TZID=Etc/UTC:20260426T203000
SUMMARY:Clock Final
END:VEVENT
BEGIN:VEVENT
DTSTAMP:20260423T095114Z
UID:9aa8a0a1-7fcd-4249-81f2-31c57d9da211
DTSTART;TZID=Etc/UTC:20260426T203000
DTEND;TZID=Etc/UTC:20260426T205000
SUMMARY:Skewb Final
END:VEVENT
BEGIN:VEVENT
DTSTAMP:20260423T095114Z
UID:3afcfcd3-8352-409c-b32e-b7afca9d45f2
DTSTART;TZID=Etc/UTC:20260426T205000
DTEND;TZID=Etc/UTC:20260426T211000
SUMMARY:3x3x3 Cube Second round
END:VEVENT
BEGIN:VEVENT
DTSTAMP:20260423T095114Z
UID:7a81f711-729a-4826-87d3-a54318834d1f
DTSTART;TZID=Etc/UTC:20260426T211000
DTEND;TZID=Etc/UTC:20260426T213000
SUMMARY:Pyraminx Final
END:VEVENT
BEGIN:VEVENT
DTSTAMP:20260423T095114Z
UID:742da355-2750-4df5-bc01-15ccc9bf6783
DTSTART;TZID=Etc/UTC:20260426T213000
DTEND;TZID=Etc/UTC:20260426T215000
SUMMARY:2x2x2 Cube Final
END:VEVENT
BEGIN:VEVENT
DTSTAMP:20260423T095114Z
UID:126adc92-de2a-4bb0-9dff-ff5ad6700526
DTSTART;TZID=Etc/UTC:20260426T215000
DTEND;TZID=Etc/UTC:20260426T221000
SUMMARY:3x3x3 Cube Final
END:VEVENT
END:VCALENDAR
