BEGIN:VCALENDAR
VERSION:2.0
PRODID:icalendar-ruby
CALSCALE:GREGORIAN
METHOD:PUBLISH
BEGIN:VEVENT
DTSTAMP:20260423T095041Z
UID:a45c7435-57cc-4900-996c-b1432c38158f
DTSTART;TZID=Etc/UTC:20260425T041500
DTEND;TZID=Etc/UTC:20260425T043000
SUMMARY:Check-in
END:VEVENT
BEGIN:VEVENT
DTSTAMP:20260423T095041Z
UID:dedb08df-a969-41a6-8b6e-ddb961a5d6f0
DTSTART;TZID=Etc/UTC:20260425T043000
DTEND;TZID=Etc/UTC:20260425T053000
SUMMARY:3x3x3 Fewest Moves First round (Attempt 1)
END:VEVENT
BEGIN:VEVENT
DTSTAMP:20260423T095041Z
UID:23c288d9-a813-4abb-a4c4-03613ef0b935
DTSTART;TZID=Etc/UTC:20260425T054500
DTEND;TZID=Etc/UTC:20260425T064500
SUMMARY:3x3x3 Fewest Moves First round (Attempt 2)
END:VEVENT
BEGIN:VEVENT
DTSTAMP:20260423T095041Z
UID:5af121b5-ac0a-4167-b8a0-e9b62c1bee41
DTSTART;TZID=Etc/UTC:20260425T064500
DTEND;TZID=Etc/UTC:20260425T074500
SUMMARY:Lunch
END:VEVENT
BEGIN:VEVENT
DTSTAMP:20260423T095041Z
UID:cdd59794-3c3a-44f2-b86f-8bd87153b9d9
DTSTART;TZID=Etc/UTC:20260425T074500
DTEND;TZID=Etc/UTC:20260425T084500
SUMMARY:3x3x3 Fewest Moves First round (Attempt 3)
END:VEVENT
BEGIN:VEVENT
DTSTAMP:20260423T095041Z
UID:80e4399c-f670-45d3-8218-4b54c89d1fe0
DTSTART;TZID=Etc/UTC:20260425T090000
DTEND;TZID=Etc/UTC:20260425T100000
SUMMARY:3x3x3 Fewest Moves Second round (Attempt 1)
END:VEVENT
BEGIN:VEVENT
DTSTAMP:20260423T095041Z
UID:021d28d0-2cca-40c3-b0c2-3b77dc35d038
DTSTART;TZID=Etc/UTC:20260425T101500
DTEND;TZID=Etc/UTC:20260425T111500
SUMMARY:3x3x3 Fewest Moves Second round (Attempt 2)
END:VEVENT
BEGIN:VEVENT
DTSTAMP:20260423T095041Z
UID:b227adb8-31ef-4785-8739-f78be0e26f16
DTSTART;TZID=Etc/UTC:20260425T113000
DTEND;TZID=Etc/UTC:20260425T123000
SUMMARY:3x3x3 Fewest Moves Second round (Attempt 3)
END:VEVENT
BEGIN:VEVENT
DTSTAMP:20260423T095041Z
UID:75c21714-ef44-48dc-97a7-dd11285327ad
DTSTART;TZID=Etc/UTC:20260426T041500
DTEND;TZID=Etc/UTC:20260426T043000
SUMMARY:Check-in
END:VEVENT
BEGIN:VEVENT
DTSTAMP:20260423T095041Z
UID:62a6514d-ddea-423a-b203-a30638240dd9
DTSTART;TZID=Etc/UTC:20260426T043000
DTEND;TZID=Etc/UTC:20260426T053000
SUMMARY:3x3x3 Fewest Moves Final (Attempt 1)
END:VEVENT
BEGIN:VEVENT
DTSTAMP:20260423T095041Z
UID:b84ec7c3-5084-43e8-8e47-3daa3bf4579b
DTSTART;TZID=Etc/UTC:20260426T053000
DTEND;TZID=Etc/UTC:20260426T061500
SUMMARY:3x3x3 Blindfolded First round
END:VEVENT
BEGIN:VEVENT
DTSTAMP:20260423T095041Z
UID:9c776531-ba1c-4452-84d4-3d0571645d03
DTSTART;TZID=Etc/UTC:20260426T063000
DTEND;TZID=Etc/UTC:20260426T073000
SUMMARY:3x3x3 Fewest Moves Final (Attempt 2)
END:VEVENT
BEGIN:VEVENT
DTSTAMP:20260423T095041Z
UID:ff358440-ef2c-45f6-bac0-6cfb04a48087
DTSTART;TZID=Etc/UTC:20260426T073000
DTEND;TZID=Etc/UTC:20260426T083000
SUMMARY:Lunch
END:VEVENT
BEGIN:VEVENT
DTSTAMP:20260423T095041Z
UID:09e48a3b-309c-43d3-a5a6-09435bf6284c
DTSTART;TZID=Etc/UTC:20260426T083000
DTEND;TZID=Etc/UTC:20260426T093000
SUMMARY:3x3x3 Fewest Moves Final (Attempt 3)
END:VEVENT
BEGIN:VEVENT
DTSTAMP:20260423T095041Z
UID:758c2789-2ea5-49d6-8f42-3cfc7c337f88
DTSTART;TZID=Etc/UTC:20260426T093000
DTEND;TZID=Etc/UTC:20260426T100000
SUMMARY:3x3x3 Blindfolded Final
END:VEVENT
BEGIN:VEVENT
DTSTAMP:20260423T095041Z
UID:40047d49-4872-4ea2-b053-2a4939bf41e2
DTSTART;TZID=Etc/UTC:20260426T100000
DTEND;TZID=Etc/UTC:20260426T103000
SUMMARY:Awards
END:VEVENT
END:VCALENDAR
