BEGIN:VCALENDAR
VERSION:2.0
PRODID:icalendar-ruby
CALSCALE:GREGORIAN
METHOD:PUBLISH
BEGIN:VEVENT
DTSTAMP:20260423T014227Z
UID:e2f431fe-3cff-41ba-9fd0-aa8dd39a1769
DTSTART;TZID=Etc/UTC:20260419T133000
DTEND;TZID=Etc/UTC:20260419T143000
SUMMARY:3x3x3 Fewest Moves Final (Attempt 1)
END:VEVENT
BEGIN:VEVENT
DTSTAMP:20260423T014227Z
UID:9cb48c92-add2-4c7f-89db-3336e921ec80
DTSTART;TZID=Etc/UTC:20260419T143000
DTEND;TZID=Etc/UTC:20260419T153000
SUMMARY:3x3x3 Cube First round
END:VEVENT
BEGIN:VEVENT
DTSTAMP:20260423T014227Z
UID:ae8b3e98-c3a9-41a6-815b-e4aea30ecf2b
DTSTART;TZID=Etc/UTC:20260419T143000
DTEND;TZID=Etc/UTC:20260419T143527
SUMMARY:3x3x3 Cube First round
END:VEVENT
BEGIN:VEVENT
DTSTAMP:20260423T014227Z
UID:1ed06338-47db-41ac-bd24-44f7f8067581
DTSTART;TZID=Etc/UTC:20260419T143527
DTEND;TZID=Etc/UTC:20260419T144054
SUMMARY:3x3x3 Cube First round
END:VEVENT
BEGIN:VEVENT
DTSTAMP:20260423T014227Z
UID:601bb16d-5078-4c14-a597-888f409a1c39
DTSTART;TZID=Etc/UTC:20260419T144054
DTEND;TZID=Etc/UTC:20260419T144621
SUMMARY:3x3x3 Cube First round
END:VEVENT
BEGIN:VEVENT
DTSTAMP:20260423T014227Z
UID:7d6382fc-bcb6-4f94-b212-325f6b873fad
DTSTART;TZID=Etc/UTC:20260419T144621
DTEND;TZID=Etc/UTC:20260419T145149
SUMMARY:3x3x3 Cube First round
END:VEVENT
BEGIN:VEVENT
DTSTAMP:20260423T014227Z
UID:e5b8cc7c-c710-4f3b-bc83-df4dfe7d07fe
DTSTART;TZID=Etc/UTC:20260419T145149
DTEND;TZID=Etc/UTC:20260419T145716
SUMMARY:3x3x3 Cube First round
END:VEVENT
BEGIN:VEVENT
DTSTAMP:20260423T014227Z
UID:05e3ee83-e62e-45e9-abde-f8b508c8816c
DTSTART;TZID=Etc/UTC:20260419T145716
DTEND;TZID=Etc/UTC:20260419T150243
SUMMARY:3x3x3 Cube First round
END:VEVENT
BEGIN:VEVENT
DTSTAMP:20260423T014227Z
UID:3ead3757-ed2d-41a6-8a1e-76ce35110276
DTSTART;TZID=Etc/UTC:20260419T150243
DTEND;TZID=Etc/UTC:20260419T150810
SUMMARY:3x3x3 Cube First round
END:VEVENT
BEGIN:VEVENT
DTSTAMP:20260423T014227Z
UID:355831c9-e5e0-4fd6-b503-b278ec43ddcc
DTSTART;TZID=Etc/UTC:20260419T150810
DTEND;TZID=Etc/UTC:20260419T151338
SUMMARY:3x3x3 Cube First round
END:VEVENT
BEGIN:VEVENT
DTSTAMP:20260423T014227Z
UID:54f3e122-bda5-4882-87a0-8d3c4e6b6af0
DTSTART;TZID=Etc/UTC:20260419T151338
DTEND;TZID=Etc/UTC:20260419T151905
SUMMARY:3x3x3 Cube First round
END:VEVENT
BEGIN:VEVENT
DTSTAMP:20260423T014227Z
UID:21b92afd-f197-4b3d-b638-9f6e956af28f
DTSTART;TZID=Etc/UTC:20260419T151905
DTEND;TZID=Etc/UTC:20260419T152432
SUMMARY:3x3x3 Cube First round
END:VEVENT
BEGIN:VEVENT
DTSTAMP:20260423T014227Z
UID:b48df634-88a9-45ae-80ea-3b757564cfed
DTSTART;TZID=Etc/UTC:20260419T152432
DTEND;TZID=Etc/UTC:20260419T153000
SUMMARY:3x3x3 Cube First round
END:VEVENT
BEGIN:VEVENT
DTSTAMP:20260423T014227Z
UID:9128e688-f4d6-4409-a7de-7099f356d85b
DTSTART;TZID=Etc/UTC:20260419T153000
DTEND;TZID=Etc/UTC:20260419T161000
SUMMARY:3x3 Feet
END:VEVENT
BEGIN:VEVENT
DTSTAMP:20260423T014227Z
UID:ff5453bd-7f2d-4937-a2e5-46d745dde217
DTSTART;TZID=Etc/UTC:20260419T161000
DTEND;TZID=Etc/UTC:20260419T165000
SUMMARY:3x3x3 Blindfolded First round
END:VEVENT
BEGIN:VEVENT
DTSTAMP:20260423T014227Z
UID:fc980159-89d0-4c40-b2dd-d516e6f11514
DTSTART;TZID=Etc/UTC:20260419T161000
DTEND;TZID=Etc/UTC:20260419T162000
SUMMARY:3x3x3 Blindfolded First round
END:VEVENT
BEGIN:VEVENT
DTSTAMP:20260423T014227Z
UID:2d86d512-cd6a-413e-9069-720d72eb3114
DTSTART;TZID=Etc/UTC:20260419T162000
DTEND;TZID=Etc/UTC:20260419T163000
SUMMARY:3x3x3 Blindfolded First round
END:VEVENT
BEGIN:VEVENT
DTSTAMP:20260423T014227Z
UID:66994168-8fdc-4832-9903-b8ebd69e5b77
DTSTART;TZID=Etc/UTC:20260419T163000
DTEND;TZID=Etc/UTC:20260419T164000
SUMMARY:3x3x3 Blindfolded First round
END:VEVENT
BEGIN:VEVENT
DTSTAMP:20260423T014227Z
UID:a3c7d6de-8c28-4e0f-a5bf-6de788076a9b
DTSTART;TZID=Etc/UTC:20260419T164000
DTEND;TZID=Etc/UTC:20260419T165000
SUMMARY:3x3x3 Blindfolded First round
END:VEVENT
BEGIN:VEVENT
DTSTAMP:20260423T014227Z
UID:72600dd9-02a1-4265-8d31-df082b6ef0f1
DTSTART;TZID=Etc/UTC:20260419T165000
DTEND;TZID=Etc/UTC:20260419T175000
SUMMARY:3x3x3 Cube Second round
END:VEVENT
BEGIN:VEVENT
DTSTAMP:20260423T014227Z
UID:764fb80f-59ef-4ab2-9047-bec93e6209d9
DTSTART;TZID=Etc/UTC:20260419T165000
DTEND;TZID=Etc/UTC:20260419T165730
SUMMARY:3x3x3 Cube Second round
END:VEVENT
BEGIN:VEVENT
DTSTAMP:20260423T014227Z
UID:aafd328e-1e2d-4c96-bda8-9a7be77542d6
DTSTART;TZID=Etc/UTC:20260419T165730
DTEND;TZID=Etc/UTC:20260419T170500
SUMMARY:3x3x3 Cube Second round
END:VEVENT
BEGIN:VEVENT
DTSTAMP:20260423T014227Z
UID:7ee1e7de-b8f6-465c-a065-2a716590f6e8
DTSTART;TZID=Etc/UTC:20260419T170500
DTEND;TZID=Etc/UTC:20260419T171230
SUMMARY:3x3x3 Cube Second round
END:VEVENT
BEGIN:VEVENT
DTSTAMP:20260423T014227Z
UID:4e43e281-fbb9-4371-8166-c9a25323c736
DTSTART;TZID=Etc/UTC:20260419T171230
DTEND;TZID=Etc/UTC:20260419T172000
SUMMARY:3x3x3 Cube Second round
END:VEVENT
BEGIN:VEVENT
DTSTAMP:20260423T014227Z
UID:ab8dd495-38bb-4022-b9ef-7f25fe9577a2
DTSTART;TZID=Etc/UTC:20260419T172000
DTEND;TZID=Etc/UTC:20260419T172730
SUMMARY:3x3x3 Cube Second round
END:VEVENT
BEGIN:VEVENT
DTSTAMP:20260423T014227Z
UID:6ecc7d85-61a2-4ce5-84fd-ab03f37e8347
DTSTART;TZID=Etc/UTC:20260419T172730
DTEND;TZID=Etc/UTC:20260419T173500
SUMMARY:3x3x3 Cube Second round
END:VEVENT
BEGIN:VEVENT
DTSTAMP:20260423T014227Z
UID:45d5147e-f606-43a1-85bc-ce4d8f4bad7a
DTSTART;TZID=Etc/UTC:20260419T173500
DTEND;TZID=Etc/UTC:20260419T174230
SUMMARY:3x3x3 Cube Second round
END:VEVENT
BEGIN:VEVENT
DTSTAMP:20260423T014227Z
UID:4d85f4e3-fe85-4e18-ab66-4063e390b39d
DTSTART;TZID=Etc/UTC:20260419T174230
DTEND;TZID=Etc/UTC:20260419T175000
SUMMARY:3x3x3 Cube Second round
END:VEVENT
BEGIN:VEVENT
DTSTAMP:20260423T014227Z
UID:d75e2218-8195-4107-831f-ffc961609e9f
DTSTART;TZID=Etc/UTC:20260419T175000
DTEND;TZID=Etc/UTC:20260419T185000
SUMMARY:Almuerzo
END:VEVENT
BEGIN:VEVENT
DTSTAMP:20260423T014227Z
UID:9e6e82a7-c778-4242-9e1f-0dae268056a8
DTSTART;TZID=Etc/UTC:20260419T185000
DTEND;TZID=Etc/UTC:20260419T194000
SUMMARY:3x3 Team Blind
END:VEVENT
BEGIN:VEVENT
DTSTAMP:20260423T014227Z
UID:be91228e-9cd7-43e0-8bb6-fa187029db7e
DTSTART;TZID=Etc/UTC:20260419T194000
DTEND;TZID=Etc/UTC:20260419T204000
SUMMARY:3x3x3 Cube Final
END:VEVENT
BEGIN:VEVENT
DTSTAMP:20260423T014227Z
UID:d2f56213-0e8c-4d4b-91e6-ddeead3081bd
DTSTART;TZID=Etc/UTC:20260419T194000
DTEND;TZID=Etc/UTC:20260419T195500
SUMMARY:3x3x3 Cube Final
END:VEVENT
BEGIN:VEVENT
DTSTAMP:20260423T014227Z
UID:2f79c489-ef49-49fb-9115-cb3d700c7605
DTSTART;TZID=Etc/UTC:20260419T195500
DTEND;TZID=Etc/UTC:20260419T201000
SUMMARY:3x3x3 Cube Final
END:VEVENT
BEGIN:VEVENT
DTSTAMP:20260423T014227Z
UID:84ed394e-1a29-43ae-8616-1de3693e7b2e
DTSTART;TZID=Etc/UTC:20260419T201000
DTEND;TZID=Etc/UTC:20260419T202500
SUMMARY:3x3x3 Cube Final
END:VEVENT
BEGIN:VEVENT
DTSTAMP:20260423T014227Z
UID:e33bd7bd-ea9b-404b-9055-9f20475a1619
DTSTART;TZID=Etc/UTC:20260419T202500
DTEND;TZID=Etc/UTC:20260419T204000
SUMMARY:3x3x3 Cube Final
END:VEVENT
BEGIN:VEVENT
DTSTAMP:20260423T014227Z
UID:5cd3ab89-7434-498e-861d-b36a6fc5ada4
DTSTART;TZID=Etc/UTC:20260419T204000
DTEND;TZID=Etc/UTC:20260419T211000
SUMMARY:3x3x3 Blindfolded Final
END:VEVENT
BEGIN:VEVENT
DTSTAMP:20260423T014227Z
UID:d4961233-df22-4fff-88ef-0d86f947441c
DTSTART;TZID=Etc/UTC:20260419T204000
DTEND;TZID=Etc/UTC:20260419T205000
SUMMARY:3x3x3 Blindfolded Final
END:VEVENT
BEGIN:VEVENT
DTSTAMP:20260423T014227Z
UID:1702e98b-1051-498f-a382-a928e744dff4
DTSTART;TZID=Etc/UTC:20260419T205000
DTEND;TZID=Etc/UTC:20260419T210000
SUMMARY:3x3x3 Blindfolded Final
END:VEVENT
BEGIN:VEVENT
DTSTAMP:20260423T014227Z
UID:03348a6e-1780-4923-b829-d41f64e44ad3
DTSTART;TZID=Etc/UTC:20260419T210000
DTEND;TZID=Etc/UTC:20260419T211000
SUMMARY:3x3x3 Blindfolded Final
END:VEVENT
BEGIN:VEVENT
DTSTAMP:20260423T014227Z
UID:cc33c214-666e-4c51-a6c1-0fe40773430d
DTSTART;TZID=Etc/UTC:20260419T211000
DTEND;TZID=Etc/UTC:20260419T214000
SUMMARY:3x3x3 One-Handed Final
END:VEVENT
BEGIN:VEVENT
DTSTAMP:20260423T014227Z
UID:d03310c5-77db-4a28-87f2-69e3a21ffe2f
DTSTART;TZID=Etc/UTC:20260419T211000
DTEND;TZID=Etc/UTC:20260419T211417
SUMMARY:3x3x3 One-Handed Final
END:VEVENT
BEGIN:VEVENT
DTSTAMP:20260423T014227Z
UID:7a88e0d5-bed4-4099-9f97-f14364dd860e
DTSTART;TZID=Etc/UTC:20260419T211417
DTEND;TZID=Etc/UTC:20260419T211834
SUMMARY:3x3x3 One-Handed Final
END:VEVENT
BEGIN:VEVENT
DTSTAMP:20260423T014227Z
UID:fdcff5dc-fbcc-4ccc-bc96-212a441dfca2
DTSTART;TZID=Etc/UTC:20260419T211834
DTEND;TZID=Etc/UTC:20260419T212251
SUMMARY:3x3x3 One-Handed Final
END:VEVENT
BEGIN:VEVENT
DTSTAMP:20260423T014227Z
UID:aa36322b-99b3-41d8-b32b-5421e0302ecd
DTSTART;TZID=Etc/UTC:20260419T212251
DTEND;TZID=Etc/UTC:20260419T212708
SUMMARY:3x3x3 One-Handed Final
END:VEVENT
BEGIN:VEVENT
DTSTAMP:20260423T014227Z
UID:c0115cbf-c384-47c0-b40f-4aee134ffe86
DTSTART;TZID=Etc/UTC:20260419T212708
DTEND;TZID=Etc/UTC:20260419T213125
SUMMARY:3x3x3 One-Handed Final
END:VEVENT
BEGIN:VEVENT
DTSTAMP:20260423T014227Z
UID:835d4a08-56fb-43f6-9493-5d7231a4b015
DTSTART;TZID=Etc/UTC:20260419T213125
DTEND;TZID=Etc/UTC:20260419T213542
SUMMARY:3x3x3 One-Handed Final
END:VEVENT
BEGIN:VEVENT
DTSTAMP:20260423T014227Z
UID:51e01710-a566-4f55-834c-2432f773c389
DTSTART;TZID=Etc/UTC:20260419T213542
DTEND;TZID=Etc/UTC:20260419T214000
SUMMARY:3x3x3 One-Handed Final
END:VEVENT
BEGIN:VEVENT
DTSTAMP:20260423T014227Z
UID:e415c815-a836-41e9-8491-46c966ca7ab5
DTSTART;TZID=Etc/UTC:20260419T214000
DTEND;TZID=Etc/UTC:20260419T225000
SUMMARY:3x3 Sin Inspección (Copa Pistón)
END:VEVENT
END:VCALENDAR
