BEGIN:VCALENDAR
VERSION:2.0
PRODID:icalendar-ruby
CALSCALE:GREGORIAN
METHOD:PUBLISH
BEGIN:VEVENT
DTSTAMP:20260423T095042Z
UID:ce5a3002-b2fa-4440-bcdd-b47176dea17d
DTSTART;TZID=Etc/UTC:20260502T110000
DTEND;TZID=Etc/UTC:20260502T113000
SUMMARY:Check-in
END:VEVENT
BEGIN:VEVENT
DTSTAMP:20260423T095042Z
UID:4835cd22-5596-49be-bdd4-cb1a412e6e92
DTSTART;TZID=Etc/UTC:20260502T113000
DTEND;TZID=Etc/UTC:20260502T123000
SUMMARY:3x3x3 Blindfolded Final
END:VEVENT
BEGIN:VEVENT
DTSTAMP:20260423T095042Z
UID:d9888012-75ec-4c51-9a61-bc10561fefa6
DTSTART;TZID=Etc/UTC:20260502T123000
DTEND;TZID=Etc/UTC:20260502T131000
SUMMARY:Square-1 Final
END:VEVENT
BEGIN:VEVENT
DTSTAMP:20260423T095042Z
UID:25ca227d-77cc-4faa-96ab-8db18f119011
DTSTART;TZID=Etc/UTC:20260502T131000
DTEND;TZID=Etc/UTC:20260502T140000
SUMMARY:5x5x5 Cube Final
END:VEVENT
BEGIN:VEVENT
DTSTAMP:20260423T095042Z
UID:d5430e2a-2594-4062-bfcc-9cd54838f72d
DTSTART;TZID=Etc/UTC:20260502T140000
DTEND;TZID=Etc/UTC:20260502T145000
SUMMARY:Megaminx Final
END:VEVENT
BEGIN:VEVENT
DTSTAMP:20260423T095042Z
UID:3092c3d0-9309-4e88-9ea4-ff6ff27deef5
DTSTART;TZID=Etc/UTC:20260502T145000
DTEND;TZID=Etc/UTC:20260502T153000
SUMMARY:4x4x4 Cube First round
END:VEVENT
BEGIN:VEVENT
DTSTAMP:20260423T095042Z
UID:ec3886ee-19c6-4760-acb7-621ff93054ca
DTSTART;TZID=Etc/UTC:20260502T153000
DTEND;TZID=Etc/UTC:20260502T163000
SUMMARY:Almoço
END:VEVENT
BEGIN:VEVENT
DTSTAMP:20260423T095042Z
UID:1cf2fee4-0e01-42e8-8d37-26b55f76c795
DTSTART;TZID=Etc/UTC:20260502T163000
DTEND;TZID=Etc/UTC:20260502T173000
SUMMARY:Pyraminx First round
END:VEVENT
BEGIN:VEVENT
DTSTAMP:20260423T095042Z
UID:0cbb56c3-ec1f-4dac-85a2-158f5751b1d3
DTSTART;TZID=Etc/UTC:20260502T173000
DTEND;TZID=Etc/UTC:20260502T183000
SUMMARY:Skewb Final
END:VEVENT
BEGIN:VEVENT
DTSTAMP:20260423T095042Z
UID:eaec61ae-3bc6-4988-8db6-969b27c77490
DTSTART;TZID=Etc/UTC:20260502T183000
DTEND;TZID=Etc/UTC:20260502T191500
SUMMARY:Clock First round
END:VEVENT
BEGIN:VEVENT
DTSTAMP:20260423T095042Z
UID:a9b43837-9e16-4ad0-a64d-896bb3a41b91
DTSTART;TZID=Etc/UTC:20260502T191500
DTEND;TZID=Etc/UTC:20260502T194500
SUMMARY:Submissão de cubos para 3x3x3 Multi-Blind
END:VEVENT
BEGIN:VEVENT
DTSTAMP:20260423T095042Z
UID:2c6b0e48-9638-4ba8-8ada-3d91d9622df3
DTSTART;TZID=Etc/UTC:20260502T191500
DTEND;TZID=Etc/UTC:20260502T194500
SUMMARY:4x4x4 Cube Final
END:VEVENT
BEGIN:VEVENT
DTSTAMP:20260423T095042Z
UID:c16f11ef-8762-4227-8165-2c7d63a22941
DTSTART;TZID=Etc/UTC:20260502T194500
DTEND;TZID=Etc/UTC:20260502T201500
SUMMARY:Pyraminx Final
END:VEVENT
BEGIN:VEVENT
DTSTAMP:20260423T095042Z
UID:46121a5d-e1fe-4cf1-a4f7-cf268957d9ff
DTSTART;TZID=Etc/UTC:20260502T201500
DTEND;TZID=Etc/UTC:20260502T204500
SUMMARY:Clock Final
END:VEVENT
BEGIN:VEVENT
DTSTAMP:20260423T095042Z
UID:5ee74f41-af70-4f79-b4bb-7bbf72bb459f
DTSTART;TZID=Etc/UTC:20260502T204500
DTEND;TZID=Etc/UTC:20260502T220000
SUMMARY:3x3x3 Multi-Blind Final (Attempt 1)
END:VEVENT
BEGIN:VEVENT
DTSTAMP:20260423T095042Z
UID:3f60af1a-4d2b-49b3-b540-87ce9deb72af
DTSTART;TZID=Etc/UTC:20260503T110000
DTEND;TZID=Etc/UTC:20260503T111500
SUMMARY:Tutorial para novos competidores
END:VEVENT
BEGIN:VEVENT
DTSTAMP:20260423T095042Z
UID:0c818c98-322b-476e-bc11-b8c178a47d2a
DTSTART;TZID=Etc/UTC:20260503T111500
DTEND;TZID=Etc/UTC:20260503T124500
SUMMARY:3x3x3 Cube First round
END:VEVENT
BEGIN:VEVENT
DTSTAMP:20260423T095042Z
UID:0a686c8d-1b4d-4606-abdc-03937edd444c
DTSTART;TZID=Etc/UTC:20260503T124500
DTEND;TZID=Etc/UTC:20260503T140000
SUMMARY:2x2x2 Cube First round
END:VEVENT
BEGIN:VEVENT
DTSTAMP:20260423T095042Z
UID:c7106b72-505e-41a5-88e0-932bf201b2bd
DTSTART;TZID=Etc/UTC:20260503T140000
DTEND;TZID=Etc/UTC:20260503T151500
SUMMARY:3x3x3 One-Handed First round
END:VEVENT
BEGIN:VEVENT
DTSTAMP:20260423T095042Z
UID:702bdb2f-f83f-41b6-886d-5df14a2bc28e
DTSTART;TZID=Etc/UTC:20260503T151500
DTEND;TZID=Etc/UTC:20260503T163000
SUMMARY:Almoço
END:VEVENT
BEGIN:VEVENT
DTSTAMP:20260423T095042Z
UID:569b4d83-496c-41f9-b0eb-c4726f7333ad
DTSTART;TZID=Etc/UTC:20260503T163000
DTEND;TZID=Etc/UTC:20260503T173000
SUMMARY:3x3x3 Cube Second round
END:VEVENT
BEGIN:VEVENT
DTSTAMP:20260423T095042Z
UID:512aed57-8d7d-4d17-afec-7a1d8d31b587
DTSTART;TZID=Etc/UTC:20260503T173000
DTEND;TZID=Etc/UTC:20260503T180000
SUMMARY:3x3x3 One-Handed Final
END:VEVENT
BEGIN:VEVENT
DTSTAMP:20260423T095042Z
UID:0e3ba734-eb73-4c52-9fd6-3761140527a8
DTSTART;TZID=Etc/UTC:20260503T180000
DTEND;TZID=Etc/UTC:20260503T183000
SUMMARY:2x2x2 Cube Final
END:VEVENT
BEGIN:VEVENT
DTSTAMP:20260423T095042Z
UID:ef9e5592-1cab-44e1-b067-b948bd8960cf
DTSTART;TZID=Etc/UTC:20260503T183000
DTEND;TZID=Etc/UTC:20260503T193000
SUMMARY:3x3x3 Cube Final
END:VEVENT
BEGIN:VEVENT
DTSTAMP:20260423T095042Z
UID:53b95739-a3cb-4dc1-88c0-6ecf5a4179c1
DTSTART;TZID=Etc/UTC:20260503T193000
DTEND;TZID=Etc/UTC:20260503T200000
SUMMARY:Premiação
END:VEVENT
END:VCALENDAR
