BEGIN:VCALENDAR
VERSION:2.0
PRODID:icalendar-ruby
CALSCALE:GREGORIAN
METHOD:PUBLISH
BEGIN:VEVENT
DTSTAMP:20260422T130615Z
UID:5d498342-fcee-4629-835e-c92181d58421
DTSTART;TZID=Etc/UTC:20260417T230000
DTEND;TZID=Etc/UTC:20260417T233000
SUMMARY:Check-in
END:VEVENT
BEGIN:VEVENT
DTSTAMP:20260422T130615Z
UID:97c13f09-829d-4edb-8639-5504caece9f4
DTSTART;TZID=Etc/UTC:20260417T233000
DTEND;TZID=Etc/UTC:20260418T003000
SUMMARY:3x3x3 Blindfolded First round
END:VEVENT
BEGIN:VEVENT
DTSTAMP:20260422T130615Z
UID:c885448f-659b-43ad-a9fd-68113f5b23a1
DTSTART;TZID=Etc/UTC:20260417T233000
DTEND;TZID=Etc/UTC:20260417T235000
SUMMARY:3x3x3 Blindfolded First round
END:VEVENT
BEGIN:VEVENT
DTSTAMP:20260422T130615Z
UID:020378e7-3f9e-4a03-a638-838fdf407ab7
DTSTART;TZID=Etc/UTC:20260417T235000
DTEND;TZID=Etc/UTC:20260418T001000
SUMMARY:3x3x3 Blindfolded First round
END:VEVENT
BEGIN:VEVENT
DTSTAMP:20260422T130615Z
UID:cc622868-9ae8-43c2-bfdd-18d0d49a8be1
DTSTART;TZID=Etc/UTC:20260418T001000
DTEND;TZID=Etc/UTC:20260418T003000
SUMMARY:3x3x3 Blindfolded First round
END:VEVENT
BEGIN:VEVENT
DTSTAMP:20260422T130615Z
UID:a81c5b7f-e6fa-4a8f-949b-fabb2bed90f1
DTSTART;TZID=Etc/UTC:20260418T003000
DTEND;TZID=Etc/UTC:20260418T013000
SUMMARY:Clock First round
END:VEVENT
BEGIN:VEVENT
DTSTAMP:20260422T130615Z
UID:0fb78379-b877-40fc-9192-f8be0cbbbce8
DTSTART;TZID=Etc/UTC:20260418T003000
DTEND;TZID=Etc/UTC:20260418T005000
SUMMARY:Clock First round
END:VEVENT
BEGIN:VEVENT
DTSTAMP:20260422T130615Z
UID:15fdc6fa-884f-444a-8ab8-983bc19f9a5c
DTSTART;TZID=Etc/UTC:20260418T005000
DTEND;TZID=Etc/UTC:20260418T011000
SUMMARY:Clock First round
END:VEVENT
BEGIN:VEVENT
DTSTAMP:20260422T130615Z
UID:990dba65-e5d6-499a-b8f0-257449ca7efa
DTSTART;TZID=Etc/UTC:20260418T011000
DTEND;TZID=Etc/UTC:20260418T013000
SUMMARY:Clock First round
END:VEVENT
BEGIN:VEVENT
DTSTAMP:20260422T130615Z
UID:6e96f28d-caed-4488-a932-bcc47674ffb7
DTSTART;TZID=Etc/UTC:20260418T013000
DTEND;TZID=Etc/UTC:20260418T021500
SUMMARY:Pyraminx First round
END:VEVENT
BEGIN:VEVENT
DTSTAMP:20260422T130615Z
UID:bd913cf5-49d1-4c8f-90d4-b41b0d309267
DTSTART;TZID=Etc/UTC:20260418T013000
DTEND;TZID=Etc/UTC:20260418T014500
SUMMARY:Pyraminx First round
END:VEVENT
BEGIN:VEVENT
DTSTAMP:20260422T130615Z
UID:3fdfceea-0e82-4380-920d-f397a5c1d17f
DTSTART;TZID=Etc/UTC:20260418T014500
DTEND;TZID=Etc/UTC:20260418T020000
SUMMARY:Pyraminx First round
END:VEVENT
BEGIN:VEVENT
DTSTAMP:20260422T130615Z
UID:31a9f151-7a6a-448f-b8fb-aac5031b544f
DTSTART;TZID=Etc/UTC:20260418T020000
DTEND;TZID=Etc/UTC:20260418T021500
SUMMARY:Pyraminx First round
END:VEVENT
BEGIN:VEVENT
DTSTAMP:20260422T130615Z
UID:d02533ba-d546-4ca1-8e0d-f57440e9e95f
DTSTART;TZID=Etc/UTC:20260418T021500
DTEND;TZID=Etc/UTC:20260418T031500
SUMMARY:Lunch
END:VEVENT
BEGIN:VEVENT
DTSTAMP:20260422T130615Z
UID:1720fe65-2f15-4305-9493-11c51aad32bf
DTSTART;TZID=Etc/UTC:20260418T031500
DTEND;TZID=Etc/UTC:20260418T041500
SUMMARY:3x3x3 One-Handed First round
END:VEVENT
BEGIN:VEVENT
DTSTAMP:20260422T130615Z
UID:65434f5b-5edd-4b6b-b1f5-ae61792702c2
DTSTART;TZID=Etc/UTC:20260418T031500
DTEND;TZID=Etc/UTC:20260418T033500
SUMMARY:3x3x3 One-Handed First round
END:VEVENT
BEGIN:VEVENT
DTSTAMP:20260422T130615Z
UID:61131de1-a791-4515-a0d7-dbd75fe9dd1d
DTSTART;TZID=Etc/UTC:20260418T033500
DTEND;TZID=Etc/UTC:20260418T035500
SUMMARY:3x3x3 One-Handed First round
END:VEVENT
BEGIN:VEVENT
DTSTAMP:20260422T130615Z
UID:1d246fcd-3b92-47c6-a6d8-5db34e2b66c8
DTSTART;TZID=Etc/UTC:20260418T035500
DTEND;TZID=Etc/UTC:20260418T041500
SUMMARY:3x3x3 One-Handed First round
END:VEVENT
BEGIN:VEVENT
DTSTAMP:20260422T130615Z
UID:338d6ba4-2078-4812-8aef-3df9e112c78f
DTSTART;TZID=Etc/UTC:20260418T041500
DTEND;TZID=Etc/UTC:20260418T050000
SUMMARY:Cube submission for 3x3x3 Multi-Blind
END:VEVENT
BEGIN:VEVENT
DTSTAMP:20260422T130615Z
UID:4102356d-ae71-4c36-8901-d59a3254a095
DTSTART;TZID=Etc/UTC:20260418T050000
DTEND;TZID=Etc/UTC:20260418T062000
SUMMARY:3x3x3 Multi-Blind Final (Attempt 1)
END:VEVENT
BEGIN:VEVENT
DTSTAMP:20260422T130615Z
UID:f48599a8-5a08-4ea0-9b25-38d3a00f1a4b
DTSTART;TZID=Etc/UTC:20260418T062000
DTEND;TZID=Etc/UTC:20260418T064000
SUMMARY:Cube submission for 3x3x3 Multi-Blind
END:VEVENT
BEGIN:VEVENT
DTSTAMP:20260422T130615Z
UID:a70e6601-08ca-42c3-84bf-a65e59973250
DTSTART;TZID=Etc/UTC:20260418T064000
DTEND;TZID=Etc/UTC:20260418T074000
SUMMARY:3x3x3 Multi-Blind Final (Attempt 2)
END:VEVENT
BEGIN:VEVENT
DTSTAMP:20260422T130615Z
UID:0adaa9ec-134b-4cc9-b4ac-c5cb59cd265d
DTSTART;TZID=Etc/UTC:20260418T230000
DTEND;TZID=Etc/UTC:20260419T010500
SUMMARY:4x4x4 Blindfolded Final
END:VEVENT
BEGIN:VEVENT
DTSTAMP:20260422T130615Z
UID:8c33ce7b-1e16-4796-ab9e-a0ad33bf7372
DTSTART;TZID=Etc/UTC:20260418T230000
DTEND;TZID=Etc/UTC:20260419T010500
SUMMARY:4x4x4 Blindfolded Final
END:VEVENT
BEGIN:VEVENT
DTSTAMP:20260422T130615Z
UID:2d31d528-edbc-4f2e-921d-56da05343120
DTSTART;TZID=Etc/UTC:20260418T230000
DTEND;TZID=Etc/UTC:20260419T010500
SUMMARY:5x5x5 Blindfolded Final
END:VEVENT
BEGIN:VEVENT
DTSTAMP:20260422T130615Z
UID:7870221e-ace3-4aae-b411-5e90f8d1cbfc
DTSTART;TZID=Etc/UTC:20260418T230000
DTEND;TZID=Etc/UTC:20260419T010500
SUMMARY:5x5x5 Blindfolded Final
END:VEVENT
BEGIN:VEVENT
DTSTAMP:20260422T130615Z
UID:04af6cf3-0136-4926-9eb4-5a6d136399a7
DTSTART;TZID=Etc/UTC:20260419T010500
DTEND;TZID=Etc/UTC:20260419T014500
SUMMARY:Clock Second round
END:VEVENT
BEGIN:VEVENT
DTSTAMP:20260422T130615Z
UID:0fbc563c-8c31-46e5-a244-54e509c7e22d
DTSTART;TZID=Etc/UTC:20260419T010500
DTEND;TZID=Etc/UTC:20260419T012500
SUMMARY:Clock Second round
END:VEVENT
BEGIN:VEVENT
DTSTAMP:20260422T130615Z
UID:27639654-d236-4558-a0c2-131e719b24a2
DTSTART;TZID=Etc/UTC:20260419T012500
DTEND;TZID=Etc/UTC:20260419T014500
SUMMARY:Clock Second round
END:VEVENT
BEGIN:VEVENT
DTSTAMP:20260422T130615Z
UID:54c1698f-fa22-4aa7-8aed-bac416a4f911
DTSTART;TZID=Etc/UTC:20260419T014500
DTEND;TZID=Etc/UTC:20260419T022500
SUMMARY:3x3x3 Blindfolded Second round
END:VEVENT
BEGIN:VEVENT
DTSTAMP:20260422T130615Z
UID:3549e86e-1e67-4f2c-a8f2-54d46a25f900
DTSTART;TZID=Etc/UTC:20260419T014500
DTEND;TZID=Etc/UTC:20260419T020500
SUMMARY:3x3x3 Blindfolded Second round
END:VEVENT
BEGIN:VEVENT
DTSTAMP:20260422T130615Z
UID:d8226ed4-11d7-4eac-91a5-a2dd04aebc12
DTSTART;TZID=Etc/UTC:20260419T020500
DTEND;TZID=Etc/UTC:20260419T022500
SUMMARY:3x3x3 Blindfolded Second round
END:VEVENT
BEGIN:VEVENT
DTSTAMP:20260422T130615Z
UID:08f60d16-6345-412c-9477-171b4a128d99
DTSTART;TZID=Etc/UTC:20260419T022500
DTEND;TZID=Etc/UTC:20260419T025500
SUMMARY:Pyraminx Second round
END:VEVENT
BEGIN:VEVENT
DTSTAMP:20260422T130615Z
UID:be130fd5-f7ff-4040-9f5b-c0580a0a1d5e
DTSTART;TZID=Etc/UTC:20260419T022500
DTEND;TZID=Etc/UTC:20260419T024000
SUMMARY:Pyraminx Second round
END:VEVENT
BEGIN:VEVENT
DTSTAMP:20260422T130615Z
UID:ea041998-661e-490f-93ff-ddc1f1c0ffe8
DTSTART;TZID=Etc/UTC:20260419T024000
DTEND;TZID=Etc/UTC:20260419T025500
SUMMARY:Pyraminx Second round
END:VEVENT
BEGIN:VEVENT
DTSTAMP:20260422T130615Z
UID:121096c1-95c4-4be7-821a-4494166daa07
DTSTART;TZID=Etc/UTC:20260419T025500
DTEND;TZID=Etc/UTC:20260419T035500
SUMMARY:Lunch
END:VEVENT
BEGIN:VEVENT
DTSTAMP:20260422T130615Z
UID:6a56515f-2db6-452b-ba40-994105f2660c
DTSTART;TZID=Etc/UTC:20260419T035500
DTEND;TZID=Etc/UTC:20260419T045500
SUMMARY:Square-1 First round
END:VEVENT
BEGIN:VEVENT
DTSTAMP:20260422T130615Z
UID:b30d6c56-e7e2-476f-97f3-db31e64d4ec9
DTSTART;TZID=Etc/UTC:20260419T035500
DTEND;TZID=Etc/UTC:20260419T041500
SUMMARY:Square-1 First round
END:VEVENT
BEGIN:VEVENT
DTSTAMP:20260422T130615Z
UID:b41e8acc-c7e8-4f03-80e7-5d27ef22c714
DTSTART;TZID=Etc/UTC:20260419T041500
DTEND;TZID=Etc/UTC:20260419T043500
SUMMARY:Square-1 First round
END:VEVENT
BEGIN:VEVENT
DTSTAMP:20260422T130615Z
UID:ee8c7c6b-c1d3-4b72-843f-548bcba28369
DTSTART;TZID=Etc/UTC:20260419T043500
DTEND;TZID=Etc/UTC:20260419T045500
SUMMARY:Square-1 First round
END:VEVENT
BEGIN:VEVENT
DTSTAMP:20260422T130615Z
UID:0a1a8f1e-0888-4bf7-bb92-569c173d9bf4
DTSTART;TZID=Etc/UTC:20260419T045500
DTEND;TZID=Etc/UTC:20260419T051500
SUMMARY:3x3x3 One-Handed Final
END:VEVENT
BEGIN:VEVENT
DTSTAMP:20260422T130615Z
UID:c1a25709-fbb1-4b9a-a362-6a032e52144a
DTSTART;TZID=Etc/UTC:20260419T045500
DTEND;TZID=Etc/UTC:20260419T051500
SUMMARY:3x3x3 One-Handed Final
END:VEVENT
BEGIN:VEVENT
DTSTAMP:20260422T130615Z
UID:f1518ce4-ff5c-4e58-ae4e-5af3bd252309
DTSTART;TZID=Etc/UTC:20260419T051500
DTEND;TZID=Etc/UTC:20260419T053500
SUMMARY:Clock Final
END:VEVENT
BEGIN:VEVENT
DTSTAMP:20260422T130615Z
UID:d2ba6d24-2347-463b-9f75-1eba110f60a2
DTSTART;TZID=Etc/UTC:20260419T051500
DTEND;TZID=Etc/UTC:20260419T053500
SUMMARY:Clock Final
END:VEVENT
BEGIN:VEVENT
DTSTAMP:20260422T130615Z
UID:79b50ed2-4827-48b8-95be-48d327c598f0
DTSTART;TZID=Etc/UTC:20260419T053500
DTEND;TZID=Etc/UTC:20260419T055000
SUMMARY:Pyraminx Final
END:VEVENT
BEGIN:VEVENT
DTSTAMP:20260422T130615Z
UID:17fa4fc0-f661-49f5-9dc3-b54400b6d416
DTSTART;TZID=Etc/UTC:20260419T053500
DTEND;TZID=Etc/UTC:20260419T055000
SUMMARY:Pyraminx Final
END:VEVENT
BEGIN:VEVENT
DTSTAMP:20260422T130615Z
UID:b210db26-788e-4ea5-b0ca-e4b5bbf2ba70
DTSTART;TZID=Etc/UTC:20260419T055000
DTEND;TZID=Etc/UTC:20260419T061000
SUMMARY:Square-1 Final
END:VEVENT
BEGIN:VEVENT
DTSTAMP:20260422T130615Z
UID:be63b95b-e2c9-4992-869c-05caea7170ac
DTSTART;TZID=Etc/UTC:20260419T055000
DTEND;TZID=Etc/UTC:20260419T061000
SUMMARY:Square-1 Final
END:VEVENT
BEGIN:VEVENT
DTSTAMP:20260422T130615Z
UID:8ea26dc4-4d28-4279-bf4d-29ec2c1e2218
DTSTART;TZID=Etc/UTC:20260419T061000
DTEND;TZID=Etc/UTC:20260419T063000
SUMMARY:3x3x3 Blindfolded Final
END:VEVENT
BEGIN:VEVENT
DTSTAMP:20260422T130615Z
UID:594780e1-31c1-4aa3-a15a-4dc35174cfd7
DTSTART;TZID=Etc/UTC:20260419T061000
DTEND;TZID=Etc/UTC:20260419T063000
SUMMARY:3x3x3 Blindfolded Final
END:VEVENT
BEGIN:VEVENT
DTSTAMP:20260422T130615Z
UID:b48bcf9a-ad4c-4520-a097-0ed9980fadc6
DTSTART;TZID=Etc/UTC:20260419T063000
DTEND;TZID=Etc/UTC:20260419T064500
SUMMARY:Teardown
END:VEVENT
BEGIN:VEVENT
DTSTAMP:20260422T130615Z
UID:6d49e0cb-72ea-4244-87e4-db7a7bd07010
DTSTART;TZID=Etc/UTC:20260419T064500
DTEND;TZID=Etc/UTC:20260419T070000
SUMMARY:Awards
END:VEVENT
END:VCALENDAR
