BEGIN:VCALENDAR
VERSION:2.0
PRODID:icalendar-ruby
CALSCALE:GREGORIAN
METHOD:PUBLISH
BEGIN:VEVENT
DTSTAMP:20260423T095112Z
UID:1a306f5f-0707-4347-b1d6-1ce6aa60f4b5
DTSTART;TZID=Etc/UTC:20260509T150000
DTEND;TZID=Etc/UTC:20260509T160000
SUMMARY:Check-in
END:VEVENT
BEGIN:VEVENT
DTSTAMP:20260423T095112Z
UID:fd737cd4-6aa4-4e10-ad12-20af09fdd639
DTSTART;TZID=Etc/UTC:20260509T153000
DTEND;TZID=Etc/UTC:20260509T160000
SUMMARY:Tutorial for new competitors
END:VEVENT
BEGIN:VEVENT
DTSTAMP:20260423T095112Z
UID:103dcdbd-eee5-4065-bbfa-1c5640020284
DTSTART;TZID=Etc/UTC:20260509T160000
DTEND;TZID=Etc/UTC:20260509T165500
SUMMARY:Megaminx First round
END:VEVENT
BEGIN:VEVENT
DTSTAMP:20260423T095112Z
UID:52270818-bd9e-48cb-ac3a-130238588562
DTSTART;TZID=Etc/UTC:20260509T165500
DTEND;TZID=Etc/UTC:20260509T175000
SUMMARY:Square-1 First round
END:VEVENT
BEGIN:VEVENT
DTSTAMP:20260423T095112Z
UID:41115a20-727c-479c-b342-282495e81db7
DTSTART;TZID=Etc/UTC:20260509T175000
DTEND;TZID=Etc/UTC:20260509T183500
SUMMARY:Clock First round
END:VEVENT
BEGIN:VEVENT
DTSTAMP:20260423T095112Z
UID:5d96caab-277a-4253-8583-3e34a055f6c4
DTSTART;TZID=Etc/UTC:20260509T183500
DTEND;TZID=Etc/UTC:20260509T192000
SUMMARY:3x3x3 One-Handed First round
END:VEVENT
BEGIN:VEVENT
DTSTAMP:20260423T095112Z
UID:aad4a80c-f41a-46c5-acaf-3606bea650bf
DTSTART;TZID=Etc/UTC:20260509T192000
DTEND;TZID=Etc/UTC:20260509T200500
SUMMARY:Lunch
END:VEVENT
BEGIN:VEVENT
DTSTAMP:20260423T095112Z
UID:954e9021-fa97-48d1-8d37-910a8f57e16e
DTSTART;TZID=Etc/UTC:20260509T200500
DTEND;TZID=Etc/UTC:20260509T205500
SUMMARY:Pyraminx First round
END:VEVENT
BEGIN:VEVENT
DTSTAMP:20260423T095112Z
UID:6f609c0f-bc88-42b7-9c0e-765fcdc5fa46
DTSTART;TZID=Etc/UTC:20260509T205500
DTEND;TZID=Etc/UTC:20260509T214500
SUMMARY:Skewb First round
END:VEVENT
BEGIN:VEVENT
DTSTAMP:20260423T095112Z
UID:07ef55b1-c6f9-4d46-b5c7-67c01b8d270f
DTSTART;TZID=Etc/UTC:20260509T214500
DTEND;TZID=Etc/UTC:20260509T221500
SUMMARY:Megaminx Final
END:VEVENT
BEGIN:VEVENT
DTSTAMP:20260423T095112Z
UID:96f2b8a7-6898-4bb9-b54f-ee018f6c1e4c
DTSTART;TZID=Etc/UTC:20260509T221500
DTEND;TZID=Etc/UTC:20260509T224000
SUMMARY:Square-1 Final
END:VEVENT
BEGIN:VEVENT
DTSTAMP:20260423T095112Z
UID:47ebe5dd-4701-43e6-8608-084bca27c652
DTSTART;TZID=Etc/UTC:20260509T224000
DTEND;TZID=Etc/UTC:20260509T230000
SUMMARY:Clock Final
END:VEVENT
BEGIN:VEVENT
DTSTAMP:20260423T095112Z
UID:1f60b849-eaae-4cce-a541-e1c745c073d7
DTSTART;TZID=Etc/UTC:20260509T230000
DTEND;TZID=Etc/UTC:20260509T232000
SUMMARY:3x3x3 One-Handed Final
END:VEVENT
BEGIN:VEVENT
DTSTAMP:20260423T095112Z
UID:c3cf6739-22d4-405f-bf28-87463a90628e
DTSTART;TZID=Etc/UTC:20260509T232000
DTEND;TZID=Etc/UTC:20260509T234000
SUMMARY:Pyraminx Final
END:VEVENT
BEGIN:VEVENT
DTSTAMP:20260423T095112Z
UID:f57d25e0-5786-4f6a-ab23-75959efa8525
DTSTART;TZID=Etc/UTC:20260509T234000
DTEND;TZID=Etc/UTC:20260510T000000
SUMMARY:Skewb Final
END:VEVENT
BEGIN:VEVENT
DTSTAMP:20260423T095112Z
UID:70c1ecd3-9670-4fa0-a307-2ea8d2995c9b
DTSTART;TZID=Etc/UTC:20260510T000000
DTEND;TZID=Etc/UTC:20260510T004500
SUMMARY:Awards/Cleanup
END:VEVENT
END:VCALENDAR
