BEGIN:VCALENDAR
VERSION:2.0
PRODID:icalendar-ruby
CALSCALE:GREGORIAN
METHOD:PUBLISH
BEGIN:VEVENT
DTSTAMP:20260423T161030Z
UID:931e1d88-1ca0-4efb-9d0b-1bd3e7d96d9f
DTSTART;TZID=Etc/UTC:20260418T133000
DTEND;TZID=Etc/UTC:20260418T140000
SUMMARY:Tutorial for new competitors
END:VEVENT
BEGIN:VEVENT
DTSTAMP:20260423T161030Z
UID:ffca759f-b2b4-40d3-a264-794d4974792b
DTSTART;TZID=Etc/UTC:20260418T140000
DTEND;TZID=Etc/UTC:20260418T150000
SUMMARY:3x3x3 Cube First round
END:VEVENT
BEGIN:VEVENT
DTSTAMP:20260423T161030Z
UID:ba1e8f78-b29f-4683-acd5-3708a23a37a0
DTSTART;TZID=Etc/UTC:20260418T140000
DTEND;TZID=Etc/UTC:20260418T142000
SUMMARY:3x3x3 Cube First round
END:VEVENT
BEGIN:VEVENT
DTSTAMP:20260423T161030Z
UID:f518db46-6011-40dc-91b5-443897b99c9b
DTSTART;TZID=Etc/UTC:20260418T142000
DTEND;TZID=Etc/UTC:20260418T144000
SUMMARY:3x3x3 Cube First round
END:VEVENT
BEGIN:VEVENT
DTSTAMP:20260423T161030Z
UID:bfef2394-2ac0-41fc-9ec2-0f3148ab1117
DTSTART;TZID=Etc/UTC:20260418T144000
DTEND;TZID=Etc/UTC:20260418T150000
SUMMARY:3x3x3 Cube First round
END:VEVENT
BEGIN:VEVENT
DTSTAMP:20260423T161030Z
UID:f439ca6d-28f9-4ab8-a8f6-e94a4a7587cc
DTSTART;TZID=Etc/UTC:20260418T150000
DTEND;TZID=Etc/UTC:20260418T160000
SUMMARY:2x2x2 Cube First round
END:VEVENT
BEGIN:VEVENT
DTSTAMP:20260423T161030Z
UID:05f781bd-b89c-40bc-a8ec-0c359dd1c2a1
DTSTART;TZID=Etc/UTC:20260418T150000
DTEND;TZID=Etc/UTC:20260418T153000
SUMMARY:2x2x2 Cube First round
END:VEVENT
BEGIN:VEVENT
DTSTAMP:20260423T161030Z
UID:16689065-1fa1-45b5-9c08-e42a2b6f9ea5
DTSTART;TZID=Etc/UTC:20260418T153000
DTEND;TZID=Etc/UTC:20260418T160000
SUMMARY:2x2x2 Cube First round
END:VEVENT
BEGIN:VEVENT
DTSTAMP:20260423T161030Z
UID:6f3d7a00-ecf2-45ff-8d76-33ce8d111fbb
DTSTART;TZID=Etc/UTC:20260418T160000
DTEND;TZID=Etc/UTC:20260418T170000
SUMMARY:Clock First round
END:VEVENT
BEGIN:VEVENT
DTSTAMP:20260423T161030Z
UID:8dccd5f8-27d8-4ca4-9d7f-9046092ad065
DTSTART;TZID=Etc/UTC:20260418T160000
DTEND;TZID=Etc/UTC:20260418T163000
SUMMARY:Clock First round
END:VEVENT
BEGIN:VEVENT
DTSTAMP:20260423T161030Z
UID:af4ccc16-a990-4476-a444-af32f59cb8e8
DTSTART;TZID=Etc/UTC:20260418T163000
DTEND;TZID=Etc/UTC:20260418T170000
SUMMARY:Clock First round
END:VEVENT
BEGIN:VEVENT
DTSTAMP:20260423T161030Z
UID:cc2d7e34-1fa7-4424-9c8e-ca3a88844c09
DTSTART;TZID=Etc/UTC:20260418T170000
DTEND;TZID=Etc/UTC:20260418T180000
SUMMARY:Lunch
END:VEVENT
BEGIN:VEVENT
DTSTAMP:20260423T161030Z
UID:955fd91b-da50-40a3-b231-75b3664309f0
DTSTART;TZID=Etc/UTC:20260418T180000
DTEND;TZID=Etc/UTC:20260418T190000
SUMMARY:4x4x4 Cube First round
END:VEVENT
BEGIN:VEVENT
DTSTAMP:20260423T161030Z
UID:f2bdbec3-a6b9-42e8-bcbe-9ec622dc4cd7
DTSTART;TZID=Etc/UTC:20260418T180000
DTEND;TZID=Etc/UTC:20260418T183000
SUMMARY:4x4x4 Cube First round
END:VEVENT
BEGIN:VEVENT
DTSTAMP:20260423T161030Z
UID:dbd6da8f-3076-4059-ba41-fa2c28053895
DTSTART;TZID=Etc/UTC:20260418T183000
DTEND;TZID=Etc/UTC:20260418T190000
SUMMARY:4x4x4 Cube First round
END:VEVENT
BEGIN:VEVENT
DTSTAMP:20260423T161030Z
UID:8e345e3b-6b13-453a-b553-7fb974c3889e
DTSTART;TZID=Etc/UTC:20260418T190000
DTEND;TZID=Etc/UTC:20260418T193000
SUMMARY:3x3x3 Cube Second round
END:VEVENT
BEGIN:VEVENT
DTSTAMP:20260423T161030Z
UID:647b62c8-13d0-401f-b690-669ad6ce0ecb
DTSTART;TZID=Etc/UTC:20260418T190000
DTEND;TZID=Etc/UTC:20260418T191500
SUMMARY:3x3x3 Cube Second round
END:VEVENT
BEGIN:VEVENT
DTSTAMP:20260423T161030Z
UID:f710c5a4-7b92-4032-9840-0740121ca456
DTSTART;TZID=Etc/UTC:20260418T191500
DTEND;TZID=Etc/UTC:20260418T193000
SUMMARY:3x3x3 Cube Second round
END:VEVENT
BEGIN:VEVENT
DTSTAMP:20260423T161030Z
UID:fccbeabd-9844-4804-b0b1-2831afc95698
DTSTART;TZID=Etc/UTC:20260418T193000
DTEND;TZID=Etc/UTC:20260418T200000
SUMMARY:2x2x2 Cube Final
END:VEVENT
BEGIN:VEVENT
DTSTAMP:20260423T161030Z
UID:657435d8-9e0f-4dbe-baf6-ca3ce7d13bef
DTSTART;TZID=Etc/UTC:20260418T193000
DTEND;TZID=Etc/UTC:20260418T200000
SUMMARY:2x2x2 Cube Final
END:VEVENT
BEGIN:VEVENT
DTSTAMP:20260423T161030Z
UID:7ba360de-a785-4a51-a815-57a66963f1cd
DTSTART;TZID=Etc/UTC:20260418T200000
DTEND;TZID=Etc/UTC:20260418T204500
SUMMARY:Megaminx Final
END:VEVENT
BEGIN:VEVENT
DTSTAMP:20260423T161030Z
UID:419caf6b-3d89-4ae7-82d1-d0da592ebfb4
DTSTART;TZID=Etc/UTC:20260418T200000
DTEND;TZID=Etc/UTC:20260418T202230
SUMMARY:Megaminx Final
END:VEVENT
BEGIN:VEVENT
DTSTAMP:20260423T161030Z
UID:ced63b83-e82f-46b8-a318-22121799b613
DTSTART;TZID=Etc/UTC:20260418T202230
DTEND;TZID=Etc/UTC:20260418T204500
SUMMARY:Megaminx Final
END:VEVENT
BEGIN:VEVENT
DTSTAMP:20260423T161030Z
UID:4176b029-4da6-4f23-8beb-50a69604df7f
DTSTART;TZID=Etc/UTC:20260418T204500
DTEND;TZID=Etc/UTC:20260418T211500
SUMMARY:Clock Final
END:VEVENT
BEGIN:VEVENT
DTSTAMP:20260423T161030Z
UID:b64e2e7b-6389-4ba2-bd14-71d61913fc9d
DTSTART;TZID=Etc/UTC:20260418T204500
DTEND;TZID=Etc/UTC:20260418T211500
SUMMARY:Clock Final
END:VEVENT
BEGIN:VEVENT
DTSTAMP:20260423T161030Z
UID:eab59de5-ffe5-4576-a52b-c2068e681fe3
DTSTART;TZID=Etc/UTC:20260418T211500
DTEND;TZID=Etc/UTC:20260418T214500
SUMMARY:4x4x4 Cube Final
END:VEVENT
BEGIN:VEVENT
DTSTAMP:20260423T161030Z
UID:0ee56f05-06b8-4c52-8e2f-abf4cb4a9669
DTSTART;TZID=Etc/UTC:20260418T211500
DTEND;TZID=Etc/UTC:20260418T214500
SUMMARY:4x4x4 Cube Final
END:VEVENT
BEGIN:VEVENT
DTSTAMP:20260423T161030Z
UID:e201c003-cc6a-4835-8948-d5b72c320b8a
DTSTART;TZID=Etc/UTC:20260418T214500
DTEND;TZID=Etc/UTC:20260418T221500
SUMMARY:3x3x3 Cube Final
END:VEVENT
BEGIN:VEVENT
DTSTAMP:20260423T161030Z
UID:90616348-e574-4aba-bbb6-f74066cfde44
DTSTART;TZID=Etc/UTC:20260418T214500
DTEND;TZID=Etc/UTC:20260418T221500
SUMMARY:3x3x3 Cube Final
END:VEVENT
END:VCALENDAR
