BEGIN:VCALENDAR
VERSION:2.0
PRODID:icalendar-ruby
CALSCALE:GREGORIAN
METHOD:PUBLISH
BEGIN:VEVENT
DTSTAMP:20260423T095042Z
UID:137f194e-2b31-4c2a-b293-b452f91588e8
DTSTART;TZID=Etc/UTC:20260606T113000
DTEND;TZID=Etc/UTC:20260606T120000
SUMMARY:Check-in
END:VEVENT
BEGIN:VEVENT
DTSTAMP:20260423T095042Z
UID:be16d0f3-1f57-40dd-a567-a826efeddfeb
DTSTART;TZID=Etc/UTC:20260606T120000
DTEND;TZID=Etc/UTC:20260606T122000
SUMMARY:Tutorial for new competitors
END:VEVENT
BEGIN:VEVENT
DTSTAMP:20260423T095042Z
UID:4d89d760-2a05-4d6e-a931-4602056d5247
DTSTART;TZID=Etc/UTC:20260606T122000
DTEND;TZID=Etc/UTC:20260606T134000
SUMMARY:3x3x3 Cube First round
END:VEVENT
BEGIN:VEVENT
DTSTAMP:20260423T095042Z
UID:e7ac1970-1a4e-440b-af60-447477c86c1b
DTSTART;TZID=Etc/UTC:20260606T134000
DTEND;TZID=Etc/UTC:20260606T145000
SUMMARY:Pyraminx First round
END:VEVENT
BEGIN:VEVENT
DTSTAMP:20260423T095042Z
UID:29bdce0b-f2fe-4e9f-b1fe-45c036a3b109
DTSTART;TZID=Etc/UTC:20260606T145000
DTEND;TZID=Etc/UTC:20260606T160000
SUMMARY:Skewb First round
END:VEVENT
BEGIN:VEVENT
DTSTAMP:20260423T095042Z
UID:86485636-a5ee-4a00-acae-83970c3f368e
DTSTART;TZID=Etc/UTC:20260606T160000
DTEND;TZID=Etc/UTC:20260606T165000
SUMMARY:Lunch
END:VEVENT
BEGIN:VEVENT
DTSTAMP:20260423T095042Z
UID:2a6e296f-a537-4882-8780-57e0ad8ee81f
DTSTART;TZID=Etc/UTC:20260606T165000
DTEND;TZID=Etc/UTC:20260606T174000
SUMMARY:3x3x3 Blindfolded Final
END:VEVENT
BEGIN:VEVENT
DTSTAMP:20260423T095042Z
UID:b2323aa3-5c4b-4fe5-a0d0-d238ed2e55da
DTSTART;TZID=Etc/UTC:20260606T174000
DTEND;TZID=Etc/UTC:20260606T184000
SUMMARY:3x3x3 One-Handed First round
END:VEVENT
BEGIN:VEVENT
DTSTAMP:20260423T095042Z
UID:e53d7c14-c8e8-44da-9b3d-266f3b9d4c20
DTSTART;TZID=Etc/UTC:20260606T184000
DTEND;TZID=Etc/UTC:20260606T193000
SUMMARY:3x3x3 Cube Second round
END:VEVENT
BEGIN:VEVENT
DTSTAMP:20260423T095042Z
UID:40dba4a5-33b5-452f-a009-57da87a7f0ac
DTSTART;TZID=Etc/UTC:20260606T193000
DTEND;TZID=Etc/UTC:20260606T203000
SUMMARY:5x5x5 Cube Final
END:VEVENT
BEGIN:VEVENT
DTSTAMP:20260423T095042Z
UID:9a855308-60ea-4a2b-ae77-d554f67ac687
DTSTART;TZID=Etc/UTC:20260606T203000
DTEND;TZID=Etc/UTC:20260606T205000
SUMMARY:Pyraminx Final
END:VEVENT
BEGIN:VEVENT
DTSTAMP:20260423T095042Z
UID:0c8b24f1-0a8c-4d66-977f-f1e00b1076ab
DTSTART;TZID=Etc/UTC:20260606T205000
DTEND;TZID=Etc/UTC:20260606T211000
SUMMARY:Skewb Final
END:VEVENT
BEGIN:VEVENT
DTSTAMP:20260423T095042Z
UID:4f954861-6d0c-42cf-b51e-9bb184466d7b
DTSTART;TZID=Etc/UTC:20260606T211000
DTEND;TZID=Etc/UTC:20260606T213000
SUMMARY:3x3x3 One-Handed Final
END:VEVENT
BEGIN:VEVENT
DTSTAMP:20260423T095042Z
UID:adb2eb2e-e723-4cee-b6e4-17cc03de737c
DTSTART;TZID=Etc/UTC:20260606T213000
DTEND;TZID=Etc/UTC:20260606T215000
SUMMARY:3x3x3 Cube Final
END:VEVENT
BEGIN:VEVENT
DTSTAMP:20260423T095042Z
UID:9323977e-166a-4faa-833f-8f986df4981b
DTSTART;TZID=Etc/UTC:20260606T215000
DTEND;TZID=Etc/UTC:20260606T221000
SUMMARY:Awards
END:VEVENT
END:VCALENDAR
