BEGIN:VCALENDAR
VERSION:2.0
PRODID:icalendar-ruby
CALSCALE:GREGORIAN
METHOD:PUBLISH
BEGIN:VEVENT
DTSTAMP:20260420T165438Z
UID:310d1056-8296-4f39-a74b-7dc28b79235e
DTSTART;TZID=Etc/UTC:20260412T124500
DTEND;TZID=Etc/UTC:20260412T132000
SUMMARY:Registro
END:VEVENT
BEGIN:VEVENT
DTSTAMP:20260420T165438Z
UID:5630fa1f-f80e-41e9-b314-d7ce4ed23bc7
DTSTART;TZID=Etc/UTC:20260412T132000
DTEND;TZID=Etc/UTC:20260412T144500
SUMMARY:3x3x3 Cube First round
END:VEVENT
BEGIN:VEVENT
DTSTAMP:20260420T165438Z
UID:40081760-6d36-4c2d-adcf-9da4fe848d7b
DTSTART;TZID=Etc/UTC:20260412T132000
DTEND;TZID=Etc/UTC:20260412T134115
SUMMARY:3x3x3 Cube First round
END:VEVENT
BEGIN:VEVENT
DTSTAMP:20260420T165438Z
UID:50f900bb-3a81-4cfd-bb3a-cb797b4bd508
DTSTART;TZID=Etc/UTC:20260412T134115
DTEND;TZID=Etc/UTC:20260412T140230
SUMMARY:3x3x3 Cube First round
END:VEVENT
BEGIN:VEVENT
DTSTAMP:20260420T165438Z
UID:816a97e2-39a5-4c51-9021-19e851fd3843
DTSTART;TZID=Etc/UTC:20260412T140230
DTEND;TZID=Etc/UTC:20260412T142345
SUMMARY:3x3x3 Cube First round
END:VEVENT
BEGIN:VEVENT
DTSTAMP:20260420T165438Z
UID:040f3e15-43c2-4c07-8bd9-45fb99d4fa85
DTSTART;TZID=Etc/UTC:20260412T142345
DTEND;TZID=Etc/UTC:20260412T144500
SUMMARY:3x3x3 Cube First round
END:VEVENT
BEGIN:VEVENT
DTSTAMP:20260420T165438Z
UID:5b820af8-ed06-4739-9865-85d4ca4b22dd
DTSTART;TZID=Etc/UTC:20260412T144500
DTEND;TZID=Etc/UTC:20260412T153000
SUMMARY:Pyraminx First round
END:VEVENT
BEGIN:VEVENT
DTSTAMP:20260420T165438Z
UID:4e36f53c-fb21-4e3d-9b43-89a58a90aad0
DTSTART;TZID=Etc/UTC:20260412T144500
DTEND;TZID=Etc/UTC:20260412T150000
SUMMARY:Pyraminx First round
END:VEVENT
BEGIN:VEVENT
DTSTAMP:20260420T165438Z
UID:eb5e3b4e-b822-4b4e-a5bc-906312988cd4
DTSTART;TZID=Etc/UTC:20260412T150000
DTEND;TZID=Etc/UTC:20260412T151500
SUMMARY:Pyraminx First round
END:VEVENT
BEGIN:VEVENT
DTSTAMP:20260420T165438Z
UID:23afaae8-35e5-4570-954a-3e9049745c54
DTSTART;TZID=Etc/UTC:20260412T151500
DTEND;TZID=Etc/UTC:20260412T153000
SUMMARY:Pyraminx First round
END:VEVENT
BEGIN:VEVENT
DTSTAMP:20260420T165438Z
UID:5ce32ecf-7f3d-44b7-9f83-8cfc4801eff7
DTSTART;TZID=Etc/UTC:20260412T153000
DTEND;TZID=Etc/UTC:20260412T161500
SUMMARY:Clock First round
END:VEVENT
BEGIN:VEVENT
DTSTAMP:20260420T165438Z
UID:35c594ac-5ad3-4e2e-a17f-a1b0f68b3e9f
DTSTART;TZID=Etc/UTC:20260412T153000
DTEND;TZID=Etc/UTC:20260412T155230
SUMMARY:Clock First round
END:VEVENT
BEGIN:VEVENT
DTSTAMP:20260420T165438Z
UID:9051be0a-4923-4ce6-8aff-4020080ccce2
DTSTART;TZID=Etc/UTC:20260412T155230
DTEND;TZID=Etc/UTC:20260412T161500
SUMMARY:Clock First round
END:VEVENT
BEGIN:VEVENT
DTSTAMP:20260420T165438Z
UID:65d4a5c9-fb5d-4fd4-899c-07caec87c760
DTSTART;TZID=Etc/UTC:20260412T161500
DTEND;TZID=Etc/UTC:20260412T172000
SUMMARY:Almuerzo
END:VEVENT
BEGIN:VEVENT
DTSTAMP:20260420T165438Z
UID:4d8d2029-fe7a-4548-9f84-0642f986020f
DTSTART;TZID=Etc/UTC:20260412T172000
DTEND;TZID=Etc/UTC:20260412T180000
SUMMARY:3x3x3 Cube Second round
END:VEVENT
BEGIN:VEVENT
DTSTAMP:20260420T165438Z
UID:52451636-5fe6-459f-89c5-d4d034e1f3db
DTSTART;TZID=Etc/UTC:20260412T172000
DTEND;TZID=Etc/UTC:20260412T173320
SUMMARY:3x3x3 Cube Second round
END:VEVENT
BEGIN:VEVENT
DTSTAMP:20260420T165438Z
UID:19853dbc-a42e-4be5-95d4-2f9b658115f4
DTSTART;TZID=Etc/UTC:20260412T173320
DTEND;TZID=Etc/UTC:20260412T174640
SUMMARY:3x3x3 Cube Second round
END:VEVENT
BEGIN:VEVENT
DTSTAMP:20260420T165438Z
UID:07891d5b-4193-43d1-ba72-ea7d9aa654e4
DTSTART;TZID=Etc/UTC:20260412T174640
DTEND;TZID=Etc/UTC:20260412T180000
SUMMARY:3x3x3 Cube Second round
END:VEVENT
BEGIN:VEVENT
DTSTAMP:20260420T165438Z
UID:0535f3d0-0d87-4ef1-b075-7abc82881ac6
DTSTART;TZID=Etc/UTC:20260412T180000
DTEND;TZID=Etc/UTC:20260412T184000
SUMMARY:3x3x3 One-Handed First round
END:VEVENT
BEGIN:VEVENT
DTSTAMP:20260420T165438Z
UID:21bff8e6-229c-4bbd-a05c-af3aa2a362ec
DTSTART;TZID=Etc/UTC:20260412T180000
DTEND;TZID=Etc/UTC:20260412T182000
SUMMARY:3x3x3 One-Handed First round
END:VEVENT
BEGIN:VEVENT
DTSTAMP:20260420T165438Z
UID:9e77126e-8720-486b-866d-23efb3f09a44
DTSTART;TZID=Etc/UTC:20260412T182000
DTEND;TZID=Etc/UTC:20260412T184000
SUMMARY:3x3x3 One-Handed First round
END:VEVENT
BEGIN:VEVENT
DTSTAMP:20260420T165438Z
UID:862e8a5f-f6dc-483e-a7a6-b988036a256a
DTSTART;TZID=Etc/UTC:20260412T184000
DTEND;TZID=Etc/UTC:20260412T190000
SUMMARY:Pyraminx Final
END:VEVENT
BEGIN:VEVENT
DTSTAMP:20260420T165438Z
UID:c1d4a96f-c349-4933-aceb-228892d15da3
DTSTART;TZID=Etc/UTC:20260412T184000
DTEND;TZID=Etc/UTC:20260412T185000
SUMMARY:Pyraminx Final
END:VEVENT
BEGIN:VEVENT
DTSTAMP:20260420T165438Z
UID:d96b81bb-5332-4e7d-baf9-bec140cf411b
DTSTART;TZID=Etc/UTC:20260412T185000
DTEND;TZID=Etc/UTC:20260412T190000
SUMMARY:Pyraminx Final
END:VEVENT
BEGIN:VEVENT
DTSTAMP:20260420T165438Z
UID:bca02afe-de9f-45da-855d-6be9fda4f418
DTSTART;TZID=Etc/UTC:20260412T190000
DTEND;TZID=Etc/UTC:20260412T192000
SUMMARY:Clock Final
END:VEVENT
BEGIN:VEVENT
DTSTAMP:20260420T165438Z
UID:0a2cd503-8c9c-4431-bab6-378193b60220
DTSTART;TZID=Etc/UTC:20260412T190000
DTEND;TZID=Etc/UTC:20260412T192000
SUMMARY:Clock Final
END:VEVENT
BEGIN:VEVENT
DTSTAMP:20260420T165438Z
UID:7e3568ca-1bd7-424f-a55b-2110b70a487a
DTSTART;TZID=Etc/UTC:20260412T192000
DTEND;TZID=Etc/UTC:20260412T194000
SUMMARY:3x3x3 One-Handed Final
END:VEVENT
BEGIN:VEVENT
DTSTAMP:20260420T165438Z
UID:03c93803-18fb-4a7d-9f8b-dbbe9ecffa71
DTSTART;TZID=Etc/UTC:20260412T192000
DTEND;TZID=Etc/UTC:20260412T194000
SUMMARY:3x3x3 One-Handed Final
END:VEVENT
BEGIN:VEVENT
DTSTAMP:20260420T165438Z
UID:92603b77-0798-47b6-b298-85e632535b0e
DTSTART;TZID=Etc/UTC:20260412T194000
DTEND;TZID=Etc/UTC:20260412T201000
SUMMARY:3x3x3 Cube Final
END:VEVENT
BEGIN:VEVENT
DTSTAMP:20260420T165438Z
UID:49d0cc2f-0a6e-4a24-9574-7366c19cfb1f
DTSTART;TZID=Etc/UTC:20260412T194000
DTEND;TZID=Etc/UTC:20260412T201000
SUMMARY:3x3x3 Cube Final
END:VEVENT
BEGIN:VEVENT
DTSTAMP:20260420T165438Z
UID:9ad55ee7-f198-4d39-9132-1031a86d719e
DTSTART;TZID=Etc/UTC:20260412T201000
DTEND;TZID=Etc/UTC:20260412T204000
SUMMARY:Premiación
END:VEVENT
END:VCALENDAR
