BEGIN:VCALENDAR
VERSION:2.0
PRODID:icalendar-ruby
CALSCALE:GREGORIAN
METHOD:PUBLISH
BEGIN:VEVENT
DTSTAMP:20260423T095041Z
UID:65e73352-8312-4d1a-9089-138a9bc5bf0e
DTSTART;TZID=Etc/UTC:20260425T120000
DTEND;TZID=Etc/UTC:20260425T124500
SUMMARY:4x4x4 Cube Final
END:VEVENT
BEGIN:VEVENT
DTSTAMP:20260423T095041Z
UID:ae3f61c1-a01f-4022-a350-0ddabb4b41a0
DTSTART;TZID=Etc/UTC:20260425T124500
DTEND;TZID=Etc/UTC:20260425T133000
SUMMARY:3x3x3 One-Handed Final
END:VEVENT
BEGIN:VEVENT
DTSTAMP:20260423T095041Z
UID:89bc743e-0be7-41b7-b334-d98e440f1ace
DTSTART;TZID=Etc/UTC:20260425T133000
DTEND;TZID=Etc/UTC:20260425T143000
SUMMARY:Pyraminx Final
END:VEVENT
BEGIN:VEVENT
DTSTAMP:20260423T095041Z
UID:d10222d5-7fe9-496c-a071-3db5c9b079d8
DTSTART;TZID=Etc/UTC:20260425T143000
DTEND;TZID=Etc/UTC:20260425T153000
SUMMARY:Almoço
END:VEVENT
BEGIN:VEVENT
DTSTAMP:20260423T095041Z
UID:36b5a78e-ad15-477e-a4bd-441ad34a76cd
DTSTART;TZID=Etc/UTC:20260425T153000
DTEND;TZID=Etc/UTC:20260425T160000
SUMMARY:Tutorial para novos competidores
END:VEVENT
BEGIN:VEVENT
DTSTAMP:20260423T095041Z
UID:e4a1ce95-f829-4467-898f-581dbfa72773
DTSTART;TZID=Etc/UTC:20260425T160000
DTEND;TZID=Etc/UTC:20260425T173000
SUMMARY:3x3x3 Cube First round
END:VEVENT
BEGIN:VEVENT
DTSTAMP:20260423T095041Z
UID:e907f304-fb01-41c1-8dae-f5f2cb0ad341
DTSTART;TZID=Etc/UTC:20260425T173000
DTEND;TZID=Etc/UTC:20260425T183000
SUMMARY:2x2x2 Cube First round
END:VEVENT
BEGIN:VEVENT
DTSTAMP:20260423T095041Z
UID:b3f1aaad-5a48-4aa0-8e94-5469c2b7d348
DTSTART;TZID=Etc/UTC:20260425T183000
DTEND;TZID=Etc/UTC:20260425T191500
SUMMARY:3x3x3 Cube Second round
END:VEVENT
BEGIN:VEVENT
DTSTAMP:20260423T095041Z
UID:6b5b9e58-1431-4773-88d7-384bbb0ffe5e
DTSTART;TZID=Etc/UTC:20260425T191500
DTEND;TZID=Etc/UTC:20260425T200000
SUMMARY:2x2x2 Cube Final
END:VEVENT
BEGIN:VEVENT
DTSTAMP:20260423T095041Z
UID:fd05ec56-885a-4cdd-9e34-360b0c3d10f6
DTSTART;TZID=Etc/UTC:20260425T200000
DTEND;TZID=Etc/UTC:20260425T204500
SUMMARY:3x3x3 Cube Final
END:VEVENT
BEGIN:VEVENT
DTSTAMP:20260423T095041Z
UID:460515bb-bcbe-4dad-9566-e8d508ac4fef
DTSTART;TZID=Etc/UTC:20260425T204500
DTEND;TZID=Etc/UTC:20260425T211500
SUMMARY:Premiação
END:VEVENT
END:VCALENDAR
