BEGIN:VCALENDAR
VERSION:2.0
PRODID:icalendar-ruby
CALSCALE:GREGORIAN
METHOD:PUBLISH
BEGIN:VEVENT
DTSTAMP:20260421T083240Z
UID:7d70042c-9eba-4f20-84d8-f1f8c34abd50
DTSTART;TZID=Etc/UTC:20260523T000000
DTEND;TZID=Etc/UTC:20260523T023000
SUMMARY:Check-in
END:VEVENT
BEGIN:VEVENT
DTSTAMP:20260421T083240Z
UID:8602f0e1-c02e-4b78-b5c5-a6e62114b511
DTSTART;TZID=Etc/UTC:20260523T003000
DTEND;TZID=Etc/UTC:20260523T012000
SUMMARY:2x2x2 Cube First round
END:VEVENT
BEGIN:VEVENT
DTSTAMP:20260421T083240Z
UID:f7bd8d53-bb4b-48d1-8a23-ae9c9573b563
DTSTART;TZID=Etc/UTC:20260523T012000
DTEND;TZID=Etc/UTC:20260523T025000
SUMMARY:3x3x3 Cube First round
END:VEVENT
BEGIN:VEVENT
DTSTAMP:20260421T083240Z
UID:c68da0e2-9d23-4443-8846-4833f37eaad6
DTSTART;TZID=Etc/UTC:20260523T025000
DTEND;TZID=Etc/UTC:20260523T033000
SUMMARY:Pyraminx First round
END:VEVENT
BEGIN:VEVENT
DTSTAMP:20260421T083240Z
UID:15da13e3-7192-430e-ac01-9658f3a793b1
DTSTART;TZID=Etc/UTC:20260523T033000
DTEND;TZID=Etc/UTC:20260523T040000
SUMMARY:Skewb First round
END:VEVENT
BEGIN:VEVENT
DTSTAMP:20260421T083240Z
UID:3d53c34b-05b8-4806-9804-2e6b6f249168
DTSTART;TZID=Etc/UTC:20260523T040000
DTEND;TZID=Etc/UTC:20260523T053000
SUMMARY:Lunch
END:VEVENT
BEGIN:VEVENT
DTSTAMP:20260421T083240Z
UID:156b2ff6-50d7-4aa9-b46c-c373cd2f3b3c
DTSTART;TZID=Etc/UTC:20260523T041000
DTEND;TZID=Etc/UTC:20260523T043000
SUMMARY:Awards
END:VEVENT
BEGIN:VEVENT
DTSTAMP:20260421T083240Z
UID:3952d085-1f2b-4877-8e78-46a2607b4296
DTSTART;TZID=Etc/UTC:20260523T053000
DTEND;TZID=Etc/UTC:20260523T062000
SUMMARY:3x3x3 Cube Second round
END:VEVENT
BEGIN:VEVENT
DTSTAMP:20260421T083240Z
UID:feefc09c-c745-4a26-a911-b581ec766a87
DTSTART;TZID=Etc/UTC:20260523T062000
DTEND;TZID=Etc/UTC:20260523T064000
SUMMARY:2x2x2 Cube Second round
END:VEVENT
BEGIN:VEVENT
DTSTAMP:20260421T083240Z
UID:de045fe5-4833-4b4d-a308-148b844587b5
DTSTART;TZID=Etc/UTC:20260523T064000
DTEND;TZID=Etc/UTC:20260523T070000
SUMMARY:Pyraminx Second round
END:VEVENT
BEGIN:VEVENT
DTSTAMP:20260421T083240Z
UID:d599b56f-9f06-4be0-b03d-62c540199d9b
DTSTART;TZID=Etc/UTC:20260523T070000
DTEND;TZID=Etc/UTC:20260523T072000
SUMMARY:3x3x3 Cube Semi Final
END:VEVENT
BEGIN:VEVENT
DTSTAMP:20260421T083240Z
UID:9906540b-638a-4e1d-8fe2-3421fc84bb5e
DTSTART;TZID=Etc/UTC:20260523T072000
DTEND;TZID=Etc/UTC:20260523T080000
SUMMARY:3x3x3 Blindfolded Final
END:VEVENT
BEGIN:VEVENT
DTSTAMP:20260421T083240Z
UID:65cc0ce0-678c-4da9-ab01-153741c6bf65
DTSTART;TZID=Etc/UTC:20260523T080000
DTEND;TZID=Etc/UTC:20260523T083000
SUMMARY:Clock Final
END:VEVENT
BEGIN:VEVENT
DTSTAMP:20260421T083240Z
UID:a50334a9-2966-43da-bc03-808cdb20e376
DTSTART;TZID=Etc/UTC:20260523T083000
DTEND;TZID=Etc/UTC:20260523T085000
SUMMARY:Skewb Final
END:VEVENT
BEGIN:VEVENT
DTSTAMP:20260421T083240Z
UID:9d1d90fc-6b28-4778-aa90-31c781bca99f
DTSTART;TZID=Etc/UTC:20260523T085000
DTEND;TZID=Etc/UTC:20260523T091000
SUMMARY:2x2x2 Cube Final
END:VEVENT
BEGIN:VEVENT
DTSTAMP:20260421T083240Z
UID:39a4f3d1-91d6-48f0-8b1b-53870846147e
DTSTART;TZID=Etc/UTC:20260523T091000
DTEND;TZID=Etc/UTC:20260523T093000
SUMMARY:Pyraminx Final
END:VEVENT
BEGIN:VEVENT
DTSTAMP:20260421T083240Z
UID:f25530b2-31ca-46fb-9212-22c141e71569
DTSTART;TZID=Etc/UTC:20260523T093000
DTEND;TZID=Etc/UTC:20260523T095000
SUMMARY:3x3x3 Cube Final
END:VEVENT
BEGIN:VEVENT
DTSTAMP:20260421T083240Z
UID:658d8a5b-4f17-4714-8905-076fc6cee5af
DTSTART;TZID=Etc/UTC:20260523T100000
DTEND;TZID=Etc/UTC:20260523T102000
SUMMARY:Awards
END:VEVENT
END:VCALENDAR
