BEGIN:VCALENDAR
VERSION:2.0
PRODID:icalendar-ruby
CALSCALE:GREGORIAN
METHOD:PUBLISH
BEGIN:VEVENT
DTSTAMP:20260421T163532Z
UID:c8598099-3369-4976-a5e5-5f277f6612d8
DTSTART;TZID=Etc/UTC:20260516T000000
DTEND;TZID=Etc/UTC:20260516T003000
SUMMARY:체크인 - 상시 운영 (Check-in - Always Open)
END:VEVENT
BEGIN:VEVENT
DTSTAMP:20260421T163532Z
UID:e8408e7e-1556-4d40-ada8-e20ac2a236e0
DTSTART;TZID=Etc/UTC:20260516T003000
DTEND;TZID=Etc/UTC:20260516T013000
SUMMARY:6x6x6 Cube First round
END:VEVENT
BEGIN:VEVENT
DTSTAMP:20260421T163532Z
UID:aac096f6-36ab-4917-92d9-cc7a2b74086f
DTSTART;TZID=Etc/UTC:20260516T013000
DTEND;TZID=Etc/UTC:20260516T023000
SUMMARY:3x3x3 One-Handed First round
END:VEVENT
BEGIN:VEVENT
DTSTAMP:20260421T163532Z
UID:9d056a32-7ade-4fed-8717-d1d97f38a7fc
DTSTART;TZID=Etc/UTC:20260516T023000
DTEND;TZID=Etc/UTC:20260516T032000
SUMMARY:3x3x3 Blindfolded First round
END:VEVENT
BEGIN:VEVENT
DTSTAMP:20260421T163532Z
UID:842fe3ab-85c8-47db-8319-6e98058fc27c
DTSTART;TZID=Etc/UTC:20260516T032000
DTEND;TZID=Etc/UTC:20260516T042000
SUMMARY:점심 식사 (Lunch)
END:VEVENT
BEGIN:VEVENT
DTSTAMP:20260421T163532Z
UID:ddabd5e8-2be6-49b3-b4da-d789df953667
DTSTART;TZID=Etc/UTC:20260516T042000
DTEND;TZID=Etc/UTC:20260516T054000
SUMMARY:5x5x5 Cube First round
END:VEVENT
BEGIN:VEVENT
DTSTAMP:20260421T163532Z
UID:2f9f9cf7-6ae7-4f11-83a7-c479b052f94a
DTSTART;TZID=Etc/UTC:20260516T054000
DTEND;TZID=Etc/UTC:20260516T062000
SUMMARY:3x3x3 One-Handed Second round
END:VEVENT
BEGIN:VEVENT
DTSTAMP:20260421T163532Z
UID:a684bf38-3ea3-47fd-9237-ac1e777f840d
DTSTART;TZID=Etc/UTC:20260516T062000
DTEND;TZID=Etc/UTC:20260516T071000
SUMMARY:Skewb First round
END:VEVENT
BEGIN:VEVENT
DTSTAMP:20260421T163532Z
UID:a7b0b8f2-edac-4a69-af2a-3738f5227db6
DTSTART;TZID=Etc/UTC:20260516T072000
DTEND;TZID=Etc/UTC:20260516T075000
SUMMARY:6x6x6 Cube Final
END:VEVENT
BEGIN:VEVENT
DTSTAMP:20260421T163532Z
UID:4c474125-1663-49a3-8499-9f022f7cccf6
DTSTART;TZID=Etc/UTC:20260516T075000
DTEND;TZID=Etc/UTC:20260516T082000
SUMMARY:5x5x5 Cube Final
END:VEVENT
BEGIN:VEVENT
DTSTAMP:20260421T163532Z
UID:3737f314-6454-4784-ac02-2d8a2983ca70
DTSTART;TZID=Etc/UTC:20260516T082000
DTEND;TZID=Etc/UTC:20260516T084000
SUMMARY:3x3x3 One-Handed Final
END:VEVENT
BEGIN:VEVENT
DTSTAMP:20260421T163532Z
UID:f589f8b3-3f58-4e1b-a7da-22583cfbd9db
DTSTART;TZID=Etc/UTC:20260516T084000
DTEND;TZID=Etc/UTC:20260516T090000
SUMMARY:3x3x3 Blindfolded Final
END:VEVENT
BEGIN:VEVENT
DTSTAMP:20260421T163532Z
UID:c4659db2-4891-45c6-904e-e6c0ecb33873
DTSTART;TZID=Etc/UTC:20260516T090000
DTEND;TZID=Etc/UTC:20260516T092000
SUMMARY:Skewb Final
END:VEVENT
BEGIN:VEVENT
DTSTAMP:20260421T163532Z
UID:6f1597e8-8cfb-4aaa-9950-a40e12310894
DTSTART;TZID=Etc/UTC:20260516T092000
DTEND;TZID=Etc/UTC:20260516T095000
SUMMARY:시상식 (Awards)
END:VEVENT
BEGIN:VEVENT
DTSTAMP:20260421T163532Z
UID:381d141d-c063-401d-90b2-0b04b1ed0bc5
DTSTART;TZID=Etc/UTC:20260516T233000
DTEND;TZID=Etc/UTC:20260517T000000
SUMMARY:체크인 - 상시 운영 (Check-in - Always Open)
END:VEVENT
BEGIN:VEVENT
DTSTAMP:20260421T163532Z
UID:e870a14c-3ad5-4f86-aa47-787a64ab6a27
DTSTART;TZID=Etc/UTC:20260517T000000
DTEND;TZID=Etc/UTC:20260517T013000
SUMMARY:4x4x4 Cube First round
END:VEVENT
BEGIN:VEVENT
DTSTAMP:20260421T163532Z
UID:e13a92c7-47cb-476a-af69-a14c3f1324d3
DTSTART;TZID=Etc/UTC:20260517T013000
DTEND;TZID=Etc/UTC:20260517T014500
SUMMARY:첫 참가자를 위한 안내 (Tutorial for new competitors)
END:VEVENT
BEGIN:VEVENT
DTSTAMP:20260421T163532Z
UID:124f753b-8020-4a74-872f-1973476705c7
DTSTART;TZID=Etc/UTC:20260517T014500
DTEND;TZID=Etc/UTC:20260517T031500
SUMMARY:3x3x3 Cube First round
END:VEVENT
BEGIN:VEVENT
DTSTAMP:20260421T163532Z
UID:a24eee08-fa35-4160-be7e-db195852387e
DTSTART;TZID=Etc/UTC:20260517T031500
DTEND;TZID=Etc/UTC:20260517T041500
SUMMARY:점심 식사 (Lunch)
END:VEVENT
BEGIN:VEVENT
DTSTAMP:20260421T163532Z
UID:61db8f9f-5956-4169-9a52-bbaf02341c11
DTSTART;TZID=Etc/UTC:20260517T041500
DTEND;TZID=Etc/UTC:20260517T051500
SUMMARY:Pyraminx First round
END:VEVENT
BEGIN:VEVENT
DTSTAMP:20260421T163532Z
UID:000dcee2-3462-478a-8714-def5fc36064d
DTSTART;TZID=Etc/UTC:20260517T051500
DTEND;TZID=Etc/UTC:20260517T061500
SUMMARY:3x3x3 Cube Second round
END:VEVENT
BEGIN:VEVENT
DTSTAMP:20260421T163532Z
UID:a32d0b1b-dfce-4bdb-8bb3-451325a43997
DTSTART;TZID=Etc/UTC:20260517T061500
DTEND;TZID=Etc/UTC:20260517T070000
SUMMARY:4x4x4 Cube Second round
END:VEVENT
BEGIN:VEVENT
DTSTAMP:20260421T163532Z
UID:c4ca68f3-2e08-4eea-9adc-89eb166c97c8
DTSTART;TZID=Etc/UTC:20260517T071000
DTEND;TZID=Etc/UTC:20260517T073000
SUMMARY:Pyraminx Final
END:VEVENT
BEGIN:VEVENT
DTSTAMP:20260421T163532Z
UID:54900bac-04a0-414a-b6e0-95350c9c923f
DTSTART;TZID=Etc/UTC:20260517T073000
DTEND;TZID=Etc/UTC:20260517T080000
SUMMARY:4x4x4 Cube Final
END:VEVENT
BEGIN:VEVENT
DTSTAMP:20260421T163532Z
UID:334a50ab-2212-468f-b024-ee79d07087f7
DTSTART;TZID=Etc/UTC:20260517T080000
DTEND;TZID=Etc/UTC:20260517T083000
SUMMARY:3x3x3 Cube Final
END:VEVENT
BEGIN:VEVENT
DTSTAMP:20260421T163532Z
UID:cb20a027-4d41-4390-b4b7-fa33a40dc9d4
DTSTART;TZID=Etc/UTC:20260517T083000
DTEND;TZID=Etc/UTC:20260517T090000
SUMMARY:시상식 (Awards)
END:VEVENT
BEGIN:VEVENT
DTSTAMP:20260421T163532Z
UID:1456209c-39b7-4b7d-bb26-971490cf0b0d
DTSTART;TZID=Etc/UTC:20260517T090000
DTEND;TZID=Etc/UTC:20260517T095000
SUMMARY:행사 정리 (Teardown)
END:VEVENT
END:VCALENDAR
