BEGIN:VCALENDAR
VERSION:2.0
PRODID:icalendar-ruby
CALSCALE:GREGORIAN
METHOD:PUBLISH
BEGIN:VEVENT
DTSTAMP:20260423T095041Z
UID:cdb9755d-05b2-4bf1-abec-aaf0e90f25f6
DTSTART;TZID=Etc/UTC:20260523T073000
DTEND;TZID=Etc/UTC:20260523T080000
SUMMARY:Registro
END:VEVENT
BEGIN:VEVENT
DTSTAMP:20260423T095041Z
UID:72c03c99-731a-4249-9bb1-3fd187c9bdbb
DTSTART;TZID=Etc/UTC:20260523T074500
DTEND;TZID=Etc/UTC:20260523T080000
SUMMARY:Tutorial para nuevos competidores
END:VEVENT
BEGIN:VEVENT
DTSTAMP:20260423T095041Z
UID:eef40a35-616b-42d2-87b3-3e7594d3c0b4
DTSTART;TZID=Etc/UTC:20260523T080000
DTEND;TZID=Etc/UTC:20260523T091500
SUMMARY:3x3x3 Cube First round
END:VEVENT
BEGIN:VEVENT
DTSTAMP:20260423T095041Z
UID:005631f9-cfe4-427b-bde3-1e06550603d8
DTSTART;TZID=Etc/UTC:20260523T091500
DTEND;TZID=Etc/UTC:20260523T101500
SUMMARY:Clock First round
END:VEVENT
BEGIN:VEVENT
DTSTAMP:20260423T095041Z
UID:63f0faf1-b89f-45ed-abd3-3e93bf3f6668
DTSTART;TZID=Etc/UTC:20260523T101500
DTEND;TZID=Etc/UTC:20260523T113000
SUMMARY:Pyraminx First round
END:VEVENT
BEGIN:VEVENT
DTSTAMP:20260423T095041Z
UID:1b42429d-effc-43db-897d-e4774545213e
DTSTART;TZID=Etc/UTC:20260523T113000
DTEND;TZID=Etc/UTC:20260523T124500
SUMMARY:Comida
END:VEVENT
BEGIN:VEVENT
DTSTAMP:20260423T095041Z
UID:e70e020c-3017-479b-838e-89256454ca81
DTSTART;TZID=Etc/UTC:20260523T124500
DTEND;TZID=Etc/UTC:20260523T133000
SUMMARY:3x3x3 Blindfolded First round
END:VEVENT
BEGIN:VEVENT
DTSTAMP:20260423T095041Z
UID:fa9d228a-6425-450e-8578-4d62dfc1c7c4
DTSTART;TZID=Etc/UTC:20260523T133000
DTEND;TZID=Etc/UTC:20260523T143000
SUMMARY:Skewb First round
END:VEVENT
BEGIN:VEVENT
DTSTAMP:20260423T095041Z
UID:c8653fa3-9ed2-4c91-9d2b-d71f119f2afb
DTSTART;TZID=Etc/UTC:20260523T143000
DTEND;TZID=Etc/UTC:20260523T153000
SUMMARY:2x2x2 Cube First round
END:VEVENT
BEGIN:VEVENT
DTSTAMP:20260423T095041Z
UID:3ce4458d-e4fc-4aa6-9fe8-372dbd0cf886
DTSTART;TZID=Etc/UTC:20260523T153000
DTEND;TZID=Etc/UTC:20260523T161500
SUMMARY:3x3x3 Cube Second round
END:VEVENT
BEGIN:VEVENT
DTSTAMP:20260423T095041Z
UID:19e482bc-047b-44f3-9613-6cb3070bb935
DTSTART;TZID=Etc/UTC:20260523T161500
DTEND;TZID=Etc/UTC:20260523T170000
SUMMARY:Square-1 Final
END:VEVENT
BEGIN:VEVENT
DTSTAMP:20260423T095041Z
UID:d1278d13-74f7-4a27-9f47-290ebca97d3a
DTSTART;TZID=Etc/UTC:20260524T073000
DTEND;TZID=Etc/UTC:20260524T083000
SUMMARY:Pyraminx Second round
END:VEVENT
BEGIN:VEVENT
DTSTAMP:20260423T095041Z
UID:63cd2618-9b0a-4696-b5c0-49fa1c0a18c8
DTSTART;TZID=Etc/UTC:20260524T083000
DTEND;TZID=Etc/UTC:20260524T093000
SUMMARY:2x2x2 Cube Second round
END:VEVENT
BEGIN:VEVENT
DTSTAMP:20260423T095041Z
UID:6d336212-5121-4f50-8914-786a8b6c7735
DTSTART;TZID=Etc/UTC:20260524T093000
DTEND;TZID=Etc/UTC:20260524T095000
SUMMARY:Clock Final
END:VEVENT
BEGIN:VEVENT
DTSTAMP:20260423T095041Z
UID:d1edecee-c8eb-4bfb-b690-c743f48105db
DTSTART;TZID=Etc/UTC:20260524T095000
DTEND;TZID=Etc/UTC:20260524T101500
SUMMARY:3x3x3 Blindfolded Final
END:VEVENT
BEGIN:VEVENT
DTSTAMP:20260423T095041Z
UID:698fc8b0-9396-4b43-8c6e-60fb3b867caf
DTSTART;TZID=Etc/UTC:20260524T101500
DTEND;TZID=Etc/UTC:20260524T113000
SUMMARY:4x4x4 Cube Final
END:VEVENT
BEGIN:VEVENT
DTSTAMP:20260423T095041Z
UID:777b7921-2a00-4bd3-9f5c-cd04bca634cc
DTSTART;TZID=Etc/UTC:20260524T113000
DTEND;TZID=Etc/UTC:20260524T124500
SUMMARY:Comida
END:VEVENT
BEGIN:VEVENT
DTSTAMP:20260423T095041Z
UID:471c1e9a-6f8f-4a10-9f91-049ab2862904
DTSTART;TZID=Etc/UTC:20260524T124500
DTEND;TZID=Etc/UTC:20260524T131000
SUMMARY:Skewb Final
END:VEVENT
BEGIN:VEVENT
DTSTAMP:20260423T095041Z
UID:e7437c6c-5023-4e66-99c7-eceb379c9346
DTSTART;TZID=Etc/UTC:20260524T131000
DTEND;TZID=Etc/UTC:20260524T133500
SUMMARY:2x2x2 Cube Final
END:VEVENT
BEGIN:VEVENT
DTSTAMP:20260423T095041Z
UID:6548e402-d053-4934-a396-603d59e7b72b
DTSTART;TZID=Etc/UTC:20260524T133500
DTEND;TZID=Etc/UTC:20260524T140000
SUMMARY:3x3x3 Cube Final
END:VEVENT
BEGIN:VEVENT
DTSTAMP:20260423T095041Z
UID:90e04d6a-f1b9-49d2-933b-3e10ddf9ff22
DTSTART;TZID=Etc/UTC:20260524T140000
DTEND;TZID=Etc/UTC:20260524T150000
SUMMARY:Pyraminx Final
END:VEVENT
BEGIN:VEVENT
DTSTAMP:20260423T095041Z
UID:d5a46b66-2595-4f09-a7b2-2f77154ca0a7
DTSTART;TZID=Etc/UTC:20260524T150000
DTEND;TZID=Etc/UTC:20260524T160000
SUMMARY:Entrega de premios
END:VEVENT
END:VCALENDAR
