BEGIN:VCALENDAR
VERSION:2.0
PRODID:icalendar-ruby
CALSCALE:GREGORIAN
METHOD:PUBLISH
BEGIN:VEVENT
DTSTAMP:20260423T095139Z
UID:fca0dbf7-677e-4203-b867-ec7de03cf372
DTSTART;TZID=Etc/UTC:20260425T130000
DTEND;TZID=Etc/UTC:20260425T140000
SUMMARY:3x3x3 Fewest Moves Final (Attempt 1)
END:VEVENT
BEGIN:VEVENT
DTSTAMP:20260423T095139Z
UID:a30de523-b5ea-402a-93e6-fb6ada80c51f
DTSTART;TZID=Etc/UTC:20260425T143000
DTEND;TZID=Etc/UTC:20260425T153000
SUMMARY:3x3x3 Fewest Moves Final (Attempt 2)
END:VEVENT
BEGIN:VEVENT
DTSTAMP:20260423T095139Z
UID:228f4417-d6ea-446d-bf83-6c0d9c31032b
DTSTART;TZID=Etc/UTC:20260425T160000
DTEND;TZID=Etc/UTC:20260425T170000
SUMMARY:3x3x3 Fewest Moves Final (Attempt 3)
END:VEVENT
END:VCALENDAR
