BEGIN:VCALENDAR
VERSION:2.0
PRODID:icalendar-ruby
CALSCALE:GREGORIAN
METHOD:PUBLISH
BEGIN:VEVENT
DTSTAMP:20260423T095041Z
UID:5d21b66f-215b-43e9-93fc-9a116ae155fd
DTSTART;TZID=Etc/UTC:20260501T130000
DTEND;TZID=Etc/UTC:20260501T140000
SUMMARY:3x3x3 Fewest Moves Final (Attempt 1)
END:VEVENT
BEGIN:VEVENT
DTSTAMP:20260423T095041Z
UID:641cb18a-07cc-41d5-ac17-342aa5db4399
DTSTART;TZID=Etc/UTC:20260501T143000
DTEND;TZID=Etc/UTC:20260501T153000
SUMMARY:3x3x3 Fewest Moves Final (Attempt 2)
END:VEVENT
BEGIN:VEVENT
DTSTAMP:20260423T095041Z
UID:8c60e65d-5f25-4c08-9c2a-ba3102a1cb7b
DTSTART;TZID=Etc/UTC:20260501T160000
DTEND;TZID=Etc/UTC:20260501T170000
SUMMARY:3x3x3 Fewest Moves Final (Attempt 3)
END:VEVENT
END:VCALENDAR
