BEGIN:VCALENDAR
VERSION:2.0
PRODID:icalendar-ruby
CALSCALE:GREGORIAN
METHOD:PUBLISH
BEGIN:VEVENT
DTSTAMP:20260423T093514Z
UID:800e9bd7-9f21-4fd1-921e-b72f77a5f351
DTSTART;TZID=Etc/UTC:20260425T070000
DTEND;TZID=Etc/UTC:20260425T080000
SUMMARY:3x3x3 Fewest Moves Final (Attempt 1)
END:VEVENT
BEGIN:VEVENT
DTSTAMP:20260423T093514Z
UID:59832dc9-5b43-49b4-9a4a-5eda711f484c
DTSTART;TZID=Etc/UTC:20260425T080000
DTEND;TZID=Etc/UTC:20260425T083000
SUMMARY:Break
END:VEVENT
BEGIN:VEVENT
DTSTAMP:20260423T093514Z
UID:116db12c-eb4a-46db-a773-69d02a696cd5
DTSTART;TZID=Etc/UTC:20260425T083000
DTEND;TZID=Etc/UTC:20260425T093000
SUMMARY:3x3x3 Fewest Moves Final (Attempt 2)
END:VEVENT
BEGIN:VEVENT
DTSTAMP:20260423T093514Z
UID:1afbf1e7-5c71-4bb9-bae0-281ebc12c367
DTSTART;TZID=Etc/UTC:20260425T093000
DTEND;TZID=Etc/UTC:20260425T100000
SUMMARY:Break
END:VEVENT
BEGIN:VEVENT
DTSTAMP:20260423T093514Z
UID:8371692d-b95f-4e96-b76f-6ace92cdf667
DTSTART;TZID=Etc/UTC:20260425T100000
DTEND;TZID=Etc/UTC:20260425T110000
SUMMARY:3x3x3 Fewest Moves Final (Attempt 3)
END:VEVENT
BEGIN:VEVENT
DTSTAMP:20260423T093514Z
UID:7962a78e-0121-4795-aaa7-b52dafff3ddc
DTSTART;TZID=Etc/UTC:20260425T070000
DTEND;TZID=Etc/UTC:20260425T080000
SUMMARY:3x3x3 Fewest Moves Final (Attempt 1)
END:VEVENT
BEGIN:VEVENT
DTSTAMP:20260423T093514Z
UID:7fb0a2c1-68fd-4df6-859c-825ae61c6965
DTSTART;TZID=Etc/UTC:20260425T080000
DTEND;TZID=Etc/UTC:20260425T083000
SUMMARY:Break
END:VEVENT
BEGIN:VEVENT
DTSTAMP:20260423T093514Z
UID:744edd7b-c98e-4ac6-9960-203895838f6e
DTSTART;TZID=Etc/UTC:20260425T083000
DTEND;TZID=Etc/UTC:20260425T093000
SUMMARY:3x3x3 Fewest Moves Final (Attempt 2)
END:VEVENT
BEGIN:VEVENT
DTSTAMP:20260423T093514Z
UID:8ab13eab-d645-4b7a-8c4f-05df616ef358
DTSTART;TZID=Etc/UTC:20260425T093000
DTEND;TZID=Etc/UTC:20260425T100000
SUMMARY:Break
END:VEVENT
BEGIN:VEVENT
DTSTAMP:20260423T093514Z
UID:279d885b-9160-4b1c-9f9b-97948cb75f6f
DTSTART;TZID=Etc/UTC:20260425T100000
DTEND;TZID=Etc/UTC:20260425T110000
SUMMARY:3x3x3 Fewest Moves Final (Attempt 3)
END:VEVENT
END:VCALENDAR
