BEGIN:VCALENDAR
VERSION:2.0
PRODID:icalendar-ruby
CALSCALE:GREGORIAN
METHOD:PUBLISH
BEGIN:VEVENT
DTSTAMP:20260423T093514Z
UID:195a825b-6e0e-440d-beb9-04deb7e93c87
DTSTART;TZID=Etc/UTC:20260606T160000
DTEND;TZID=Etc/UTC:20260606T170000
SUMMARY:3x3x3 Fewest Moves Final (Attempt 1)
END:VEVENT
BEGIN:VEVENT
DTSTAMP:20260423T093514Z
UID:6d478c45-c80e-48ea-8e3e-5aa74bdbe0c9
DTSTART;TZID=Etc/UTC:20260606T174500
DTEND;TZID=Etc/UTC:20260606T184500
SUMMARY:3x3x3 Fewest Moves Final (Attempt 2)
END:VEVENT
BEGIN:VEVENT
DTSTAMP:20260423T093514Z
UID:a2a9158f-0d33-44a2-8fca-3b69fba90d2e
DTSTART;TZID=Etc/UTC:20260606T193000
DTEND;TZID=Etc/UTC:20260606T203000
SUMMARY:3x3x3 Fewest Moves Final (Attempt 3)
END:VEVENT
BEGIN:VEVENT
DTSTAMP:20260423T093514Z
UID:1aed6d51-2a96-4f38-96ee-1c4476e514db
DTSTART;TZID=Etc/UTC:20260606T160000
DTEND;TZID=Etc/UTC:20260606T170000
SUMMARY:3x3x3 Fewest Moves Final (Attempt 1)
END:VEVENT
BEGIN:VEVENT
DTSTAMP:20260423T093514Z
UID:f1d298bc-aa28-4e2d-a84e-a226c207838d
DTSTART;TZID=Etc/UTC:20260606T174500
DTEND;TZID=Etc/UTC:20260606T184500
SUMMARY:3x3x3 Fewest Moves Final (Attempt 2)
END:VEVENT
BEGIN:VEVENT
DTSTAMP:20260423T093514Z
UID:282a9572-1b2c-493a-bcb3-5611094fc07a
DTSTART;TZID=Etc/UTC:20260606T193000
DTEND;TZID=Etc/UTC:20260606T203000
SUMMARY:3x3x3 Fewest Moves Final (Attempt 3)
END:VEVENT
BEGIN:VEVENT
DTSTAMP:20260423T093514Z
UID:c8e85039-dbfe-4d65-ab01-7177a35de9d3
DTSTART;TZID=Etc/UTC:20260606T160000
DTEND;TZID=Etc/UTC:20260606T170000
SUMMARY:3x3x3 Fewest Moves Final (Attempt 1)
END:VEVENT
BEGIN:VEVENT
DTSTAMP:20260423T093514Z
UID:f33fc968-d641-4445-abb7-c0a35595b280
DTSTART;TZID=Etc/UTC:20260606T174500
DTEND;TZID=Etc/UTC:20260606T184500
SUMMARY:3x3x3 Fewest Moves Final (Attempt 2)
END:VEVENT
BEGIN:VEVENT
DTSTAMP:20260423T093514Z
UID:15c243ec-51b6-490a-91ea-2da8a6dedced
DTSTART;TZID=Etc/UTC:20260606T193000
DTEND;TZID=Etc/UTC:20260606T203000
SUMMARY:3x3x3 Fewest Moves Final (Attempt 3)
END:VEVENT
BEGIN:VEVENT
DTSTAMP:20260423T093514Z
UID:cb0e401c-294c-4f68-9c27-fdbd45136469
DTSTART;TZID=Etc/UTC:20260606T160000
DTEND;TZID=Etc/UTC:20260606T170000
SUMMARY:3x3x3 Fewest Moves Final (Attempt 1)
END:VEVENT
BEGIN:VEVENT
DTSTAMP:20260423T093514Z
UID:8d6b4ba7-f9be-49df-a698-c385464f8376
DTSTART;TZID=Etc/UTC:20260606T174500
DTEND;TZID=Etc/UTC:20260606T184500
SUMMARY:3x3x3 Fewest Moves Final (Attempt 2)
END:VEVENT
BEGIN:VEVENT
DTSTAMP:20260423T093514Z
UID:9b4bc3b6-b15b-4ccb-8183-fd27a06f06da
DTSTART;TZID=Etc/UTC:20260606T193000
DTEND;TZID=Etc/UTC:20260606T203000
SUMMARY:3x3x3 Fewest Moves Final (Attempt 3)
END:VEVENT
BEGIN:VEVENT
DTSTAMP:20260423T093514Z
UID:638d9d93-3b45-44eb-83c5-4741b249a3c7
DTSTART;TZID=Etc/UTC:20260606T160000
DTEND;TZID=Etc/UTC:20260606T170000
SUMMARY:3x3x3 Fewest Moves Final (Attempt 1)
END:VEVENT
BEGIN:VEVENT
DTSTAMP:20260423T093514Z
UID:801cf051-412d-4041-aa04-ef53dfd5dbab
DTSTART;TZID=Etc/UTC:20260606T174500
DTEND;TZID=Etc/UTC:20260606T184500
SUMMARY:3x3x3 Fewest Moves Final (Attempt 2)
END:VEVENT
BEGIN:VEVENT
DTSTAMP:20260423T093514Z
UID:1863683d-f576-4cfa-aed2-bbd3885fdcfd
DTSTART;TZID=Etc/UTC:20260606T193000
DTEND;TZID=Etc/UTC:20260606T203000
SUMMARY:3x3x3 Fewest Moves Final (Attempt 3)
END:VEVENT
BEGIN:VEVENT
DTSTAMP:20260423T093514Z
UID:e86c4337-8e8d-4137-b8d7-a2ddf94babd3
DTSTART;TZID=Etc/UTC:20260606T160000
DTEND;TZID=Etc/UTC:20260606T170000
SUMMARY:3x3x3 Fewest Moves Final (Attempt 1)
END:VEVENT
BEGIN:VEVENT
DTSTAMP:20260423T093514Z
UID:09d2be71-56c0-4227-ab9c-72b75eb7ec97
DTSTART;TZID=Etc/UTC:20260606T174500
DTEND;TZID=Etc/UTC:20260606T184500
SUMMARY:3x3x3 Fewest Moves Final (Attempt 2)
END:VEVENT
BEGIN:VEVENT
DTSTAMP:20260423T093514Z
UID:38478e72-8331-499a-b379-cf7f05e5f4ad
DTSTART;TZID=Etc/UTC:20260606T193000
DTEND;TZID=Etc/UTC:20260606T203000
SUMMARY:3x3x3 Fewest Moves Final (Attempt 3)
END:VEVENT
BEGIN:VEVENT
DTSTAMP:20260423T093514Z
UID:12c60f4d-fe19-43ae-9db1-76d4b7c8df8c
DTSTART;TZID=Etc/UTC:20260606T160000
DTEND;TZID=Etc/UTC:20260606T170000
SUMMARY:3x3x3 Fewest Moves Final (Attempt 1)
END:VEVENT
BEGIN:VEVENT
DTSTAMP:20260423T093514Z
UID:07014792-21ee-49ac-9da7-8c1de8edc9a7
DTSTART;TZID=Etc/UTC:20260606T174500
DTEND;TZID=Etc/UTC:20260606T184500
SUMMARY:3x3x3 Fewest Moves Final (Attempt 2)
END:VEVENT
BEGIN:VEVENT
DTSTAMP:20260423T093514Z
UID:ca4915de-bea9-4eab-a1e5-8fa7ec499b09
DTSTART;TZID=Etc/UTC:20260606T193000
DTEND;TZID=Etc/UTC:20260606T203000
SUMMARY:3x3x3 Fewest Moves Final (Attempt 3)
END:VEVENT
END:VCALENDAR
