BEGIN:VCALENDAR
VERSION:2.0
PRODID:icalendar-ruby
CALSCALE:GREGORIAN
METHOD:PUBLISH
BEGIN:VEVENT
DTSTAMP:20260424T165317Z
UID:472dc3fe-4566-4b3c-9f78-b15c3ef883dd
DTSTART;TZID=Etc/UTC:20260523T040000
DTEND;TZID=Etc/UTC:20260523T043000
SUMMARY:Check-in
END:VEVENT
BEGIN:VEVENT
DTSTAMP:20260424T165317Z
UID:3301b8b0-72cf-41e5-b5c1-20f12d1e5c85
DTSTART;TZID=Etc/UTC:20260523T043000
DTEND;TZID=Etc/UTC:20260523T060000
SUMMARY:4x4x4 Cube First round
END:VEVENT
BEGIN:VEVENT
DTSTAMP:20260424T165317Z
UID:9a3e16a8-61e4-4764-b607-d8114a9b8f8f
DTSTART;TZID=Etc/UTC:20260523T060000
DTEND;TZID=Etc/UTC:20260523T073000
SUMMARY:5x5x5 Cube First round
END:VEVENT
BEGIN:VEVENT
DTSTAMP:20260424T165317Z
UID:aaf8d73e-996d-44bb-a760-c3ed12c87a16
DTSTART;TZID=Etc/UTC:20260523T073000
DTEND;TZID=Etc/UTC:20260523T083000
SUMMARY:Lunch
END:VEVENT
BEGIN:VEVENT
DTSTAMP:20260424T165317Z
UID:3846a1ef-da9e-467b-a113-a8787220d670
DTSTART;TZID=Etc/UTC:20260523T083000
DTEND;TZID=Etc/UTC:20260523T100000
SUMMARY:Megaminx First round
END:VEVENT
BEGIN:VEVENT
DTSTAMP:20260424T165317Z
UID:2b3453f0-8fad-423c-8584-cfe2038bd80a
DTSTART;TZID=Etc/UTC:20260523T100000
DTEND;TZID=Etc/UTC:20260523T104000
SUMMARY:4x4x4 Cube Final
END:VEVENT
BEGIN:VEVENT
DTSTAMP:20260424T165317Z
UID:d1763cc7-1c7e-40f0-aa06-eeb1b5dff639
DTSTART;TZID=Etc/UTC:20260523T104000
DTEND;TZID=Etc/UTC:20260523T113000
SUMMARY:5x5x5 Cube Final
END:VEVENT
BEGIN:VEVENT
DTSTAMP:20260424T165317Z
UID:a8272775-4a39-4818-9233-7275c09f6884
DTSTART;TZID=Etc/UTC:20260523T113000
DTEND;TZID=Etc/UTC:20260523T123000
SUMMARY:Clock First round
END:VEVENT
BEGIN:VEVENT
DTSTAMP:20260424T165317Z
UID:59d29b13-3574-42fa-9c01-caec34993952
DTSTART;TZID=Etc/UTC:20260523T123000
DTEND;TZID=Etc/UTC:20260523T133000
SUMMARY:Skewb First round
END:VEVENT
BEGIN:VEVENT
DTSTAMP:20260424T165317Z
UID:f577420a-1fb3-4533-9291-7f1c1a6c15e0
DTSTART;TZID=Etc/UTC:20260524T040000
DTEND;TZID=Etc/UTC:20260524T043000
SUMMARY:Check-in
END:VEVENT
BEGIN:VEVENT
DTSTAMP:20260424T165317Z
UID:6553bb3a-9a91-4d9d-9f40-813b92124f0c
DTSTART;TZID=Etc/UTC:20260524T041500
DTEND;TZID=Etc/UTC:20260524T043000
SUMMARY:Tutorial for new competitors
END:VEVENT
BEGIN:VEVENT
DTSTAMP:20260424T165317Z
UID:75a9d51d-d86f-43fe-af7e-adf5f5e70166
DTSTART;TZID=Etc/UTC:20260524T043000
DTEND;TZID=Etc/UTC:20260524T053000
SUMMARY:3x3x3 One-Handed First round
END:VEVENT
BEGIN:VEVENT
DTSTAMP:20260424T165317Z
UID:73a0acce-32de-4966-a3f4-30895929bde0
DTSTART;TZID=Etc/UTC:20260524T053000
DTEND;TZID=Etc/UTC:20260524T060000
SUMMARY:Clock Final
END:VEVENT
BEGIN:VEVENT
DTSTAMP:20260424T165317Z
UID:6331ad8c-900f-4ae7-9eb3-7a2a58c41864
DTSTART;TZID=Etc/UTC:20260524T060000
DTEND;TZID=Etc/UTC:20260524T063000
SUMMARY:Skewb Final
END:VEVENT
BEGIN:VEVENT
DTSTAMP:20260424T165317Z
UID:8488081e-eaab-4201-abe8-c1d14f59e857
DTSTART;TZID=Etc/UTC:20260524T063000
DTEND;TZID=Etc/UTC:20260524T070000
SUMMARY:Megaminx Final
END:VEVENT
BEGIN:VEVENT
DTSTAMP:20260424T165317Z
UID:b86f8bf7-db10-42d2-9193-2943741bb154
DTSTART;TZID=Etc/UTC:20260524T070000
DTEND;TZID=Etc/UTC:20260524T073000
SUMMARY:3x3x3 One-Handed Final
END:VEVENT
BEGIN:VEVENT
DTSTAMP:20260424T165317Z
UID:dbcdd10f-98d2-4808-aca8-2d0e246eeff0
DTSTART;TZID=Etc/UTC:20260524T073000
DTEND;TZID=Etc/UTC:20260524T083000
SUMMARY:Lunch
END:VEVENT
BEGIN:VEVENT
DTSTAMP:20260424T165317Z
UID:903bab1e-913e-4478-90dc-3336b53783f2
DTSTART;TZID=Etc/UTC:20260524T083000
DTEND;TZID=Etc/UTC:20260524T090000
SUMMARY:Tutorial for new competitors
END:VEVENT
BEGIN:VEVENT
DTSTAMP:20260424T165317Z
UID:4c16ec1b-1fd0-417f-8df7-2a86266e3e3c
DTSTART;TZID=Etc/UTC:20260524T083000
DTEND;TZID=Etc/UTC:20260524T101500
SUMMARY:3x3x3 Cube First round
END:VEVENT
BEGIN:VEVENT
DTSTAMP:20260424T165317Z
UID:6b4024dd-9ac6-4ce5-9deb-9bfa269b29e8
DTSTART;TZID=Etc/UTC:20260524T101500
DTEND;TZID=Etc/UTC:20260524T111500
SUMMARY:2x2x2 Cube First round
END:VEVENT
BEGIN:VEVENT
DTSTAMP:20260424T165317Z
UID:a9792663-2d47-480e-b42f-d53cc367b245
DTSTART;TZID=Etc/UTC:20260524T111500
DTEND;TZID=Etc/UTC:20260524T120000
SUMMARY:3x3x3 Cube Second round
END:VEVENT
BEGIN:VEVENT
DTSTAMP:20260424T165317Z
UID:d4da241f-f531-488f-8ee1-d0f4d11de15e
DTSTART;TZID=Etc/UTC:20260524T120000
DTEND;TZID=Etc/UTC:20260524T123000
SUMMARY:2x2x2 Cube Final
END:VEVENT
BEGIN:VEVENT
DTSTAMP:20260424T165317Z
UID:93339158-a041-4a55-af5d-b1790555e102
DTSTART;TZID=Etc/UTC:20260524T123000
DTEND;TZID=Etc/UTC:20260524T130000
SUMMARY:3x3x3 Cube Final
END:VEVENT
BEGIN:VEVENT
DTSTAMP:20260424T165317Z
UID:e656c47f-d0cb-490c-82a1-1adb79acc9e6
DTSTART;TZID=Etc/UTC:20260524T130000
DTEND;TZID=Etc/UTC:20260524T140000
SUMMARY:Awards
END:VEVENT
END:VCALENDAR
