BEGIN:VCALENDAR
VERSION:2.0
PRODID:icalendar-ruby
CALSCALE:GREGORIAN
METHOD:PUBLISH
BEGIN:VEVENT
DTSTAMP:20260423T095113Z
UID:832825c5-f32b-429a-a46f-5459d9e054c0
DTSTART;TZID=Etc/UTC:20260711T013000
DTEND;TZID=Etc/UTC:20260711T023000
SUMMARY:Skewb First round
END:VEVENT
BEGIN:VEVENT
DTSTAMP:20260423T095113Z
UID:0ef9b3ef-92b4-4030-8387-23044ecd0420
DTSTART;TZID=Etc/UTC:20260711T023000
DTEND;TZID=Etc/UTC:20260711T033000
SUMMARY:7x7x7 Cube First round
END:VEVENT
BEGIN:VEVENT
DTSTAMP:20260423T095113Z
UID:6a788160-bae4-4d86-951c-344b8b6e7676
DTSTART;TZID=Etc/UTC:20260711T033000
DTEND;TZID=Etc/UTC:20260711T043000
SUMMARY:6x6x6 Cube First round
END:VEVENT
BEGIN:VEVENT
DTSTAMP:20260423T095113Z
UID:ba81b442-c77a-4598-9fe2-a5970c66001c
DTSTART;TZID=Etc/UTC:20260711T043000
DTEND;TZID=Etc/UTC:20260711T060000
SUMMARY:5x5x5 Cube First round
END:VEVENT
BEGIN:VEVENT
DTSTAMP:20260423T095113Z
UID:22516f23-62f6-4b88-b3d3-796ee83839b0
DTSTART;TZID=Etc/UTC:20260711T060000
DTEND;TZID=Etc/UTC:20260711T062000
SUMMARY:Lunch
END:VEVENT
BEGIN:VEVENT
DTSTAMP:20260423T095113Z
UID:509a9c7d-d238-459f-a65e-b2ef62e793c2
DTSTART;TZID=Etc/UTC:20260711T062000
DTEND;TZID=Etc/UTC:20260711T072000
SUMMARY:Square-1 Final
END:VEVENT
BEGIN:VEVENT
DTSTAMP:20260423T095113Z
UID:7e6e6372-f1df-4029-a699-6b282859dacc
DTSTART;TZID=Etc/UTC:20260711T072000
DTEND;TZID=Etc/UTC:20260711T082000
SUMMARY:3x3x3 One-Handed First round
END:VEVENT
BEGIN:VEVENT
DTSTAMP:20260423T095113Z
UID:f0d2cb4b-5bad-4552-ac95-9d50de5e41a6
DTSTART;TZID=Etc/UTC:20260711T082000
DTEND;TZID=Etc/UTC:20260711T090500
SUMMARY:Clock First round
END:VEVENT
BEGIN:VEVENT
DTSTAMP:20260423T095113Z
UID:8640a8c7-4bfc-4b17-9564-62c4d062c1b6
DTSTART;TZID=Etc/UTC:20260711T090500
DTEND;TZID=Etc/UTC:20260711T103500
SUMMARY:4x4x4 Cube First round
END:VEVENT
BEGIN:VEVENT
DTSTAMP:20260423T095113Z
UID:d4d285b4-421e-422d-b0ef-8987338e1bd5
DTSTART;TZID=Etc/UTC:20260711T103500
DTEND;TZID=Etc/UTC:20260711T110500
SUMMARY:7x7x7 Cube Final
END:VEVENT
BEGIN:VEVENT
DTSTAMP:20260423T095113Z
UID:416ad473-222e-4f4c-aabd-60c9f6fe5ba2
DTSTART;TZID=Etc/UTC:20260711T110500
DTEND;TZID=Etc/UTC:20260711T113500
SUMMARY:6x6x6 Cube Final
END:VEVENT
BEGIN:VEVENT
DTSTAMP:20260423T095113Z
UID:eabd807d-18b1-4e50-a836-7008952035d2
DTSTART;TZID=Etc/UTC:20260712T013000
DTEND;TZID=Etc/UTC:20260712T020000
SUMMARY:5x5x5 Cube Final
END:VEVENT
BEGIN:VEVENT
DTSTAMP:20260423T095113Z
UID:9d214104-a0f8-4028-90a2-bb3bb6e247e9
DTSTART;TZID=Etc/UTC:20260712T020000
DTEND;TZID=Etc/UTC:20260712T021500
SUMMARY:Tutorial for new competitors
END:VEVENT
BEGIN:VEVENT
DTSTAMP:20260423T095113Z
UID:648de7b0-ab18-4657-b836-5bec5f08dcbd
DTSTART;TZID=Etc/UTC:20260712T021500
DTEND;TZID=Etc/UTC:20260712T041500
SUMMARY:3x3x3 Cube First round
END:VEVENT
BEGIN:VEVENT
DTSTAMP:20260423T095113Z
UID:96e7d0dc-8dd2-43d3-9bd2-a92f7c6c6419
DTSTART;TZID=Etc/UTC:20260712T041500
DTEND;TZID=Etc/UTC:20260712T043000
SUMMARY:Lunch
END:VEVENT
BEGIN:VEVENT
DTSTAMP:20260423T095113Z
UID:3c12ed85-475e-4ba6-8a06-6ad957375426
DTSTART;TZID=Etc/UTC:20260712T043000
DTEND;TZID=Etc/UTC:20260712T051500
SUMMARY:4x4x4 Cube Second round
END:VEVENT
BEGIN:VEVENT
DTSTAMP:20260423T095113Z
UID:5179bc94-506a-4212-b2fc-e19f1ccebd38
DTSTART;TZID=Etc/UTC:20260712T051500
DTEND;TZID=Etc/UTC:20260712T063000
SUMMARY:2x2x2 Cube First round
END:VEVENT
BEGIN:VEVENT
DTSTAMP:20260423T095113Z
UID:9d1e58ee-f71c-4f1f-adb9-58822fc83adb
DTSTART;TZID=Etc/UTC:20260712T063000
DTEND;TZID=Etc/UTC:20260712T070000
SUMMARY:3x3x3 One-Handed Final
END:VEVENT
BEGIN:VEVENT
DTSTAMP:20260423T095113Z
UID:49cc6b56-509c-4c48-bc35-4023319c961f
DTSTART;TZID=Etc/UTC:20260712T070000
DTEND;TZID=Etc/UTC:20260712T073000
SUMMARY:Clock Final
END:VEVENT
BEGIN:VEVENT
DTSTAMP:20260423T095113Z
UID:d4234e83-3032-4eac-89c9-a4209276d5ea
DTSTART;TZID=Etc/UTC:20260712T073000
DTEND;TZID=Etc/UTC:20260712T080000
SUMMARY:3x3x3 Cube Second round
END:VEVENT
BEGIN:VEVENT
DTSTAMP:20260423T095113Z
UID:31f76522-51da-4b6a-9582-353ecaa49138
DTSTART;TZID=Etc/UTC:20260712T080000
DTEND;TZID=Etc/UTC:20260712T083000
SUMMARY:2x2x2 Cube Second round
END:VEVENT
BEGIN:VEVENT
DTSTAMP:20260423T095113Z
UID:91fa3c5f-2d75-41a1-8c2d-59e29633e951
DTSTART;TZID=Etc/UTC:20260712T083000
DTEND;TZID=Etc/UTC:20260712T090000
SUMMARY:4x4x4 Cube Final
END:VEVENT
BEGIN:VEVENT
DTSTAMP:20260423T095113Z
UID:c2caf620-7e67-4e79-a1a3-e0831f0425af
DTSTART;TZID=Etc/UTC:20260712T090000
DTEND;TZID=Etc/UTC:20260712T093000
SUMMARY:Skewb Final
END:VEVENT
BEGIN:VEVENT
DTSTAMP:20260423T095113Z
UID:e758322a-0271-4e50-b601-fb8b6bfd0fe6
DTSTART;TZID=Etc/UTC:20260712T093000
DTEND;TZID=Etc/UTC:20260712T100000
SUMMARY:2x2x2 Cube Final
END:VEVENT
BEGIN:VEVENT
DTSTAMP:20260423T095113Z
UID:9416a570-da6d-4aca-b8ec-46a818c0d2c9
DTSTART;TZID=Etc/UTC:20260712T100000
DTEND;TZID=Etc/UTC:20260712T103000
SUMMARY:3x3x3 Cube Final
END:VEVENT
END:VCALENDAR
