BEGIN:VCALENDAR
VERSION:2.0
PRODID:icalendar-ruby
CALSCALE:GREGORIAN
METHOD:PUBLISH
BEGIN:VEVENT
DTSTAMP:20260423T095113Z
UID:a2665e9e-bc25-4a11-918e-8c3da36322cc
DTSTART;TZID=Etc/UTC:20260425T061500
DTEND;TZID=Etc/UTC:20260425T115500
SUMMARY:Registration
END:VEVENT
BEGIN:VEVENT
DTSTAMP:20260423T095113Z
UID:ebd8eb92-d843-4ce5-848c-a21fd7f733cd
DTSTART;TZID=Etc/UTC:20260425T063000
DTEND;TZID=Etc/UTC:20260425T064500
SUMMARY:Tutorial for new competitors
END:VEVENT
BEGIN:VEVENT
DTSTAMP:20260423T095113Z
UID:3393a1fc-7b51-4e62-b2c7-0f1a6987c567
DTSTART;TZID=Etc/UTC:20260425T064500
DTEND;TZID=Etc/UTC:20260425T080500
SUMMARY:7x7x7 Cube First round
END:VEVENT
BEGIN:VEVENT
DTSTAMP:20260423T095113Z
UID:395524fb-901c-4caf-b84d-6cb923db251e
DTSTART;TZID=Etc/UTC:20260425T064500
DTEND;TZID=Etc/UTC:20260425T071140
SUMMARY:7x7x7 Cube First round
END:VEVENT
BEGIN:VEVENT
DTSTAMP:20260423T095113Z
UID:2bad6d24-604a-46f7-9606-4a0a74b756ef
DTSTART;TZID=Etc/UTC:20260425T071140
DTEND;TZID=Etc/UTC:20260425T073820
SUMMARY:7x7x7 Cube First round
END:VEVENT
BEGIN:VEVENT
DTSTAMP:20260423T095113Z
UID:b2d6ae3c-837d-4faa-b539-7b22d2ea4b65
DTSTART;TZID=Etc/UTC:20260425T073820
DTEND;TZID=Etc/UTC:20260425T080500
SUMMARY:7x7x7 Cube First round
END:VEVENT
BEGIN:VEVENT
DTSTAMP:20260423T095113Z
UID:698a4f39-be35-40af-8f97-311302345adc
DTSTART;TZID=Etc/UTC:20260425T080500
DTEND;TZID=Etc/UTC:20260425T084500
SUMMARY:3x3x3 Blindfolded First round
END:VEVENT
BEGIN:VEVENT
DTSTAMP:20260423T095113Z
UID:6b91ff92-9153-458c-9e68-20b8abfd7418
DTSTART;TZID=Etc/UTC:20260425T080500
DTEND;TZID=Etc/UTC:20260425T082500
SUMMARY:3x3x3 Blindfolded First round
END:VEVENT
BEGIN:VEVENT
DTSTAMP:20260423T095113Z
UID:b66ec75d-c77d-4c68-b503-0a3155399a64
DTSTART;TZID=Etc/UTC:20260425T082500
DTEND;TZID=Etc/UTC:20260425T084500
SUMMARY:3x3x3 Blindfolded First round
END:VEVENT
BEGIN:VEVENT
DTSTAMP:20260423T095113Z
UID:130e6b1f-22bd-45bb-ac92-c07ee286894b
DTSTART;TZID=Etc/UTC:20260425T084500
DTEND;TZID=Etc/UTC:20260425T094500
SUMMARY:Clock First round
END:VEVENT
BEGIN:VEVENT
DTSTAMP:20260423T095113Z
UID:b2299d40-f6d1-4e7b-bfff-434fe0296548
DTSTART;TZID=Etc/UTC:20260425T084500
DTEND;TZID=Etc/UTC:20260425T090500
SUMMARY:Clock First round
END:VEVENT
BEGIN:VEVENT
DTSTAMP:20260423T095113Z
UID:917cd291-38e2-44b4-b560-ab4ae4c8d85d
DTSTART;TZID=Etc/UTC:20260425T090500
DTEND;TZID=Etc/UTC:20260425T092500
SUMMARY:Clock First round
END:VEVENT
BEGIN:VEVENT
DTSTAMP:20260423T095113Z
UID:657aad19-9e92-42af-92d2-1d71bac4758d
DTSTART;TZID=Etc/UTC:20260425T092500
DTEND;TZID=Etc/UTC:20260425T094500
SUMMARY:Clock First round
END:VEVENT
BEGIN:VEVENT
DTSTAMP:20260423T095113Z
UID:09c6589a-78ea-4e4c-be67-73f990583982
DTSTART;TZID=Etc/UTC:20260425T094500
DTEND;TZID=Etc/UTC:20260425T103500
SUMMARY:Megaminx First round
END:VEVENT
BEGIN:VEVENT
DTSTAMP:20260423T095113Z
UID:a855124c-d641-4388-8ecd-6381696a135f
DTSTART;TZID=Etc/UTC:20260425T094500
DTEND;TZID=Etc/UTC:20260425T101000
SUMMARY:Megaminx First round
END:VEVENT
BEGIN:VEVENT
DTSTAMP:20260423T095113Z
UID:a49e7b07-7a23-4597-9eec-c1df7f60397e
DTSTART;TZID=Etc/UTC:20260425T101000
DTEND;TZID=Etc/UTC:20260425T103500
SUMMARY:Megaminx First round
END:VEVENT
BEGIN:VEVENT
DTSTAMP:20260423T095113Z
UID:0b2f09c4-3002-44fd-85d6-6a713a88748e
DTSTART;TZID=Etc/UTC:20260425T103500
DTEND;TZID=Etc/UTC:20260425T110500
SUMMARY:3x3x3 Blindfolded Final
END:VEVENT
BEGIN:VEVENT
DTSTAMP:20260423T095113Z
UID:a58f05ba-db7b-423c-99df-17cf1cde5ac3
DTSTART;TZID=Etc/UTC:20260425T103500
DTEND;TZID=Etc/UTC:20260425T105000
SUMMARY:3x3x3 Blindfolded Final
END:VEVENT
BEGIN:VEVENT
DTSTAMP:20260423T095113Z
UID:7a13f617-82ec-437b-a562-d2d1d6daa79d
DTSTART;TZID=Etc/UTC:20260425T105000
DTEND;TZID=Etc/UTC:20260425T110500
SUMMARY:3x3x3 Blindfolded Final
END:VEVENT
BEGIN:VEVENT
DTSTAMP:20260423T095113Z
UID:680537ec-f8ce-46f4-8cdf-c71e3b447470
DTSTART;TZID=Etc/UTC:20260425T110500
DTEND;TZID=Etc/UTC:20260425T115500
SUMMARY:Lunch
END:VEVENT
BEGIN:VEVENT
DTSTAMP:20260423T095113Z
UID:db841777-6417-4f6a-a2a6-3123fc9a7776
DTSTART;TZID=Etc/UTC:20260425T115500
DTEND;TZID=Etc/UTC:20260425T124500
SUMMARY:Pyraminx First round
END:VEVENT
BEGIN:VEVENT
DTSTAMP:20260423T095113Z
UID:ea964c72-2aae-4df1-a919-d8b9b44f580f
DTSTART;TZID=Etc/UTC:20260425T115500
DTEND;TZID=Etc/UTC:20260425T121140
SUMMARY:Pyraminx First round
END:VEVENT
BEGIN:VEVENT
DTSTAMP:20260423T095113Z
UID:6201aca4-ac1e-4278-b880-d229d330ea34
DTSTART;TZID=Etc/UTC:20260425T121140
DTEND;TZID=Etc/UTC:20260425T122820
SUMMARY:Pyraminx First round
END:VEVENT
BEGIN:VEVENT
DTSTAMP:20260423T095113Z
UID:b9990143-96d3-4982-926b-a69ade223346
DTSTART;TZID=Etc/UTC:20260425T122820
DTEND;TZID=Etc/UTC:20260425T124500
SUMMARY:Pyraminx First round
END:VEVENT
BEGIN:VEVENT
DTSTAMP:20260423T095113Z
UID:b8891816-eefb-4cb2-b79a-72114331d35f
DTSTART;TZID=Etc/UTC:20260425T124500
DTEND;TZID=Etc/UTC:20260425T133500
SUMMARY:7x7x7 Cube Second round
END:VEVENT
BEGIN:VEVENT
DTSTAMP:20260423T095113Z
UID:7b726d60-9480-42b3-b014-03d56a7b2f25
DTSTART;TZID=Etc/UTC:20260425T124500
DTEND;TZID=Etc/UTC:20260425T131000
SUMMARY:7x7x7 Cube Second round
END:VEVENT
BEGIN:VEVENT
DTSTAMP:20260423T095113Z
UID:cbc7e4df-02fc-4fa2-ae21-823177f1d955
DTSTART;TZID=Etc/UTC:20260425T131000
DTEND;TZID=Etc/UTC:20260425T133500
SUMMARY:7x7x7 Cube Second round
END:VEVENT
BEGIN:VEVENT
DTSTAMP:20260423T095113Z
UID:562f1343-e287-4d29-a820-843e4993a1e0
DTSTART;TZID=Etc/UTC:20260425T133500
DTEND;TZID=Etc/UTC:20260425T141500
SUMMARY:Clock Final
END:VEVENT
BEGIN:VEVENT
DTSTAMP:20260423T095113Z
UID:a6d3d0ed-4e47-4140-b3f1-d3ccf9989e52
DTSTART;TZID=Etc/UTC:20260425T133500
DTEND;TZID=Etc/UTC:20260425T135500
SUMMARY:Clock Final
END:VEVENT
BEGIN:VEVENT
DTSTAMP:20260423T095113Z
UID:1efcc2db-e2fa-441d-b724-ff616af94037
DTSTART;TZID=Etc/UTC:20260425T135500
DTEND;TZID=Etc/UTC:20260425T141500
SUMMARY:Clock Final
END:VEVENT
BEGIN:VEVENT
DTSTAMP:20260423T095113Z
UID:6fc49756-c551-4a58-b6b5-02df0fc71398
DTSTART;TZID=Etc/UTC:20260425T141500
DTEND;TZID=Etc/UTC:20260425T144500
SUMMARY:Pyraminx Second round
END:VEVENT
BEGIN:VEVENT
DTSTAMP:20260423T095113Z
UID:0c2fbe40-efbf-46df-83b4-21207a2d9e82
DTSTART;TZID=Etc/UTC:20260425T141500
DTEND;TZID=Etc/UTC:20260425T143000
SUMMARY:Pyraminx Second round
END:VEVENT
BEGIN:VEVENT
DTSTAMP:20260423T095113Z
UID:7b2a39a7-c44e-441f-bf5a-88f65f8099b5
DTSTART;TZID=Etc/UTC:20260425T143000
DTEND;TZID=Etc/UTC:20260425T144500
SUMMARY:Pyraminx Second round
END:VEVENT
BEGIN:VEVENT
DTSTAMP:20260423T095113Z
UID:a9406679-096f-417f-aae2-2ae79aa4b1c1
DTSTART;TZID=Etc/UTC:20260425T144500
DTEND;TZID=Etc/UTC:20260425T153500
SUMMARY:Megaminx Final
END:VEVENT
BEGIN:VEVENT
DTSTAMP:20260423T095113Z
UID:1a44227b-d595-4271-a58c-77b805095c38
DTSTART;TZID=Etc/UTC:20260425T144500
DTEND;TZID=Etc/UTC:20260425T151000
SUMMARY:Megaminx Final
END:VEVENT
BEGIN:VEVENT
DTSTAMP:20260423T095113Z
UID:1638aa81-990f-416f-925a-1299cc97155a
DTSTART;TZID=Etc/UTC:20260425T151000
DTEND;TZID=Etc/UTC:20260425T153500
SUMMARY:Megaminx Final
END:VEVENT
BEGIN:VEVENT
DTSTAMP:20260423T095113Z
UID:2fcbffae-4c7b-4b82-94d1-533c84c70610
DTSTART;TZID=Etc/UTC:20260425T153500
DTEND;TZID=Etc/UTC:20260425T162500
SUMMARY:7x7x7 Cube Final
END:VEVENT
BEGIN:VEVENT
DTSTAMP:20260423T095113Z
UID:75c72fca-06fc-4661-a1b4-b3628d04f42f
DTSTART;TZID=Etc/UTC:20260425T153500
DTEND;TZID=Etc/UTC:20260425T160000
SUMMARY:7x7x7 Cube Final
END:VEVENT
BEGIN:VEVENT
DTSTAMP:20260423T095113Z
UID:cf560e59-b579-435a-b218-a1366b5e558c
DTSTART;TZID=Etc/UTC:20260425T160000
DTEND;TZID=Etc/UTC:20260425T162500
SUMMARY:7x7x7 Cube Final
END:VEVENT
BEGIN:VEVENT
DTSTAMP:20260423T095113Z
UID:1187ac47-0d85-434b-9ced-7ac0be36380b
DTSTART;TZID=Etc/UTC:20260426T061500
DTEND;TZID=Etc/UTC:20260426T091000
SUMMARY:Registration
END:VEVENT
BEGIN:VEVENT
DTSTAMP:20260423T095113Z
UID:8abe2a42-fb81-423a-9d8d-543b62d4fe3c
DTSTART;TZID=Etc/UTC:20260426T063000
DTEND;TZID=Etc/UTC:20260426T064500
SUMMARY:Tutorial for new competitors
END:VEVENT
BEGIN:VEVENT
DTSTAMP:20260423T095113Z
UID:b1d820ad-eb90-4a5f-80c5-d4762268bded
DTSTART;TZID=Etc/UTC:20260426T064500
DTEND;TZID=Etc/UTC:20260426T074000
SUMMARY:3x3x3 Cube First round
END:VEVENT
BEGIN:VEVENT
DTSTAMP:20260423T095113Z
UID:c8734abb-0506-4722-b00f-9e19ba463f41
DTSTART;TZID=Etc/UTC:20260426T064500
DTEND;TZID=Etc/UTC:20260426T070320
SUMMARY:3x3x3 Cube First round
END:VEVENT
BEGIN:VEVENT
DTSTAMP:20260423T095113Z
UID:030324a8-7893-4205-ba4f-236facb14695
DTSTART;TZID=Etc/UTC:20260426T070320
DTEND;TZID=Etc/UTC:20260426T072140
SUMMARY:3x3x3 Cube First round
END:VEVENT
BEGIN:VEVENT
DTSTAMP:20260423T095113Z
UID:dfc54cbc-c39b-4505-8a1b-68bab5bff446
DTSTART;TZID=Etc/UTC:20260426T072140
DTEND;TZID=Etc/UTC:20260426T074000
SUMMARY:3x3x3 Cube First round
END:VEVENT
BEGIN:VEVENT
DTSTAMP:20260423T095113Z
UID:75ead368-65cd-4b16-a702-3448ddb12f8b
DTSTART;TZID=Etc/UTC:20260426T074000
DTEND;TZID=Etc/UTC:20260426T083000
SUMMARY:2x2x2 Cube First round
END:VEVENT
BEGIN:VEVENT
DTSTAMP:20260423T095113Z
UID:3d414d49-eb73-4955-a986-8da943bb4b88
DTSTART;TZID=Etc/UTC:20260426T074000
DTEND;TZID=Etc/UTC:20260426T075640
SUMMARY:2x2x2 Cube First round
END:VEVENT
BEGIN:VEVENT
DTSTAMP:20260423T095113Z
UID:b0d9448b-39b5-413e-a150-0286bb66ab39
DTSTART;TZID=Etc/UTC:20260426T075640
DTEND;TZID=Etc/UTC:20260426T081320
SUMMARY:2x2x2 Cube First round
END:VEVENT
BEGIN:VEVENT
DTSTAMP:20260423T095113Z
UID:66ea2760-aee0-4921-8eb2-5be138e8d3b0
DTSTART;TZID=Etc/UTC:20260426T081320
DTEND;TZID=Etc/UTC:20260426T083000
SUMMARY:2x2x2 Cube First round
END:VEVENT
BEGIN:VEVENT
DTSTAMP:20260423T095113Z
UID:572f9dd9-2d93-4e26-bd53-be4ac0a7088f
DTSTART;TZID=Etc/UTC:20260426T083000
DTEND;TZID=Etc/UTC:20260426T091000
SUMMARY:3x3x3 One-Handed First round
END:VEVENT
BEGIN:VEVENT
DTSTAMP:20260423T095113Z
UID:16990084-4543-4fe7-b332-4fdc45a899b5
DTSTART;TZID=Etc/UTC:20260426T083000
DTEND;TZID=Etc/UTC:20260426T085000
SUMMARY:3x3x3 One-Handed First round
END:VEVENT
BEGIN:VEVENT
DTSTAMP:20260423T095113Z
UID:b414910b-d5c9-47bd-8b02-c0343225fbbc
DTSTART;TZID=Etc/UTC:20260426T085000
DTEND;TZID=Etc/UTC:20260426T091000
SUMMARY:3x3x3 One-Handed First round
END:VEVENT
BEGIN:VEVENT
DTSTAMP:20260423T095113Z
UID:6fc42a75-8861-4cc3-9b78-273406f75284
DTSTART;TZID=Etc/UTC:20260426T091000
DTEND;TZID=Etc/UTC:20260426T101500
SUMMARY:4x4x4 Cube First round
END:VEVENT
BEGIN:VEVENT
DTSTAMP:20260423T095113Z
UID:04d40569-893b-42b9-93ec-6a338fda1a0b
DTSTART;TZID=Etc/UTC:20260426T091000
DTEND;TZID=Etc/UTC:20260426T093140
SUMMARY:4x4x4 Cube First round
END:VEVENT
BEGIN:VEVENT
DTSTAMP:20260423T095113Z
UID:02d74121-dc0e-4897-b6a8-d2471abaa4d7
DTSTART;TZID=Etc/UTC:20260426T093140
DTEND;TZID=Etc/UTC:20260426T095320
SUMMARY:4x4x4 Cube First round
END:VEVENT
BEGIN:VEVENT
DTSTAMP:20260423T095113Z
UID:e302c1c0-0855-4458-aaf4-9e5315482724
DTSTART;TZID=Etc/UTC:20260426T095320
DTEND;TZID=Etc/UTC:20260426T101500
SUMMARY:4x4x4 Cube First round
END:VEVENT
BEGIN:VEVENT
DTSTAMP:20260423T095113Z
UID:3818d4be-a7a6-4540-bd1a-4637740dd44f
DTSTART;TZID=Etc/UTC:20260426T101500
DTEND;TZID=Etc/UTC:20260426T110500
SUMMARY:Lunch
END:VEVENT
BEGIN:VEVENT
DTSTAMP:20260423T095113Z
UID:b8825884-f9d9-4bf3-836b-0fcfa29c2769
DTSTART;TZID=Etc/UTC:20260426T110500
DTEND;TZID=Etc/UTC:20260426T115000
SUMMARY:3x3x3 Cube Second round
END:VEVENT
BEGIN:VEVENT
DTSTAMP:20260423T095113Z
UID:046e20c6-0792-4c79-b16a-5b9b25ab2487
DTSTART;TZID=Etc/UTC:20260426T110500
DTEND;TZID=Etc/UTC:20260426T112000
SUMMARY:3x3x3 Cube Second round
END:VEVENT
BEGIN:VEVENT
DTSTAMP:20260423T095113Z
UID:18358a5f-d32a-483a-94d0-3e73d728ba0d
DTSTART;TZID=Etc/UTC:20260426T112000
DTEND;TZID=Etc/UTC:20260426T113500
SUMMARY:3x3x3 Cube Second round
END:VEVENT
BEGIN:VEVENT
DTSTAMP:20260423T095113Z
UID:825197a7-ce1a-4720-8380-ace41124353c
DTSTART;TZID=Etc/UTC:20260426T113500
DTEND;TZID=Etc/UTC:20260426T115000
SUMMARY:3x3x3 Cube Second round
END:VEVENT
BEGIN:VEVENT
DTSTAMP:20260423T095113Z
UID:67f265fa-d5a7-4975-bd46-9effe67323e5
DTSTART;TZID=Etc/UTC:20260426T115000
DTEND;TZID=Etc/UTC:20260426T123500
SUMMARY:2x2x2 Cube Second round
END:VEVENT
BEGIN:VEVENT
DTSTAMP:20260423T095113Z
UID:86073d7f-0bb7-4b97-ada3-c8c414305d3e
DTSTART;TZID=Etc/UTC:20260426T115000
DTEND;TZID=Etc/UTC:20260426T120500
SUMMARY:2x2x2 Cube Second round
END:VEVENT
BEGIN:VEVENT
DTSTAMP:20260423T095113Z
UID:cb41fe69-b6eb-470b-a03a-38121e5eb5cf
DTSTART;TZID=Etc/UTC:20260426T120500
DTEND;TZID=Etc/UTC:20260426T122000
SUMMARY:2x2x2 Cube Second round
END:VEVENT
BEGIN:VEVENT
DTSTAMP:20260423T095113Z
UID:edcb2ce0-c7ec-4bff-bcee-cda489dde8c0
DTSTART;TZID=Etc/UTC:20260426T122000
DTEND;TZID=Etc/UTC:20260426T123500
SUMMARY:2x2x2 Cube Second round
END:VEVENT
BEGIN:VEVENT
DTSTAMP:20260423T095113Z
UID:c3c7f92a-c420-404c-af23-605df73808b9
DTSTART;TZID=Etc/UTC:20260426T123500
DTEND;TZID=Etc/UTC:20260426T130500
SUMMARY:3x3x3 One-Handed Final
END:VEVENT
BEGIN:VEVENT
DTSTAMP:20260423T095113Z
UID:9dfb8b50-76da-4a9f-babe-91abcbb3546c
DTSTART;TZID=Etc/UTC:20260426T123500
DTEND;TZID=Etc/UTC:20260426T125000
SUMMARY:3x3x3 One-Handed Final
END:VEVENT
BEGIN:VEVENT
DTSTAMP:20260423T095113Z
UID:e3bd1a28-2160-44e5-b16e-5cd740a411dd
DTSTART;TZID=Etc/UTC:20260426T125000
DTEND;TZID=Etc/UTC:20260426T130500
SUMMARY:3x3x3 One-Handed Final
END:VEVENT
BEGIN:VEVENT
DTSTAMP:20260423T095113Z
UID:cc56e469-ecbf-4cd2-afff-510ac8b577e0
DTSTART;TZID=Etc/UTC:20260426T130500
DTEND;TZID=Etc/UTC:20260426T133500
SUMMARY:Pyraminx Final
END:VEVENT
BEGIN:VEVENT
DTSTAMP:20260423T095113Z
UID:d02a96b1-445e-4b0b-aa81-6389c2c5b2d1
DTSTART;TZID=Etc/UTC:20260426T130500
DTEND;TZID=Etc/UTC:20260426T132000
SUMMARY:Pyraminx Final
END:VEVENT
BEGIN:VEVENT
DTSTAMP:20260423T095113Z
UID:cd92c764-6438-4c1d-9d11-451219446457
DTSTART;TZID=Etc/UTC:20260426T132000
DTEND;TZID=Etc/UTC:20260426T133500
SUMMARY:Pyraminx Final
END:VEVENT
BEGIN:VEVENT
DTSTAMP:20260423T095113Z
UID:19d49e0d-a0c8-4f9a-a553-a34f00a867bb
DTSTART;TZID=Etc/UTC:20260426T133500
DTEND;TZID=Etc/UTC:20260426T141500
SUMMARY:4x4x4 Cube Final
END:VEVENT
BEGIN:VEVENT
DTSTAMP:20260423T095113Z
UID:9f7274ed-38a0-4d00-a8d6-e4e6d669d3db
DTSTART;TZID=Etc/UTC:20260426T133500
DTEND;TZID=Etc/UTC:20260426T135500
SUMMARY:4x4x4 Cube Final
END:VEVENT
BEGIN:VEVENT
DTSTAMP:20260423T095113Z
UID:c30da693-aaec-4bf9-ba42-c8ee45126533
DTSTART;TZID=Etc/UTC:20260426T135500
DTEND;TZID=Etc/UTC:20260426T141500
SUMMARY:4x4x4 Cube Final
END:VEVENT
BEGIN:VEVENT
DTSTAMP:20260423T095113Z
UID:e8a6bbdc-988f-4e0d-b1ac-2df0c1ff3187
DTSTART;TZID=Etc/UTC:20260426T141500
DTEND;TZID=Etc/UTC:20260426T144500
SUMMARY:2x2x2 Cube Final
END:VEVENT
BEGIN:VEVENT
DTSTAMP:20260423T095113Z
UID:b8fb72df-d4cc-43a2-bd1f-e544387934bd
DTSTART;TZID=Etc/UTC:20260426T141500
DTEND;TZID=Etc/UTC:20260426T143000
SUMMARY:2x2x2 Cube Final
END:VEVENT
BEGIN:VEVENT
DTSTAMP:20260423T095113Z
UID:d42d589f-a34b-4134-af56-ac21c9d756e1
DTSTART;TZID=Etc/UTC:20260426T143000
DTEND;TZID=Etc/UTC:20260426T144500
SUMMARY:2x2x2 Cube Final
END:VEVENT
BEGIN:VEVENT
DTSTAMP:20260423T095113Z
UID:18b41330-9e7f-4a0a-9a37-48ff0f60970d
DTSTART;TZID=Etc/UTC:20260426T144500
DTEND;TZID=Etc/UTC:20260426T151500
SUMMARY:3x3x3 Cube Final
END:VEVENT
BEGIN:VEVENT
DTSTAMP:20260423T095113Z
UID:0206062e-4755-4110-82c2-f7baad6b1002
DTSTART;TZID=Etc/UTC:20260426T144500
DTEND;TZID=Etc/UTC:20260426T150000
SUMMARY:3x3x3 Cube Final
END:VEVENT
BEGIN:VEVENT
DTSTAMP:20260423T095113Z
UID:50e42063-3978-4041-aff9-35b3854bb74b
DTSTART;TZID=Etc/UTC:20260426T150000
DTEND;TZID=Etc/UTC:20260426T151500
SUMMARY:3x3x3 Cube Final
END:VEVENT
BEGIN:VEVENT
DTSTAMP:20260423T095113Z
UID:e45f1ba1-3305-40c1-a05d-a13056e6d9a2
DTSTART;TZID=Etc/UTC:20260426T151500
DTEND;TZID=Etc/UTC:20260426T152500
SUMMARY:Break
END:VEVENT
BEGIN:VEVENT
DTSTAMP:20260423T095113Z
UID:e3afe5c9-66e2-4ad0-9f34-4a7be6f3a001
DTSTART;TZID=Etc/UTC:20260426T152500
DTEND;TZID=Etc/UTC:20260426T153500
SUMMARY:Awards
END:VEVENT
END:VCALENDAR
