BEGIN:VCALENDAR
VERSION:2.0
PRODID:icalendar-ruby
CALSCALE:GREGORIAN
METHOD:PUBLISH
BEGIN:VEVENT
DTSTAMP:20260423T095041Z
UID:a677b0cf-d36d-42c2-b01f-0adc61d3c0a3
DTSTART;TZID=Etc/UTC:20260425T123000
DTEND;TZID=Etc/UTC:20260425T180000
SUMMARY:3x3x3 Cube Final
END:VEVENT
BEGIN:VEVENT
DTSTAMP:20260423T095041Z
UID:53238aaa-3180-4cf0-bd92-c7d911a1f9f6
DTSTART;TZID=Etc/UTC:20260425T123000
DTEND;TZID=Etc/UTC:20260425T125730
SUMMARY:3x3x3 Cube Final
END:VEVENT
BEGIN:VEVENT
DTSTAMP:20260423T095041Z
UID:3e11922a-59df-4507-b12a-a470ceb89e36
DTSTART;TZID=Etc/UTC:20260425T123000
DTEND;TZID=Etc/UTC:20260425T180000
SUMMARY:Clock Final
END:VEVENT
BEGIN:VEVENT
DTSTAMP:20260423T095041Z
UID:9d92b300-3877-4ba5-9590-0efbf4c29aee
DTSTART;TZID=Etc/UTC:20260425T123000
DTEND;TZID=Etc/UTC:20260425T125730
SUMMARY:Clock Final
END:VEVENT
BEGIN:VEVENT
DTSTAMP:20260423T095041Z
UID:cd19d169-6e61-4fc7-a28b-accd9b07830e
DTSTART;TZID=Etc/UTC:20260425T125730
DTEND;TZID=Etc/UTC:20260425T132500
SUMMARY:3x3x3 Cube Final
END:VEVENT
BEGIN:VEVENT
DTSTAMP:20260423T095041Z
UID:42cdefb8-3e90-425f-a8d5-7c95a2c82096
DTSTART;TZID=Etc/UTC:20260425T125730
DTEND;TZID=Etc/UTC:20260425T132500
SUMMARY:Clock Final
END:VEVENT
BEGIN:VEVENT
DTSTAMP:20260423T095041Z
UID:0c0ca82f-1fde-442b-a441-5fd8b6338d58
DTSTART;TZID=Etc/UTC:20260425T132500
DTEND;TZID=Etc/UTC:20260425T135230
SUMMARY:3x3x3 Cube Final
END:VEVENT
BEGIN:VEVENT
DTSTAMP:20260423T095041Z
UID:2816e629-a7c5-46b8-b24e-20d9a6d51d20
DTSTART;TZID=Etc/UTC:20260425T132500
DTEND;TZID=Etc/UTC:20260425T135230
SUMMARY:Clock Final
END:VEVENT
BEGIN:VEVENT
DTSTAMP:20260423T095041Z
UID:3138d1aa-e86c-4e03-8aa5-353df807ad25
DTSTART;TZID=Etc/UTC:20260425T135230
DTEND;TZID=Etc/UTC:20260425T142000
SUMMARY:3x3x3 Cube Final
END:VEVENT
BEGIN:VEVENT
DTSTAMP:20260423T095041Z
UID:806f3709-dacd-4b64-b6c3-59a3ff2ff24e
DTSTART;TZID=Etc/UTC:20260425T135230
DTEND;TZID=Etc/UTC:20260425T142000
SUMMARY:Clock Final
END:VEVENT
BEGIN:VEVENT
DTSTAMP:20260423T095041Z
UID:29a44e70-32f6-44f0-b21a-32ad9359a358
DTSTART;TZID=Etc/UTC:20260425T142000
DTEND;TZID=Etc/UTC:20260425T144730
SUMMARY:3x3x3 Cube Final
END:VEVENT
BEGIN:VEVENT
DTSTAMP:20260423T095041Z
UID:2fafc826-1faf-49f2-b99b-553901835674
DTSTART;TZID=Etc/UTC:20260425T142000
DTEND;TZID=Etc/UTC:20260425T144730
SUMMARY:Clock Final
END:VEVENT
BEGIN:VEVENT
DTSTAMP:20260423T095041Z
UID:48d88ea1-3759-4af9-96b1-0b790569a87a
DTSTART;TZID=Etc/UTC:20260425T144730
DTEND;TZID=Etc/UTC:20260425T151500
SUMMARY:3x3x3 Cube Final
END:VEVENT
BEGIN:VEVENT
DTSTAMP:20260423T095041Z
UID:855e1a36-551d-478f-806b-7777a24324ea
DTSTART;TZID=Etc/UTC:20260425T144730
DTEND;TZID=Etc/UTC:20260425T151500
SUMMARY:Clock Final
END:VEVENT
BEGIN:VEVENT
DTSTAMP:20260423T095041Z
UID:de6f7fb4-c20f-462f-b2a4-51f05316d0e5
DTSTART;TZID=Etc/UTC:20260425T151500
DTEND;TZID=Etc/UTC:20260425T154230
SUMMARY:3x3x3 Cube Final
END:VEVENT
BEGIN:VEVENT
DTSTAMP:20260423T095041Z
UID:9dc01be3-8c45-4e43-9d1e-fbb2d72c9f1f
DTSTART;TZID=Etc/UTC:20260425T151500
DTEND;TZID=Etc/UTC:20260425T154230
SUMMARY:Clock Final
END:VEVENT
BEGIN:VEVENT
DTSTAMP:20260423T095041Z
UID:2701802a-8e00-4262-9236-40ea838015e0
DTSTART;TZID=Etc/UTC:20260425T154230
DTEND;TZID=Etc/UTC:20260425T161000
SUMMARY:3x3x3 Cube Final
END:VEVENT
BEGIN:VEVENT
DTSTAMP:20260423T095041Z
UID:69f35008-0f79-4b56-83c6-d778405e18c1
DTSTART;TZID=Etc/UTC:20260425T154230
DTEND;TZID=Etc/UTC:20260425T161000
SUMMARY:Clock Final
END:VEVENT
BEGIN:VEVENT
DTSTAMP:20260423T095041Z
UID:e543741f-799d-4c75-9083-8b6bb34e623a
DTSTART;TZID=Etc/UTC:20260425T161000
DTEND;TZID=Etc/UTC:20260425T163730
SUMMARY:3x3x3 Cube Final
END:VEVENT
BEGIN:VEVENT
DTSTAMP:20260423T095041Z
UID:f7733b90-ab67-4ada-bae0-bb76bc62ae45
DTSTART;TZID=Etc/UTC:20260425T161000
DTEND;TZID=Etc/UTC:20260425T163730
SUMMARY:Clock Final
END:VEVENT
BEGIN:VEVENT
DTSTAMP:20260423T095041Z
UID:c22beb8e-4244-4677-9e6c-21d1362c9884
DTSTART;TZID=Etc/UTC:20260425T163730
DTEND;TZID=Etc/UTC:20260425T170500
SUMMARY:3x3x3 Cube Final
END:VEVENT
BEGIN:VEVENT
DTSTAMP:20260423T095041Z
UID:0058539a-fde8-4d54-81f6-795062cc4378
DTSTART;TZID=Etc/UTC:20260425T163730
DTEND;TZID=Etc/UTC:20260425T170500
SUMMARY:Clock Final
END:VEVENT
BEGIN:VEVENT
DTSTAMP:20260423T095041Z
UID:6d6d5145-704f-4e79-9e42-9a0de04a4291
DTSTART;TZID=Etc/UTC:20260425T170500
DTEND;TZID=Etc/UTC:20260425T173230
SUMMARY:3x3x3 Cube Final
END:VEVENT
BEGIN:VEVENT
DTSTAMP:20260423T095041Z
UID:84e2f850-3e40-40de-9782-1ee36b19f682
DTSTART;TZID=Etc/UTC:20260425T170500
DTEND;TZID=Etc/UTC:20260425T173230
SUMMARY:Clock Final
END:VEVENT
BEGIN:VEVENT
DTSTAMP:20260423T095041Z
UID:711e66a8-1afc-4397-8a94-3d1af018cd93
DTSTART;TZID=Etc/UTC:20260425T173230
DTEND;TZID=Etc/UTC:20260425T180000
SUMMARY:3x3x3 Cube Final
END:VEVENT
BEGIN:VEVENT
DTSTAMP:20260423T095041Z
UID:6ae35605-622e-44f0-994b-46babfa39bc5
DTSTART;TZID=Etc/UTC:20260425T173230
DTEND;TZID=Etc/UTC:20260425T180000
SUMMARY:Clock Final
END:VEVENT
END:VCALENDAR
