BEGIN:VCALENDAR
VERSION:2.0
PRODID:icalendar-ruby
CALSCALE:GREGORIAN
METHOD:PUBLISH
BEGIN:VEVENT
DTSTAMP:20260422T123512Z
UID:9e6864d0-a5e9-40a9-ade6-79aa246fb74b
DTSTART;TZID=Etc/UTC:20260418T061000
DTEND;TZID=Etc/UTC:20260418T064000
SUMMARY:Check-in
END:VEVENT
BEGIN:VEVENT
DTSTAMP:20260422T123512Z
UID:9d9cea3d-6ba8-4368-a498-89c0f52a26e9
DTSTART;TZID=Etc/UTC:20260418T062000
DTEND;TZID=Etc/UTC:20260418T063500
SUMMARY:Tutorial for new competitors
END:VEVENT
BEGIN:VEVENT
DTSTAMP:20260422T123512Z
UID:56e2ab4b-d252-489d-b5b0-1b538d06afc3
DTSTART;TZID=Etc/UTC:20260418T064000
DTEND;TZID=Etc/UTC:20260418T065000
SUMMARY:Opening
END:VEVENT
BEGIN:VEVENT
DTSTAMP:20260422T123512Z
UID:36cefde9-069a-4702-af89-66d0e0f5ef45
DTSTART;TZID=Etc/UTC:20260418T065000
DTEND;TZID=Etc/UTC:20260418T080500
SUMMARY:2x2x2 Cube First round
END:VEVENT
BEGIN:VEVENT
DTSTAMP:20260422T123512Z
UID:f07afd47-c7d2-46fd-8a4a-9085aaa4f556
DTSTART;TZID=Etc/UTC:20260418T065000
DTEND;TZID=Etc/UTC:20260418T070845
SUMMARY:2x2x2 Cube First round
END:VEVENT
BEGIN:VEVENT
DTSTAMP:20260422T123512Z
UID:b8cb4573-d8bb-4b8a-a704-4bdcda44f008
DTSTART;TZID=Etc/UTC:20260418T070845
DTEND;TZID=Etc/UTC:20260418T072730
SUMMARY:2x2x2 Cube First round
END:VEVENT
BEGIN:VEVENT
DTSTAMP:20260422T123512Z
UID:6a0693f1-2ab8-4302-880c-f50f55f0147f
DTSTART;TZID=Etc/UTC:20260418T072730
DTEND;TZID=Etc/UTC:20260418T074615
SUMMARY:2x2x2 Cube First round
END:VEVENT
BEGIN:VEVENT
DTSTAMP:20260422T123512Z
UID:4eadae70-01f5-449d-b01c-3492233614e6
DTSTART;TZID=Etc/UTC:20260418T074615
DTEND;TZID=Etc/UTC:20260418T080500
SUMMARY:2x2x2 Cube First round
END:VEVENT
BEGIN:VEVENT
DTSTAMP:20260422T123512Z
UID:0c7cf02e-f703-437d-8d01-5696340d76bf
DTSTART;TZID=Etc/UTC:20260418T080500
DTEND;TZID=Etc/UTC:20260418T092000
SUMMARY:Clock First round
END:VEVENT
BEGIN:VEVENT
DTSTAMP:20260422T123512Z
UID:bae76445-57a5-4022-9314-3ea186ea0a3b
DTSTART;TZID=Etc/UTC:20260418T080500
DTEND;TZID=Etc/UTC:20260418T082345
SUMMARY:Clock First round
END:VEVENT
BEGIN:VEVENT
DTSTAMP:20260422T123512Z
UID:fcc83df1-906a-4987-8bb7-e60381f208d8
DTSTART;TZID=Etc/UTC:20260418T082345
DTEND;TZID=Etc/UTC:20260418T084230
SUMMARY:Clock First round
END:VEVENT
BEGIN:VEVENT
DTSTAMP:20260422T123512Z
UID:a62cdb06-a080-4c7d-bb63-473a93da62e9
DTSTART;TZID=Etc/UTC:20260418T084230
DTEND;TZID=Etc/UTC:20260418T090115
SUMMARY:Clock First round
END:VEVENT
BEGIN:VEVENT
DTSTAMP:20260422T123512Z
UID:cdaf8c24-9195-42d8-8091-271dd4206b9f
DTSTART;TZID=Etc/UTC:20260418T090115
DTEND;TZID=Etc/UTC:20260418T092000
SUMMARY:Clock First round
END:VEVENT
BEGIN:VEVENT
DTSTAMP:20260422T123512Z
UID:f9e8157d-2391-41bc-a9b2-4c1a9b0d4e02
DTSTART;TZID=Etc/UTC:20260418T092000
DTEND;TZID=Etc/UTC:20260418T102000
SUMMARY:Square-1 First round
END:VEVENT
BEGIN:VEVENT
DTSTAMP:20260422T123512Z
UID:42a41b94-7ef4-4590-ab40-0d439bc22f59
DTSTART;TZID=Etc/UTC:20260418T092000
DTEND;TZID=Etc/UTC:20260418T095000
SUMMARY:Square-1 First round
END:VEVENT
BEGIN:VEVENT
DTSTAMP:20260422T123512Z
UID:33cc1261-48b4-40d9-857f-5f2aab2d01c5
DTSTART;TZID=Etc/UTC:20260418T095000
DTEND;TZID=Etc/UTC:20260418T102000
SUMMARY:Square-1 First round
END:VEVENT
BEGIN:VEVENT
DTSTAMP:20260422T123512Z
UID:85108507-1898-40b1-a81a-82db7b139f0b
DTSTART;TZID=Etc/UTC:20260418T102000
DTEND;TZID=Etc/UTC:20260418T103500
SUMMARY:Clock Final
END:VEVENT
BEGIN:VEVENT
DTSTAMP:20260422T123512Z
UID:48b3b507-316b-4336-98d4-e25ad85e6c3a
DTSTART;TZID=Etc/UTC:20260418T102000
DTEND;TZID=Etc/UTC:20260418T103500
SUMMARY:Clock Final
END:VEVENT
BEGIN:VEVENT
DTSTAMP:20260422T123512Z
UID:d5b9c1d2-ebc9-4aa3-bc58-03ceab244cfc
DTSTART;TZID=Etc/UTC:20260418T103500
DTEND;TZID=Etc/UTC:20260418T105500
SUMMARY:Square-1 Final
END:VEVENT
BEGIN:VEVENT
DTSTAMP:20260422T123512Z
UID:72b581bb-888d-4699-95c2-87b77f39a4a6
DTSTART;TZID=Etc/UTC:20260418T103500
DTEND;TZID=Etc/UTC:20260418T105500
SUMMARY:Square-1 Final
END:VEVENT
BEGIN:VEVENT
DTSTAMP:20260422T123512Z
UID:a4aa6236-c27f-45be-85a9-70d04ba6cdef
DTSTART;TZID=Etc/UTC:20260418T105500
DTEND;TZID=Etc/UTC:20260418T114500
SUMMARY:Lunch
END:VEVENT
BEGIN:VEVENT
DTSTAMP:20260422T123512Z
UID:793679f0-073d-4d77-aece-e65636b42e05
DTSTART;TZID=Etc/UTC:20260418T114500
DTEND;TZID=Etc/UTC:20260418T131000
SUMMARY:Megaminx First round
END:VEVENT
BEGIN:VEVENT
DTSTAMP:20260422T123512Z
UID:9c95a00c-e98d-4639-a98d-bee9a3b218e3
DTSTART;TZID=Etc/UTC:20260418T114500
DTEND;TZID=Etc/UTC:20260418T121320
SUMMARY:Megaminx First round
END:VEVENT
BEGIN:VEVENT
DTSTAMP:20260422T123512Z
UID:8b22b8a3-1c45-4eac-bde0-1e417a9c7bcb
DTSTART;TZID=Etc/UTC:20260418T121320
DTEND;TZID=Etc/UTC:20260418T124140
SUMMARY:Megaminx First round
END:VEVENT
BEGIN:VEVENT
DTSTAMP:20260422T123512Z
UID:3cf94818-93b3-44cd-a093-d8da5d4442a7
DTSTART;TZID=Etc/UTC:20260418T124140
DTEND;TZID=Etc/UTC:20260418T131000
SUMMARY:Megaminx First round
END:VEVENT
BEGIN:VEVENT
DTSTAMP:20260422T123512Z
UID:51bc87dc-8a78-4846-8c32-cb89a15c9ec6
DTSTART;TZID=Etc/UTC:20260418T131000
DTEND;TZID=Etc/UTC:20260418T140500
SUMMARY:3x3x3 Blindfolded First round
END:VEVENT
BEGIN:VEVENT
DTSTAMP:20260422T123512Z
UID:34000e99-8744-418d-a5ea-dd7e2a3a39bf
DTSTART;TZID=Etc/UTC:20260418T131000
DTEND;TZID=Etc/UTC:20260418T133730
SUMMARY:3x3x3 Blindfolded First round
END:VEVENT
BEGIN:VEVENT
DTSTAMP:20260422T123512Z
UID:dc4c7da6-7aae-49a2-8734-947f136bfc08
DTSTART;TZID=Etc/UTC:20260418T133730
DTEND;TZID=Etc/UTC:20260418T140500
SUMMARY:3x3x3 Blindfolded First round
END:VEVENT
BEGIN:VEVENT
DTSTAMP:20260422T123512Z
UID:5ff686aa-18cf-4f3a-9343-2551ec13a4d6
DTSTART;TZID=Etc/UTC:20260418T140500
DTEND;TZID=Etc/UTC:20260418T150000
SUMMARY:2x2x2 Cube Second round
END:VEVENT
BEGIN:VEVENT
DTSTAMP:20260422T123512Z
UID:285f5050-beca-4f1e-bbdf-0ef1a0528500
DTSTART;TZID=Etc/UTC:20260418T140500
DTEND;TZID=Etc/UTC:20260418T142320
SUMMARY:2x2x2 Cube Second round
END:VEVENT
BEGIN:VEVENT
DTSTAMP:20260422T123512Z
UID:41f5535d-a6fa-40e0-a847-60b3863a707e
DTSTART;TZID=Etc/UTC:20260418T142320
DTEND;TZID=Etc/UTC:20260418T144140
SUMMARY:2x2x2 Cube Second round
END:VEVENT
BEGIN:VEVENT
DTSTAMP:20260422T123512Z
UID:92921b74-19d4-4819-bd57-85928368f8e0
DTSTART;TZID=Etc/UTC:20260418T144140
DTEND;TZID=Etc/UTC:20260418T150000
SUMMARY:2x2x2 Cube Second round
END:VEVENT
BEGIN:VEVENT
DTSTAMP:20260422T123512Z
UID:3297dc27-6d72-4cec-8562-00b0d437cd81
DTSTART;TZID=Etc/UTC:20260418T150000
DTEND;TZID=Etc/UTC:20260418T152000
SUMMARY:3x3x3 Blindfolded Final
END:VEVENT
BEGIN:VEVENT
DTSTAMP:20260422T123512Z
UID:2b6d960c-e9ad-437b-8e7f-49ef751d9e2a
DTSTART;TZID=Etc/UTC:20260418T150000
DTEND;TZID=Etc/UTC:20260418T152000
SUMMARY:3x3x3 Blindfolded Final
END:VEVENT
BEGIN:VEVENT
DTSTAMP:20260422T123512Z
UID:d38c8928-1b0f-4db6-afd0-09cdc4b8d1b1
DTSTART;TZID=Etc/UTC:20260418T152000
DTEND;TZID=Etc/UTC:20260418T153500
SUMMARY:2x2x2 Cube Final
END:VEVENT
BEGIN:VEVENT
DTSTAMP:20260422T123512Z
UID:1d690294-636c-4f14-b2c9-2b2ca5287f66
DTSTART;TZID=Etc/UTC:20260418T152000
DTEND;TZID=Etc/UTC:20260418T153500
SUMMARY:2x2x2 Cube Final
END:VEVENT
BEGIN:VEVENT
DTSTAMP:20260422T123512Z
UID:1d92404d-42aa-4e38-8549-392d37521ec0
DTSTART;TZID=Etc/UTC:20260418T153500
DTEND;TZID=Etc/UTC:20260418T155500
SUMMARY:Megaminx Final
END:VEVENT
BEGIN:VEVENT
DTSTAMP:20260422T123512Z
UID:cf685492-b2af-4dd8-8803-ed5398a44c0c
DTSTART;TZID=Etc/UTC:20260418T153500
DTEND;TZID=Etc/UTC:20260418T155500
SUMMARY:Megaminx Final
END:VEVENT
BEGIN:VEVENT
DTSTAMP:20260422T123512Z
UID:cb7ea3a0-f79c-4e56-95d4-d4d284558fdc
DTSTART;TZID=Etc/UTC:20260418T155500
DTEND;TZID=Etc/UTC:20260418T170000
SUMMARY:Skewb First round
END:VEVENT
BEGIN:VEVENT
DTSTAMP:20260422T123512Z
UID:6d56cf37-5668-4c0a-b5fd-427564c985ad
DTSTART;TZID=Etc/UTC:20260418T155500
DTEND;TZID=Etc/UTC:20260418T161640
SUMMARY:Skewb First round
END:VEVENT
BEGIN:VEVENT
DTSTAMP:20260422T123512Z
UID:43113275-9582-42bd-ad66-f6ef3a0fcc44
DTSTART;TZID=Etc/UTC:20260418T161640
DTEND;TZID=Etc/UTC:20260418T163820
SUMMARY:Skewb First round
END:VEVENT
BEGIN:VEVENT
DTSTAMP:20260422T123512Z
UID:05e1a810-9393-4572-bf4e-92d19fd3a5f0
DTSTART;TZID=Etc/UTC:20260418T163820
DTEND;TZID=Etc/UTC:20260418T170000
SUMMARY:Skewb First round
END:VEVENT
BEGIN:VEVENT
DTSTAMP:20260422T123512Z
UID:58ef5dca-7d60-486a-bcad-ec0b2a31f922
DTSTART;TZID=Etc/UTC:20260419T064500
DTEND;TZID=Etc/UTC:20260419T071000
SUMMARY:Check-in
END:VEVENT
BEGIN:VEVENT
DTSTAMP:20260422T123512Z
UID:44e7863e-b7e6-4962-81e6-7402fd85dc4d
DTSTART;TZID=Etc/UTC:20260419T071000
DTEND;TZID=Etc/UTC:20260419T082500
SUMMARY:4x4x4 Cube First round
END:VEVENT
BEGIN:VEVENT
DTSTAMP:20260422T123512Z
UID:3ac34f10-467c-450b-847f-1d20a71f523c
DTSTART;TZID=Etc/UTC:20260419T071000
DTEND;TZID=Etc/UTC:20260419T072845
SUMMARY:4x4x4 Cube First round
END:VEVENT
BEGIN:VEVENT
DTSTAMP:20260422T123512Z
UID:86c31d53-7742-4f2b-842f-608f59f9f015
DTSTART;TZID=Etc/UTC:20260419T072845
DTEND;TZID=Etc/UTC:20260419T074730
SUMMARY:4x4x4 Cube First round
END:VEVENT
BEGIN:VEVENT
DTSTAMP:20260422T123512Z
UID:e526dd2e-b319-4867-b3c8-9ce727cd9e63
DTSTART;TZID=Etc/UTC:20260419T074730
DTEND;TZID=Etc/UTC:20260419T080615
SUMMARY:4x4x4 Cube First round
END:VEVENT
BEGIN:VEVENT
DTSTAMP:20260422T123512Z
UID:1ad6f3d3-eece-4e01-a249-f12da860aa96
DTSTART;TZID=Etc/UTC:20260419T080615
DTEND;TZID=Etc/UTC:20260419T082500
SUMMARY:4x4x4 Cube First round
END:VEVENT
BEGIN:VEVENT
DTSTAMP:20260422T123512Z
UID:f3ce36b3-568a-4895-a12e-850e9ec606a3
DTSTART;TZID=Etc/UTC:20260419T082500
DTEND;TZID=Etc/UTC:20260419T095500
SUMMARY:3x3x3 Cube First round
END:VEVENT
BEGIN:VEVENT
DTSTAMP:20260422T123512Z
UID:22efed27-71b9-4811-89ee-b4f37a0a1e7f
DTSTART;TZID=Etc/UTC:20260419T082500
DTEND;TZID=Etc/UTC:20260419T084300
SUMMARY:3x3x3 Cube First round
END:VEVENT
BEGIN:VEVENT
DTSTAMP:20260422T123512Z
UID:b8f5855e-1936-4952-b062-700796a39fcb
DTSTART;TZID=Etc/UTC:20260419T084300
DTEND;TZID=Etc/UTC:20260419T090100
SUMMARY:3x3x3 Cube First round
END:VEVENT
BEGIN:VEVENT
DTSTAMP:20260422T123512Z
UID:bcc17800-1c51-4915-a414-e8e4979b2025
DTSTART;TZID=Etc/UTC:20260419T090100
DTEND;TZID=Etc/UTC:20260419T091900
SUMMARY:3x3x3 Cube First round
END:VEVENT
BEGIN:VEVENT
DTSTAMP:20260422T123512Z
UID:244c8493-3a63-4f42-8077-e00d891d46b6
DTSTART;TZID=Etc/UTC:20260419T091900
DTEND;TZID=Etc/UTC:20260419T093700
SUMMARY:3x3x3 Cube First round
END:VEVENT
BEGIN:VEVENT
DTSTAMP:20260422T123512Z
UID:e541367d-288d-45ec-aea9-d0ab1299420f
DTSTART;TZID=Etc/UTC:20260419T093700
DTEND;TZID=Etc/UTC:20260419T095500
SUMMARY:3x3x3 Cube First round
END:VEVENT
BEGIN:VEVENT
DTSTAMP:20260422T123512Z
UID:b9c5609a-36fd-4c40-be61-228685d95097
DTSTART;TZID=Etc/UTC:20260419T095500
DTEND;TZID=Etc/UTC:20260419T101000
SUMMARY:Newcomers awards + GROUP PHOTO
END:VEVENT
BEGIN:VEVENT
DTSTAMP:20260422T123512Z
UID:d2b5ecd8-bfe4-465c-9c0f-480c288a4733
DTSTART;TZID=Etc/UTC:20260419T101000
DTEND;TZID=Etc/UTC:20260419T102500
SUMMARY:Skewb Final
END:VEVENT
BEGIN:VEVENT
DTSTAMP:20260422T123512Z
UID:6e53c7cb-25d6-489d-a930-25a7a259a683
DTSTART;TZID=Etc/UTC:20260419T101000
DTEND;TZID=Etc/UTC:20260419T102500
SUMMARY:Skewb Final
END:VEVENT
BEGIN:VEVENT
DTSTAMP:20260422T123512Z
UID:eef89583-8848-4514-a8b0-0f4850369a0c
DTSTART;TZID=Etc/UTC:20260419T102500
DTEND;TZID=Etc/UTC:20260419T104500
SUMMARY:4x4x4 Cube Final
END:VEVENT
BEGIN:VEVENT
DTSTAMP:20260422T123512Z
UID:a659aea9-f57c-4b97-af23-de5e11de45a9
DTSTART;TZID=Etc/UTC:20260419T102500
DTEND;TZID=Etc/UTC:20260419T104500
SUMMARY:4x4x4 Cube Final
END:VEVENT
BEGIN:VEVENT
DTSTAMP:20260422T123512Z
UID:7b54279e-6ab7-4002-87df-31c56bc8d1f2
DTSTART;TZID=Etc/UTC:20260419T104500
DTEND;TZID=Etc/UTC:20260419T113500
SUMMARY:Lunch
END:VEVENT
BEGIN:VEVENT
DTSTAMP:20260422T123512Z
UID:4db69792-707e-4a7c-873d-53dcfab854b9
DTSTART;TZID=Etc/UTC:20260419T113500
DTEND;TZID=Etc/UTC:20260419T125000
SUMMARY:Pyraminx First round
END:VEVENT
BEGIN:VEVENT
DTSTAMP:20260422T123512Z
UID:76074381-d57f-4959-94be-cc61996a4801
DTSTART;TZID=Etc/UTC:20260419T113500
DTEND;TZID=Etc/UTC:20260419T115345
SUMMARY:Pyraminx First round
END:VEVENT
BEGIN:VEVENT
DTSTAMP:20260422T123512Z
UID:fac13dd0-d9b9-4bbe-b105-753c3d22579a
DTSTART;TZID=Etc/UTC:20260419T115345
DTEND;TZID=Etc/UTC:20260419T121230
SUMMARY:Pyraminx First round
END:VEVENT
BEGIN:VEVENT
DTSTAMP:20260422T123512Z
UID:89f8bd26-9eef-4acc-b41b-54d96efe8d3e
DTSTART;TZID=Etc/UTC:20260419T121230
DTEND;TZID=Etc/UTC:20260419T123115
SUMMARY:Pyraminx First round
END:VEVENT
BEGIN:VEVENT
DTSTAMP:20260422T123512Z
UID:34e467f5-9cfa-4f05-829d-c540908024b3
DTSTART;TZID=Etc/UTC:20260419T123115
DTEND;TZID=Etc/UTC:20260419T125000
SUMMARY:Pyraminx First round
END:VEVENT
BEGIN:VEVENT
DTSTAMP:20260422T123512Z
UID:1ac33358-898c-4cd7-b522-33688c293adc
DTSTART;TZID=Etc/UTC:20260419T125000
DTEND;TZID=Etc/UTC:20260419T140000
SUMMARY:3x3x3 Cube Second round
END:VEVENT
BEGIN:VEVENT
DTSTAMP:20260422T123512Z
UID:bda642ae-83fb-4e8b-8d11-e85cd5fc889f
DTSTART;TZID=Etc/UTC:20260419T125000
DTEND;TZID=Etc/UTC:20260419T131320
SUMMARY:3x3x3 Cube Second round
END:VEVENT
BEGIN:VEVENT
DTSTAMP:20260422T123512Z
UID:7da7918d-308b-4b4a-8405-14253bdd5e2d
DTSTART;TZID=Etc/UTC:20260419T131320
DTEND;TZID=Etc/UTC:20260419T133640
SUMMARY:3x3x3 Cube Second round
END:VEVENT
BEGIN:VEVENT
DTSTAMP:20260422T123512Z
UID:11cd1044-2604-4821-bf08-f43488930b88
DTSTART;TZID=Etc/UTC:20260419T133640
DTEND;TZID=Etc/UTC:20260419T140000
SUMMARY:3x3x3 Cube Second round
END:VEVENT
BEGIN:VEVENT
DTSTAMP:20260422T123512Z
UID:ee270a5d-6005-4ca9-bf6b-c50054ddbb94
DTSTART;TZID=Etc/UTC:20260419T140000
DTEND;TZID=Etc/UTC:20260419T141500
SUMMARY:Pyraminx Final
END:VEVENT
BEGIN:VEVENT
DTSTAMP:20260422T123512Z
UID:83c87a6c-fbca-4678-bb6b-69aea05472c7
DTSTART;TZID=Etc/UTC:20260419T140000
DTEND;TZID=Etc/UTC:20260419T141500
SUMMARY:Pyraminx Final
END:VEVENT
BEGIN:VEVENT
DTSTAMP:20260422T123512Z
UID:f3f5d75b-d3ae-4eff-a25c-88b220fa1a76
DTSTART;TZID=Etc/UTC:20260419T141500
DTEND;TZID=Etc/UTC:20260419T150000
SUMMARY:3x3x3 Cube Final
END:VEVENT
BEGIN:VEVENT
DTSTAMP:20260422T123512Z
UID:d237a4a1-ace4-47bd-89d1-39d613b4b1d5
DTSTART;TZID=Etc/UTC:20260419T141500
DTEND;TZID=Etc/UTC:20260419T143730
SUMMARY:3x3x3 Cube Final
END:VEVENT
BEGIN:VEVENT
DTSTAMP:20260422T123512Z
UID:20fb8636-624c-4133-8f93-5184dc1423c3
DTSTART;TZID=Etc/UTC:20260419T143730
DTEND;TZID=Etc/UTC:20260419T150000
SUMMARY:3x3x3 Cube Final
END:VEVENT
BEGIN:VEVENT
DTSTAMP:20260422T123512Z
UID:dba98630-5516-4b19-8dc3-ec2f0e1ca6bf
DTSTART;TZID=Etc/UTC:20260419T151500
DTEND;TZID=Etc/UTC:20260419T153000
SUMMARY:Awards
END:VEVENT
END:VCALENDAR
