BEGIN:VCALENDAR
VERSION:2.0
PRODID:icalendar-ruby
CALSCALE:GREGORIAN
METHOD:PUBLISH
BEGIN:VEVENT
DTSTAMP:20260423T095114Z
UID:eb0fc37e-d75f-46a8-8ca1-3aab9247bd9c
DTSTART;TZID=Etc/UTC:20260509T063000
DTEND;TZID=Etc/UTC:20260509T070000
SUMMARY:Registro in situ
END:VEVENT
BEGIN:VEVENT
DTSTAMP:20260423T095114Z
UID:b83b1b75-2b06-455b-bc18-9eaaa081f315
DTSTART;TZID=Etc/UTC:20260509T070000
DTEND;TZID=Etc/UTC:20260509T081500
SUMMARY:2x2x2 Cube First round
END:VEVENT
BEGIN:VEVENT
DTSTAMP:20260423T095114Z
UID:c98faef1-f91b-4f34-94ce-09b4fbff4db8
DTSTART;TZID=Etc/UTC:20260509T081500
DTEND;TZID=Etc/UTC:20260509T093000
SUMMARY:4x4x4 Cube First round
END:VEVENT
BEGIN:VEVENT
DTSTAMP:20260423T095114Z
UID:97177f74-c373-4735-abbd-abc482528266
DTSTART;TZID=Etc/UTC:20260509T093000
DTEND;TZID=Etc/UTC:20260509T103000
SUMMARY:Megaminx First round
END:VEVENT
BEGIN:VEVENT
DTSTAMP:20260423T095114Z
UID:b9b5f1b5-924e-4282-8180-229fb5ef88d9
DTSTART;TZID=Etc/UTC:20260509T103000
DTEND;TZID=Etc/UTC:20260509T114500
SUMMARY:3x3x3 Cube First round
END:VEVENT
BEGIN:VEVENT
DTSTAMP:20260423T095114Z
UID:e67574c6-d60d-4ddd-9aef-f729a0678f7b
DTSTART;TZID=Etc/UTC:20260509T114500
DTEND;TZID=Etc/UTC:20260509T133000
SUMMARY:Comida
END:VEVENT
BEGIN:VEVENT
DTSTAMP:20260423T095114Z
UID:2a6dd3e4-ea46-4591-ad18-013edc9e066e
DTSTART;TZID=Etc/UTC:20260509T133000
DTEND;TZID=Etc/UTC:20260509T143000
SUMMARY:Skewb First round
END:VEVENT
BEGIN:VEVENT
DTSTAMP:20260423T095114Z
UID:57f16ee2-2b13-4e2f-a5fb-a5bb259d44bb
DTSTART;TZID=Etc/UTC:20260509T143000
DTEND;TZID=Etc/UTC:20260509T151500
SUMMARY:3x3x3 Blindfolded First round
END:VEVENT
BEGIN:VEVENT
DTSTAMP:20260423T095114Z
UID:af812b0b-1468-410a-b5c0-83f085be1926
DTSTART;TZID=Etc/UTC:20260509T151500
DTEND;TZID=Etc/UTC:20260509T163000
SUMMARY:5x5x5 Cube First round
END:VEVENT
BEGIN:VEVENT
DTSTAMP:20260423T095114Z
UID:8b933c90-3f37-4a23-b643-dd8bf4ed56e8
DTSTART;TZID=Etc/UTC:20260509T163000
DTEND;TZID=Etc/UTC:20260509T173000
SUMMARY:Pyraminx First round
END:VEVENT
BEGIN:VEVENT
DTSTAMP:20260423T095114Z
UID:c8b575eb-fcb9-46e2-be86-9e80c8a2401c
DTSTART;TZID=Etc/UTC:20260510T070000
DTEND;TZID=Etc/UTC:20260510T081500
SUMMARY:3x3x3 Cube Second round
END:VEVENT
BEGIN:VEVENT
DTSTAMP:20260423T095114Z
UID:43fe9445-bf6d-48a1-bc0e-5323ef4384df
DTSTART;TZID=Etc/UTC:20260510T081500
DTEND;TZID=Etc/UTC:20260510T083500
SUMMARY:Skewb Final
END:VEVENT
BEGIN:VEVENT
DTSTAMP:20260423T095114Z
UID:b29ec5b2-e8aa-4fe6-951b-479dc1806d85
DTSTART;TZID=Etc/UTC:20260510T083500
DTEND;TZID=Etc/UTC:20260510T085500
SUMMARY:Pyraminx Final
END:VEVENT
BEGIN:VEVENT
DTSTAMP:20260423T095114Z
UID:42834ce0-d711-4de2-80ea-4249e42cf867
DTSTART;TZID=Etc/UTC:20260510T085500
DTEND;TZID=Etc/UTC:20260510T091500
SUMMARY:3x3x3 Blindfolded Final
END:VEVENT
BEGIN:VEVENT
DTSTAMP:20260423T095114Z
UID:f6702fa0-9cd5-488b-b524-ce2541876ec9
DTSTART;TZID=Etc/UTC:20260510T091500
DTEND;TZID=Etc/UTC:20260510T094500
SUMMARY:Megaminx Final
END:VEVENT
BEGIN:VEVENT
DTSTAMP:20260423T095114Z
UID:248e71ad-bd0a-4b87-a6bf-9da08392588b
DTSTART;TZID=Etc/UTC:20260510T094500
DTEND;TZID=Etc/UTC:20260510T101500
SUMMARY:4x4x4 Cube Final
END:VEVENT
BEGIN:VEVENT
DTSTAMP:20260423T095114Z
UID:65d5192e-bd5c-4dcd-8df7-71ccc7cc0ce9
DTSTART;TZID=Etc/UTC:20260510T101500
DTEND;TZID=Etc/UTC:20260510T104500
SUMMARY:5x5x5 Cube Final
END:VEVENT
BEGIN:VEVENT
DTSTAMP:20260423T095114Z
UID:738e005f-070d-438b-af4f-a33ad39493e8
DTSTART;TZID=Etc/UTC:20260510T104500
DTEND;TZID=Etc/UTC:20260510T110500
SUMMARY:2x2x2 Cube Final
END:VEVENT
BEGIN:VEVENT
DTSTAMP:20260423T095114Z
UID:151af73f-d040-4503-9d07-6bee3425256d
DTSTART;TZID=Etc/UTC:20260510T110500
DTEND;TZID=Etc/UTC:20260510T112500
SUMMARY:3x3x3 Cube Final
END:VEVENT
BEGIN:VEVENT
DTSTAMP:20260423T095114Z
UID:94cadd0d-e2f8-4d4d-9d86-7632f8a3b2df
DTSTART;TZID=Etc/UTC:20260510T112500
DTEND;TZID=Etc/UTC:20260510T114500
SUMMARY:Desmontaje
END:VEVENT
BEGIN:VEVENT
DTSTAMP:20260423T095114Z
UID:37c2835b-576f-4775-9cca-79d7e2669642
DTSTART;TZID=Etc/UTC:20260510T114500
DTEND;TZID=Etc/UTC:20260510T121500
SUMMARY:Entrega de premios
END:VEVENT
END:VCALENDAR
