BEGIN:VCALENDAR
VERSION:2.0
PRODID:icalendar-ruby
CALSCALE:GREGORIAN
METHOD:PUBLISH
BEGIN:VEVENT
DTSTAMP:20260423T095042Z
UID:15853347-d9ad-4ccb-a85a-442d4060d9d8
DTSTART;TZID=Etc/UTC:20260529T233000
DTEND;TZID=Etc/UTC:20260530T000000
SUMMARY:Check-in
END:VEVENT
BEGIN:VEVENT
DTSTAMP:20260423T095042Z
UID:2b2d388e-322e-4676-bf8e-4847b61a0cfd
DTSTART;TZID=Etc/UTC:20260530T000000
DTEND;TZID=Etc/UTC:20260530T030500
SUMMARY:5x5x5 Cube First round
END:VEVENT
BEGIN:VEVENT
DTSTAMP:20260423T095042Z
UID:e1fe4b90-51fc-4516-9e68-2e501dfa45f4
DTSTART;TZID=Etc/UTC:20260530T002500
DTEND;TZID=Etc/UTC:20260530T033000
SUMMARY:5x5x5 Cube Second round
END:VEVENT
BEGIN:VEVENT
DTSTAMP:20260423T095042Z
UID:83878af3-54f3-4a98-b048-23cb6af9677c
DTSTART;TZID=Etc/UTC:20260530T033000
DTEND;TZID=Etc/UTC:20260530T043000
SUMMARY:Lunch
END:VEVENT
BEGIN:VEVENT
DTSTAMP:20260423T095042Z
UID:936f518e-e7c9-4a7b-a707-f54435454ca0
DTSTART;TZID=Etc/UTC:20260530T043000
DTEND;TZID=Etc/UTC:20260530T054500
SUMMARY:4x4x4 Cube First round
END:VEVENT
BEGIN:VEVENT
DTSTAMP:20260423T095042Z
UID:451e46eb-7dd5-4b13-88d1-ac1e212ec376
DTSTART;TZID=Etc/UTC:20260530T054500
DTEND;TZID=Etc/UTC:20260530T073500
SUMMARY:Clock First round
END:VEVENT
BEGIN:VEVENT
DTSTAMP:20260423T095042Z
UID:682a239a-68b1-447d-8363-32bc5cba8cc1
DTSTART;TZID=Etc/UTC:20260530T060500
DTEND;TZID=Etc/UTC:20260530T075500
SUMMARY:Clock Second round
END:VEVENT
BEGIN:VEVENT
DTSTAMP:20260423T095042Z
UID:ca97c12a-4e81-4849-aa7d-77c0b446a9d0
DTSTART;TZID=Etc/UTC:20260530T230000
DTEND;TZID=Etc/UTC:20260531T020500
SUMMARY:7x7x7 Cube First round
END:VEVENT
BEGIN:VEVENT
DTSTAMP:20260423T095042Z
UID:64189998-adc8-4fdd-8c8c-ad59b04c6234
DTSTART;TZID=Etc/UTC:20260530T232500
DTEND;TZID=Etc/UTC:20260531T023000
SUMMARY:7x7x7 Cube Second round
END:VEVENT
BEGIN:VEVENT
DTSTAMP:20260423T095042Z
UID:04c65d22-6708-4c2d-b11f-732fbe7baeb4
DTSTART;TZID=Etc/UTC:20260531T023000
DTEND;TZID=Etc/UTC:20260531T033000
SUMMARY:Lunch
END:VEVENT
BEGIN:VEVENT
DTSTAMP:20260423T095042Z
UID:5c8ea4b1-d276-4700-8b38-46e42b7d7ce6
DTSTART;TZID=Etc/UTC:20260531T033000
DTEND;TZID=Etc/UTC:20260531T054000
SUMMARY:6x6x6 Cube First round
END:VEVENT
BEGIN:VEVENT
DTSTAMP:20260423T095042Z
UID:e88ea861-3c2a-4f0d-9922-87627c63ac3a
DTSTART;TZID=Etc/UTC:20260531T035000
DTEND;TZID=Etc/UTC:20260531T060000
SUMMARY:6x6x6 Cube Second round
END:VEVENT
BEGIN:VEVENT
DTSTAMP:20260423T095042Z
UID:cd26e973-004b-4838-bccd-5b7169480c11
DTSTART;TZID=Etc/UTC:20260531T060000
DTEND;TZID=Etc/UTC:20260531T062000
SUMMARY:4x4x4 Cube Final
END:VEVENT
BEGIN:VEVENT
DTSTAMP:20260423T095042Z
UID:48719c90-1c04-4aac-be0f-9facfe4f6611
DTSTART;TZID=Etc/UTC:20260531T062000
DTEND;TZID=Etc/UTC:20260531T064000
SUMMARY:Clock Final
END:VEVENT
BEGIN:VEVENT
DTSTAMP:20260423T095042Z
UID:096284cd-839a-478c-bacc-ce5ed395008f
DTSTART;TZID=Etc/UTC:20260531T064000
DTEND;TZID=Etc/UTC:20260531T070500
SUMMARY:7x7x7 Cube Final
END:VEVENT
BEGIN:VEVENT
DTSTAMP:20260423T095042Z
UID:81612408-506b-4574-84c4-219bf3ffa8ba
DTSTART;TZID=Etc/UTC:20260531T070500
DTEND;TZID=Etc/UTC:20260531T072500
SUMMARY:6x6x6 Cube Final
END:VEVENT
BEGIN:VEVENT
DTSTAMP:20260423T095042Z
UID:f4351dfd-54c2-4980-97c0-81e365ab0392
DTSTART;TZID=Etc/UTC:20260531T072500
DTEND;TZID=Etc/UTC:20260531T075000
SUMMARY:5x5x5 Cube Final
END:VEVENT
BEGIN:VEVENT
DTSTAMP:20260423T095042Z
UID:1196a279-c3f7-4bf4-b46a-859679d40c02
DTSTART;TZID=Etc/UTC:20260531T075000
DTEND;TZID=Etc/UTC:20260531T081000
SUMMARY:Awards
END:VEVENT
END:VCALENDAR
