BEGIN:VCALENDAR
VERSION:2.0
PRODID:icalendar-ruby
CALSCALE:GREGORIAN
METHOD:PUBLISH
BEGIN:VEVENT
DTSTAMP:20260423T113422Z
UID:bc2f1f14-7c3b-4d85-aa78-22afb406e172
DTSTART;TZID=Etc/UTC:20260801T154000
DTEND;TZID=Etc/UTC:20260801T160000
SUMMARY:Check-in
END:VEVENT
BEGIN:VEVENT
DTSTAMP:20260423T113422Z
UID:73487d81-33f1-48d8-8df0-bcc12232c2a6
DTSTART;TZID=Etc/UTC:20260801T160000
DTEND;TZID=Etc/UTC:20260801T173000
SUMMARY:4x4x4 Blindfolded Final
END:VEVENT
BEGIN:VEVENT
DTSTAMP:20260423T113422Z
UID:f883558d-0af0-43d9-bb4e-b3fa72eaaa5f
DTSTART;TZID=Etc/UTC:20260801T160000
DTEND;TZID=Etc/UTC:20260801T173000
SUMMARY:5x5x5 Blindfolded Final
END:VEVENT
BEGIN:VEVENT
DTSTAMP:20260423T113422Z
UID:78d8759a-ad45-4cbf-9428-69592e4bf63e
DTSTART;TZID=Etc/UTC:20260801T174000
DTEND;TZID=Etc/UTC:20260801T184000
SUMMARY:3x3x3 Fewest Moves Final (Attempt 1)
END:VEVENT
BEGIN:VEVENT
DTSTAMP:20260423T113422Z
UID:053db593-0113-4142-a94a-d812da48f131
DTSTART;TZID=Etc/UTC:20260801T184000
DTEND;TZID=Etc/UTC:20260801T193000
SUMMARY:Lunch
END:VEVENT
BEGIN:VEVENT
DTSTAMP:20260423T113422Z
UID:a75f41ea-7949-41f9-880a-ba42889455ff
DTSTART;TZID=Etc/UTC:20260801T193000
DTEND;TZID=Etc/UTC:20260801T203000
SUMMARY:3x3x3 Fewest Moves Final (Attempt 2)
END:VEVENT
BEGIN:VEVENT
DTSTAMP:20260423T113422Z
UID:e8313ae1-1dab-47f4-a12b-c78899c724ff
DTSTART;TZID=Etc/UTC:20260801T205000
DTEND;TZID=Etc/UTC:20260801T215000
SUMMARY:3x3x3 Fewest Moves Final (Attempt 3)
END:VEVENT
BEGIN:VEVENT
DTSTAMP:20260423T113422Z
UID:d2d3afe0-d564-46f1-b407-3985823bd458
DTSTART;TZID=Etc/UTC:20260801T215000
DTEND;TZID=Etc/UTC:20260801T232000
SUMMARY:3x3x3 Multi-Blind Final (Attempt 1)
END:VEVENT
BEGIN:VEVENT
DTSTAMP:20260423T113422Z
UID:213b82d1-fa06-430b-a03a-e3aa6a8150f7
DTSTART;TZID=Etc/UTC:20260801T232000
DTEND;TZID=Etc/UTC:20260801T234000
SUMMARY:Cleanup
END:VEVENT
END:VCALENDAR
